BEGIN:VCALENDAR
VERSION:2.0
PRODID:-//The Diplomatic Network - ECPv6.15.20//NONSGML v1.0//EN
CALSCALE:GREGORIAN
METHOD:PUBLISH
X-WR-CALNAME:The Diplomatic Network
X-ORIGINAL-URL:https://thediplomaticnetwork.com
X-WR-CALDESC:Events for The Diplomatic Network
REFRESH-INTERVAL;VALUE=DURATION:PT1H
X-Robots-Tag:noindex
X-PUBLISHED-TTL:PT1H
BEGIN:VTIMEZONE
TZID:Asia/Singapore
BEGIN:STANDARD
TZOFFSETFROM:+0800
TZOFFSETTO:+0800
TZNAME:+08
DTSTART:20230101T000000
END:STANDARD
END:VTIMEZONE
BEGIN:VTIMEZONE
TZID:Asia/Shanghai
BEGIN:STANDARD
TZOFFSETFROM:+0800
TZOFFSETTO:+0800
TZNAME:CST
DTSTART:20220101T000000
END:STANDARD
END:VTIMEZONE
BEGIN:VEVENT
DTSTART;VALUE=DATE:20240517
DTEND;VALUE=DATE:20240518
DTSTAMP:20260423T223747
CREATED:20240215T184711Z
LAST-MODIFIED:20240215T184711Z
UID:2959-1715904000-1715990399@thediplomaticnetwork.com
SUMMARY:National Day: Kingdom of Norway\, 2024
DESCRIPTION:
URL:https://thediplomaticnetwork.com/event/national-day-kingdom-of-norway-2024/
CATEGORIES:National Days
ATTACH;FMTTYPE=image/svg+xml:https://thediplomaticnetwork.com/wp-content/uploads/2023/03/Kingdom-of-Norway-National-Flag.svg
END:VEVENT
BEGIN:VEVENT
DTSTART;VALUE=DATE:20240514
DTEND;VALUE=DATE:20240515
DTSTAMP:20260423T223747
CREATED:20240215T184652Z
LAST-MODIFIED:20240215T184652Z
UID:2958-1715644800-1715731199@thediplomaticnetwork.com
SUMMARY:National Day: State of Israel\, 2024
DESCRIPTION:
URL:https://thediplomaticnetwork.com/event/national-day-state-of-israel-2024/
CATEGORIES:National Days
ATTACH;FMTTYPE=image/svg+xml:https://thediplomaticnetwork.com/wp-content/uploads/2023/03/State-of-Israel-National-Flag.svg
END:VEVENT
BEGIN:VEVENT
DTSTART;VALUE=DATE:20240503
DTEND;VALUE=DATE:20240504
DTSTAMP:20260423T223747
CREATED:20240215T184651Z
LAST-MODIFIED:20240215T184651Z
UID:2957-1714694400-1714780799@thediplomaticnetwork.com
SUMMARY:National Day: Republic of Poland\, 2024
DESCRIPTION:
URL:https://thediplomaticnetwork.com/event/national-day-republic-of-poland-2024/
CATEGORIES:National Days
ATTACH;FMTTYPE=image/svg+xml:https://thediplomaticnetwork.com/wp-content/uploads/2023/03/Republic-of-Poland-National-Flag.svg
END:VEVENT
BEGIN:VEVENT
DTSTART;VALUE=DATE:20240427
DTEND;VALUE=DATE:20240428
DTSTAMP:20260423T223747
CREATED:20240215T184650Z
LAST-MODIFIED:20240215T184650Z
UID:2956-1714176000-1714262399@thediplomaticnetwork.com
SUMMARY:National Day: Republic of South Africa\, 2024
DESCRIPTION:
URL:https://thediplomaticnetwork.com/event/national-day-republic-of-south-africa-2024/
CATEGORIES:National Days
ATTACH;FMTTYPE=image/svg+xml:https://thediplomaticnetwork.com/wp-content/uploads/2023/03/Republic-of-South-Africa-National-Flag.svg
END:VEVENT
BEGIN:VEVENT
DTSTART;VALUE=DATE:20240427
DTEND;VALUE=DATE:20240428
DTSTAMP:20260423T223747
CREATED:20240215T184649Z
LAST-MODIFIED:20240215T184649Z
UID:2955-1714176000-1714262399@thediplomaticnetwork.com
SUMMARY:National Day: Kingdom of the Netherlands\, 2024
DESCRIPTION:
URL:https://thediplomaticnetwork.com/event/national-day-kingdom-of-the-netherlands-2024/
CATEGORIES:National Days
ATTACH;FMTTYPE=image/svg+xml:https://thediplomaticnetwork.com/wp-content/uploads/2023/03/Kingdom-of-the-Netherlands-National-Flag.svg
END:VEVENT
BEGIN:VEVENT
DTSTART;VALUE=DATE:20240421
DTEND;VALUE=DATE:20240422
DTSTAMP:20260423T223747
CREATED:20240215T184648Z
LAST-MODIFIED:20240215T184648Z
UID:2954-1713657600-1713743999@thediplomaticnetwork.com
SUMMARY:National Day: United Kingdom\, 2024
DESCRIPTION:
URL:https://thediplomaticnetwork.com/event/national-day-united-kingdom-2024/
CATEGORIES:National Days
ATTACH;FMTTYPE=image/svg+xml:https://thediplomaticnetwork.com/wp-content/uploads/2023/03/United-Kingdom-National-Flag.svg
END:VEVENT
BEGIN:VEVENT
DTSTART;VALUE=DATE:20240418
DTEND;VALUE=DATE:20240419
DTSTAMP:20260423T223747
CREATED:20240215T184630Z
LAST-MODIFIED:20240215T184630Z
UID:2953-1713398400-1713484799@thediplomaticnetwork.com
SUMMARY:National Day: Republic of Zimbabwe\, 2024
DESCRIPTION:
URL:https://thediplomaticnetwork.com/event/national-day-republic-of-zimbabwe-2024/
CATEGORIES:National Days
ATTACH;FMTTYPE=image/svg+xml:https://thediplomaticnetwork.com/wp-content/uploads/2023/03/Republic-of-Zimbabwe-National-Flag.svg
END:VEVENT
BEGIN:VEVENT
DTSTART;VALUE=DATE:20240326
DTEND;VALUE=DATE:20240327
DTSTAMP:20260423T223747
CREATED:20240215T184629Z
LAST-MODIFIED:20240215T200554Z
UID:2952-1711411200-1711497599@thediplomaticnetwork.com
SUMMARY:National Day: People's Republic of Bangladesh\, 2024
DESCRIPTION:
URL:https://thediplomaticnetwork.com/event/national-day-peoples-republic-of-bangladesh-2024/
CATEGORIES:National Days
ATTACH;FMTTYPE=image/svg+xml:https://thediplomaticnetwork.com/wp-content/uploads/2023/03/Peoples-Republic-of-Bangladesh-National-Flag.svg
END:VEVENT
BEGIN:VEVENT
DTSTART;VALUE=DATE:20240325
DTEND;VALUE=DATE:20240326
DTSTAMP:20260423T223747
CREATED:20240215T184628Z
LAST-MODIFIED:20240215T200538Z
UID:2951-1711324800-1711411199@thediplomaticnetwork.com
SUMMARY:National Day: Hellenic Republic (Greece)\, 2024
DESCRIPTION:
URL:https://thediplomaticnetwork.com/event/national-day-hellenic-republic-greece-2024/
CATEGORIES:National Days
ATTACH;FMTTYPE=image/svg+xml:https://thediplomaticnetwork.com/wp-content/uploads/2023/03/Hellenic-Republic-Greece-National-Flag.svg
END:VEVENT
BEGIN:VEVENT
DTSTART;VALUE=DATE:20240323
DTEND;VALUE=DATE:20240324
DTSTAMP:20260423T223747
CREATED:20240215T184627Z
LAST-MODIFIED:20240215T184627Z
UID:2950-1711152000-1711238399@thediplomaticnetwork.com
SUMMARY:National Day: Islamic Republic of Pakistan\, 2024
DESCRIPTION:
URL:https://thediplomaticnetwork.com/event/national-day-islamic-republic-of-pakistan-2024/
CATEGORIES:National Days
ATTACH;FMTTYPE=image/svg+xml:https://thediplomaticnetwork.com/wp-content/uploads/2023/03/Islamic-Republic-of-Pakistan-National-Flag.svg
END:VEVENT
BEGIN:VEVENT
DTSTART;VALUE=DATE:20240317
DTEND;VALUE=DATE:20240318
DTSTAMP:20260423T223747
CREATED:20240215T184626Z
LAST-MODIFIED:20240215T184626Z
UID:2949-1710633600-1710719999@thediplomaticnetwork.com
SUMMARY:National Day: Republic of Ireland\, 2024
DESCRIPTION:
URL:https://thediplomaticnetwork.com/event/national-day-republic-of-ireland-2024/
CATEGORIES:National Days
ATTACH;FMTTYPE=image/svg+xml:https://thediplomaticnetwork.com/wp-content/uploads/2023/03/Republic-of-Ireland-National-Flag.svg
END:VEVENT
BEGIN:VEVENT
DTSTART;VALUE=DATE:20240313
DTEND;VALUE=DATE:20240314
DTSTAMP:20260423T223747
CREATED:20240215T184622Z
LAST-MODIFIED:20240215T184622Z
UID:2948-1710288000-1710374399@thediplomaticnetwork.com
SUMMARY:National Day: Holy See\, 2024
DESCRIPTION:
URL:https://thediplomaticnetwork.com/event/national-day-holy-see-2024/
CATEGORIES:National Days
ATTACH;FMTTYPE=image/svg+xml:https://thediplomaticnetwork.com/wp-content/uploads/2023/03/Holy-See-National-Flag.svg
END:VEVENT
BEGIN:VEVENT
DTSTART;VALUE=DATE:20240225
DTEND;VALUE=DATE:20240226
DTSTAMP:20260423T223747
CREATED:20240215T184621Z
LAST-MODIFIED:20240215T184621Z
UID:2947-1708819200-1708905599@thediplomaticnetwork.com
SUMMARY:National Day: State of Kuwait\, 2024
DESCRIPTION:
URL:https://thediplomaticnetwork.com/event/national-day-state-of-kuwait-2024/
CATEGORIES:National Days
ATTACH;FMTTYPE=image/svg+xml:https://thediplomaticnetwork.com/wp-content/uploads/2023/03/State-of-Kuwait-National-Flag.svg
END:VEVENT
BEGIN:VEVENT
DTSTART;VALUE=DATE:20240223
DTEND;VALUE=DATE:20240224
DTSTAMP:20260423T223747
CREATED:20240215T184620Z
LAST-MODIFIED:20240215T184620Z
UID:2946-1708646400-1708732799@thediplomaticnetwork.com
SUMMARY:National Day: State of Japan\, 2024
DESCRIPTION:
URL:https://thediplomaticnetwork.com/event/national-day-state-of-japan-2024/
CATEGORIES:National Days
ATTACH;FMTTYPE=image/svg+xml:https://thediplomaticnetwork.com/wp-content/uploads/2023/03/State-of-Japan-National-Flag.svg
END:VEVENT
BEGIN:VEVENT
DTSTART;VALUE=DATE:20240223
DTEND;VALUE=DATE:20240224
DTSTAMP:20260423T223747
CREATED:20240215T184619Z
LAST-MODIFIED:20240215T184619Z
UID:2945-1708646400-1708732799@thediplomaticnetwork.com
SUMMARY:National Day: Brunei Darussalam\, 2024
DESCRIPTION:
URL:https://thediplomaticnetwork.com/event/national-day-brunei-darussalam-2024/
CATEGORIES:National Days
ATTACH;FMTTYPE=image/svg+xml:https://thediplomaticnetwork.com/wp-content/uploads/2023/03/Brunei-Darussalam-National-Flag.svg
END:VEVENT
BEGIN:VEVENT
DTSTART;VALUE=DATE:20240206
DTEND;VALUE=DATE:20240207
DTSTAMP:20260423T223747
CREATED:20240215T184618Z
LAST-MODIFIED:20240215T184618Z
UID:2944-1707177600-1707263999@thediplomaticnetwork.com
SUMMARY:National Day: Aotearoa (New Zealand)\, 2024
DESCRIPTION:
URL:https://thediplomaticnetwork.com/event/national-day-aotearoa-new-zealand-2024/
CATEGORIES:National Days
END:VEVENT
BEGIN:VEVENT
DTSTART;VALUE=DATE:20240204
DTEND;VALUE=DATE:20240205
DTSTAMP:20260423T223747
CREATED:20240215T184609Z
LAST-MODIFIED:20240215T184609Z
UID:2943-1707004800-1707091199@thediplomaticnetwork.com
SUMMARY:National Day: Democratic Socialist Republic of Sri Lanka\, 2024
DESCRIPTION:
URL:https://thediplomaticnetwork.com/event/national-day-democratic-socialist-republic-of-sri-lanka-2024/
CATEGORIES:National Days
ATTACH;FMTTYPE=image/svg+xml:https://thediplomaticnetwork.com/wp-content/uploads/2023/03/Democratic-Socialist-Republic-of-Sri-Lanka-National-Flag.svg
END:VEVENT
BEGIN:VEVENT
DTSTART;VALUE=DATE:20240126
DTEND;VALUE=DATE:20240127
DTSTAMP:20260423T223747
CREATED:20240215T184608Z
LAST-MODIFIED:20240215T184608Z
UID:2942-1706227200-1706313599@thediplomaticnetwork.com
SUMMARY:National Day: Republic of India\, 2024
DESCRIPTION:
URL:https://thediplomaticnetwork.com/event/national-day-republic-of-india-2024/
CATEGORIES:National Days
ATTACH;FMTTYPE=image/svg+xml:https://thediplomaticnetwork.com/wp-content/uploads/2023/03/Republic-of-India-National-Flag.svg
END:VEVENT
BEGIN:VEVENT
DTSTART;VALUE=DATE:20240126
DTEND;VALUE=DATE:20240127
DTSTAMP:20260423T223747
CREATED:20240215T184607Z
LAST-MODIFIED:20240215T184607Z
UID:2941-1706227200-1706313599@thediplomaticnetwork.com
SUMMARY:National Day: Commonwealth of Australia\, 2024
DESCRIPTION:
URL:https://thediplomaticnetwork.com/event/national-day-commonwealth-of-australia-2024/
CATEGORIES:National Days
ATTACH;FMTTYPE=image/svg+xml:https://thediplomaticnetwork.com/wp-content/uploads/2023/03/Commonwealth-of-Australia-National-Flag.svg
END:VEVENT
BEGIN:VEVENT
DTSTART;VALUE=DATE:20240104
DTEND;VALUE=DATE:20240105
DTSTAMP:20260423T223747
CREATED:20240215T184606Z
LAST-MODIFIED:20240215T184606Z
UID:2940-1704326400-1704412799@thediplomaticnetwork.com
SUMMARY:National Day: Republic of the Union of Myanmar\, 2024
DESCRIPTION:
URL:https://thediplomaticnetwork.com/event/national-day-republic-of-the-union-of-myanmar-2024/
CATEGORIES:National Days
ATTACH;FMTTYPE=image/svg+xml:https://thediplomaticnetwork.com/wp-content/uploads/2023/03/Republic-of-the-Union-of-Myanmar-National-Flag.svg
END:VEVENT
BEGIN:VEVENT
DTSTART;VALUE=DATE:20240101
DTEND;VALUE=DATE:20240102
DTSTAMP:20260423T223747
CREATED:20240215T184605Z
LAST-MODIFIED:20240215T184605Z
UID:2939-1704067200-1704153599@thediplomaticnetwork.com
SUMMARY:National Day: Republic of Cuba\, 2024
DESCRIPTION:
URL:https://thediplomaticnetwork.com/event/national-day-republic-of-cuba-2024/
CATEGORIES:National Days
ATTACH;FMTTYPE=image/svg+xml:https://thediplomaticnetwork.com/wp-content/uploads/2023/03/Republic-of-Cuba-National-Flag.svg
END:VEVENT
BEGIN:VEVENT
DTSTART;VALUE=DATE:20231218
DTEND;VALUE=DATE:20231219
DTSTAMP:20260423T223747
CREATED:20230402T204049Z
LAST-MODIFIED:20230402T204049Z
UID:833-1702857600-1702943999@thediplomaticnetwork.com
SUMMARY:National Day: State of Qatar\, 2023
DESCRIPTION:
URL:https://thediplomaticnetwork.com/event/national-day-state-of-qatar-2023/
CATEGORIES:National Days
ATTACH;FMTTYPE=image/svg+xml:https://thediplomaticnetwork.com/wp-content/uploads/2023/03/State-of-Qatar-National-Flag.svg
END:VEVENT
BEGIN:VEVENT
DTSTART;VALUE=DATE:20231216
DTEND;VALUE=DATE:20231217
DTSTAMP:20260423T223747
CREATED:20230402T204048Z
LAST-MODIFIED:20230402T204048Z
UID:832-1702684800-1702771199@thediplomaticnetwork.com
SUMMARY:National Day: Republic of Kazakhstan\, 2023
DESCRIPTION:
URL:https://thediplomaticnetwork.com/event/national-day-republic-of-kazakhstan-2023/
CATEGORIES:National Days
ATTACH;FMTTYPE=image/svg+xml:https://thediplomaticnetwork.com/wp-content/uploads/2023/03/Republic-of-Kazakhstan-National-Flag.svg
END:VEVENT
BEGIN:VEVENT
DTSTART;VALUE=DATE:20231212
DTEND;VALUE=DATE:20231213
DTSTAMP:20260423T223747
CREATED:20230402T204047Z
LAST-MODIFIED:20230402T204047Z
UID:831-1702339200-1702425599@thediplomaticnetwork.com
SUMMARY:National Day: Kenya\, 2023
DESCRIPTION:
URL:https://thediplomaticnetwork.com/event/national-day-kenya-2023/
CATEGORIES:National Days
ATTACH;FMTTYPE=image/svg+xml:https://thediplomaticnetwork.com/wp-content/uploads/2023/03/Kenya-National-Flag.svg
END:VEVENT
BEGIN:VEVENT
DTSTART;VALUE=DATE:20231206
DTEND;VALUE=DATE:20231207
DTSTAMP:20260423T223747
CREATED:20230402T204046Z
LAST-MODIFIED:20230402T204046Z
UID:830-1701820800-1701907199@thediplomaticnetwork.com
SUMMARY:National Day: Republic of Finland\, 2023
DESCRIPTION:
URL:https://thediplomaticnetwork.com/event/national-day-republic-of-finland-2023/
CATEGORIES:National Days
ATTACH;FMTTYPE=image/svg+xml:https://thediplomaticnetwork.com/wp-content/uploads/2023/03/Republic-of-Finland-National-Flag.svg
END:VEVENT
BEGIN:VEVENT
DTSTART;VALUE=DATE:20231205
DTEND;VALUE=DATE:20231206
DTSTAMP:20260423T223747
CREATED:20230402T204044Z
LAST-MODIFIED:20230402T204044Z
UID:829-1701734400-1701820799@thediplomaticnetwork.com
SUMMARY:National Day: Kingdom of Thailand\, 2023
DESCRIPTION:
URL:https://thediplomaticnetwork.com/event/national-day-kingdom-of-thailand-2023-2/
CATEGORIES:National Days
ATTACH;FMTTYPE=image/svg+xml:https://thediplomaticnetwork.com/wp-content/uploads/2023/03/Kingdom-of-Thailand-National-Flag.svg
END:VEVENT
BEGIN:VEVENT
DTSTART;VALUE=DATE:20231202
DTEND;VALUE=DATE:20231203
DTSTAMP:20260423T223747
CREATED:20230402T204034Z
LAST-MODIFIED:20230402T204034Z
UID:828-1701475200-1701561599@thediplomaticnetwork.com
SUMMARY:National Day: United Arab Emirates\, 2023
DESCRIPTION:
URL:https://thediplomaticnetwork.com/event/national-day-united-arab-emirates-2023-2/
CATEGORIES:National Days
ATTACH;FMTTYPE=image/svg+xml:https://thediplomaticnetwork.com/wp-content/uploads/2023/03/United-Arab-Emirates-National-Flag.svg
END:VEVENT
BEGIN:VEVENT
DTSTART;VALUE=DATE:20231202
DTEND;VALUE=DATE:20231203
DTSTAMP:20260423T223747
CREATED:20230402T204033Z
LAST-MODIFIED:20230402T204033Z
UID:827-1701475200-1701561599@thediplomaticnetwork.com
SUMMARY:National Day: Lao People's Democratic Republic\, 2023
DESCRIPTION:
URL:https://thediplomaticnetwork.com/event/national-day-lao-peoples-democratic-republic-2023-2/
CATEGORIES:National Days
END:VEVENT
BEGIN:VEVENT
DTSTART;VALUE=DATE:20231201
DTEND;VALUE=DATE:20231202
DTSTAMP:20260423T223747
CREATED:20230402T204032Z
LAST-MODIFIED:20230402T204032Z
UID:826-1701388800-1701475199@thediplomaticnetwork.com
SUMMARY:National Day: Romania\, 2023
DESCRIPTION:
URL:https://thediplomaticnetwork.com/event/national-day-romania-2023-2/
CATEGORIES:National Days
ATTACH;FMTTYPE=image/svg+xml:https://thediplomaticnetwork.com/wp-content/uploads/2023/03/Romania-National-Flag.svg
END:VEVENT
BEGIN:VEVENT
DTSTART;VALUE=DATE:20231111
DTEND;VALUE=DATE:20231112
DTSTAMP:20260423T223747
CREATED:20230402T204031Z
LAST-MODIFIED:20230402T204031Z
UID:825-1699660800-1699747199@thediplomaticnetwork.com
SUMMARY:National Day: Republic of Angola\, 2023
DESCRIPTION:
URL:https://thediplomaticnetwork.com/event/national-day-republic-of-angola-2023-2/
CATEGORIES:National Days
ATTACH;FMTTYPE=image/svg+xml:https://thediplomaticnetwork.com/wp-content/uploads/2023/03/Republic-of-Angola-National-Flag.svg
END:VEVENT
END:VCALENDAR