BEGIN:VCALENDAR
VERSION:2.0
PRODID:-//The Diplomatic Network - ECPv6.15.20//NONSGML v1.0//EN
CALSCALE:GREGORIAN
METHOD:PUBLISH
X-ORIGINAL-URL:https://thediplomaticnetwork.com
X-WR-CALDESC:Events for The Diplomatic Network
REFRESH-INTERVAL;VALUE=DURATION:PT1H
X-Robots-Tag:noindex
X-PUBLISHED-TTL:PT1H
BEGIN:VTIMEZONE
TZID:Asia/Singapore
BEGIN:STANDARD
TZOFFSETFROM:+0800
TZOFFSETTO:+0800
TZNAME:+08
DTSTART:20230101T000000
END:STANDARD
END:VTIMEZONE
BEGIN:VEVENT
DTSTART;VALUE=DATE:20241103
DTEND;VALUE=DATE:20241104
DTSTAMP:20260423T164221
CREATED:20240215T185203Z
LAST-MODIFIED:20240215T185203Z
UID:3012-1730592000-1730678399@thediplomaticnetwork.com
SUMMARY:National Day: Republic of Panama\, 2024
DESCRIPTION:
URL:https://thediplomaticnetwork.com/event/national-day-republic-of-panama-2024/
CATEGORIES:National Days
ATTACH;FMTTYPE=image/svg+xml:https://thediplomaticnetwork.com/wp-content/uploads/2023/03/Republic-of-Panama-National-Flag.svg
END:VEVENT
BEGIN:VEVENT
DTSTART;VALUE=DATE:20241103
DTEND;VALUE=DATE:20241104
DTSTAMP:20260423T164221
CREATED:20240215T185030Z
LAST-MODIFIED:20240215T200642Z
UID:3011-1730592000-1730678399@thediplomaticnetwork.com
SUMMARY:National Day: Micronesia\, Federated  States of \, 2024
DESCRIPTION:
URL:https://thediplomaticnetwork.com/event/national-day-micronesia-federated-states-of-2024/
CATEGORIES:National Days
ATTACH;FMTTYPE=image/svg+xml:https://thediplomaticnetwork.com/wp-content/uploads/2023/03/Micronesia-Federated-States-of-National-Flag.svg
END:VEVENT
BEGIN:VEVENT
DTSTART;VALUE=DATE:20241029
DTEND;VALUE=DATE:20241030
DTSTAMP:20260423T164221
CREATED:20240215T185029Z
LAST-MODIFIED:20240215T185029Z
UID:3010-1730160000-1730246399@thediplomaticnetwork.com
SUMMARY:National Day: Republic of Turkey\, 2024
DESCRIPTION:
URL:https://thediplomaticnetwork.com/event/national-day-republic-of-turkey-2024/
CATEGORIES:National Days
ATTACH;FMTTYPE=image/svg+xml:https://thediplomaticnetwork.com/wp-content/uploads/2023/03/Republic-of-Turkey-National-Flag.svg
END:VEVENT
BEGIN:VEVENT
DTSTART;VALUE=DATE:20241028
DTEND;VALUE=DATE:20241029
DTSTAMP:20260423T164221
CREATED:20240215T185028Z
LAST-MODIFIED:20240215T185028Z
UID:3009-1730073600-1730159999@thediplomaticnetwork.com
SUMMARY:National Day: Czech Republic\, 2024
DESCRIPTION:
URL:https://thediplomaticnetwork.com/event/national-day-czech-republic-2024/
CATEGORIES:National Days
ATTACH;FMTTYPE=image/svg+xml:https://thediplomaticnetwork.com/wp-content/uploads/2023/03/Czech-Republic-National-Flag.svg
END:VEVENT
BEGIN:VEVENT
DTSTART;VALUE=DATE:20241026
DTEND;VALUE=DATE:20241027
DTSTAMP:20260423T164221
CREATED:20240215T185027Z
LAST-MODIFIED:20240215T185027Z
UID:3008-1729900800-1729987199@thediplomaticnetwork.com
SUMMARY:National Day: Republic of Austria\, 2024
DESCRIPTION:
URL:https://thediplomaticnetwork.com/event/national-day-republic-of-austria-2024/
CATEGORIES:National Days
ATTACH;FMTTYPE=image/svg+xml:https://thediplomaticnetwork.com/wp-content/uploads/2023/03/Republic-of-Austria-National-Flag.svg
END:VEVENT
BEGIN:VEVENT
DTSTART;VALUE=DATE:20241023
DTEND;VALUE=DATE:20241024
DTSTAMP:20260423T164221
CREATED:20240215T185026Z
LAST-MODIFIED:20240215T185026Z
UID:3007-1729641600-1729727999@thediplomaticnetwork.com
SUMMARY:National Day: Republic of Hungary\, 2024
DESCRIPTION:
URL:https://thediplomaticnetwork.com/event/national-day-republic-of-hungary-2024/
CATEGORIES:National Days
ATTACH;FMTTYPE=image/svg+xml:https://thediplomaticnetwork.com/wp-content/uploads/2023/03/Republic-of-Hungary-National-Flag.svg
END:VEVENT
BEGIN:VEVENT
DTSTART;VALUE=DATE:20241012
DTEND;VALUE=DATE:20241013
DTSTAMP:20260423T164221
CREATED:20240215T185015Z
LAST-MODIFIED:20240215T185015Z
UID:3006-1728691200-1728777599@thediplomaticnetwork.com
SUMMARY:National Day: Kingdom of Spain\, 2024
DESCRIPTION:
URL:https://thediplomaticnetwork.com/event/national-day-kingdom-of-spain-2024/
CATEGORIES:National Days
ATTACH;FMTTYPE=image/svg+xml:https://thediplomaticnetwork.com/wp-content/uploads/2023/03/Kingdom-of-Spain-National-Flag.svg
END:VEVENT
BEGIN:VEVENT
DTSTART;VALUE=DATE:20241003
DTEND;VALUE=DATE:20241004
DTSTAMP:20260423T164221
CREATED:20240215T185014Z
LAST-MODIFIED:20240215T185014Z
UID:3005-1727913600-1727999999@thediplomaticnetwork.com
SUMMARY:National Day: Republic of Korea\, 2024
DESCRIPTION:
URL:https://thediplomaticnetwork.com/event/national-day-republic-of-korea-2024/
CATEGORIES:National Days
ATTACH;FMTTYPE=image/svg+xml:https://thediplomaticnetwork.com/wp-content/uploads/2023/03/Republic-of-Korea-National-Flag.svg
END:VEVENT
BEGIN:VEVENT
DTSTART;VALUE=DATE:20241003
DTEND;VALUE=DATE:20241004
DTSTAMP:20260423T164221
CREATED:20240215T185013Z
LAST-MODIFIED:20240215T185013Z
UID:3004-1727913600-1727999999@thediplomaticnetwork.com
SUMMARY:National Day: Federal Republic of Germany\, 2024
DESCRIPTION:
URL:https://thediplomaticnetwork.com/event/national-day-federal-republic-of-germany-2024/
CATEGORIES:National Days
ATTACH;FMTTYPE=image/svg+xml:https://thediplomaticnetwork.com/wp-content/uploads/2023/03/Federal-Republic-of-Germany-National-Flag.svg
END:VEVENT
BEGIN:VEVENT
DTSTART;VALUE=DATE:20241001
DTEND;VALUE=DATE:20241002
DTSTAMP:20260423T164221
CREATED:20240215T185012Z
LAST-MODIFIED:20240215T185012Z
UID:3003-1727740800-1727827199@thediplomaticnetwork.com
SUMMARY:National Day: Federal Republic of Nigeria\, 2024
DESCRIPTION:
URL:https://thediplomaticnetwork.com/event/national-day-federal-republic-of-nigeria-2024/
CATEGORIES:National Days
ATTACH;FMTTYPE=image/svg+xml:https://thediplomaticnetwork.com/wp-content/uploads/2023/03/Federal-Republic-of-Nigeria-National-Flag.svg
END:VEVENT
BEGIN:VEVENT
DTSTART;VALUE=DATE:20241001
DTEND;VALUE=DATE:20241002
DTSTAMP:20260423T164221
CREATED:20240215T185011Z
LAST-MODIFIED:20240215T200224Z
UID:3002-1727740800-1727827199@thediplomaticnetwork.com
SUMMARY:National Day: People's Republic of China\, 2024
DESCRIPTION:
URL:https://thediplomaticnetwork.com/event/national-day-peoples-republic-of-china-2024/
CATEGORIES:National Days
ATTACH;FMTTYPE=image/svg+xml:https://thediplomaticnetwork.com/wp-content/uploads/2023/03/Peoples-Republic-of-China-National-Flag.svg
END:VEVENT
BEGIN:VEVENT
DTSTART;VALUE=DATE:20240923
DTEND;VALUE=DATE:20240924
DTSTAMP:20260423T164221
CREATED:20240215T184958Z
LAST-MODIFIED:20240215T184958Z
UID:3001-1727049600-1727135999@thediplomaticnetwork.com
SUMMARY:National Day: Kingdom of Saudi Arabia\, 2024
DESCRIPTION:
URL:https://thediplomaticnetwork.com/event/national-day-kingdom-of-saudi-arabia-2024/
CATEGORIES:National Days
ATTACH;FMTTYPE=image/svg+xml:https://thediplomaticnetwork.com/wp-content/uploads/2023/03/Kingdom-of-Saudi-Arabia-National-Flag.svg
END:VEVENT
BEGIN:VEVENT
DTSTART;VALUE=DATE:20240918
DTEND;VALUE=DATE:20240919
DTSTAMP:20260423T164221
CREATED:20240215T184957Z
LAST-MODIFIED:20240215T184957Z
UID:3000-1726617600-1726703999@thediplomaticnetwork.com
SUMMARY:National Day: Republic of Chile\, 2024
DESCRIPTION:
URL:https://thediplomaticnetwork.com/event/national-day-republic-of-chile-2024/
CATEGORIES:National Days
ATTACH;FMTTYPE=image/svg+xml:https://thediplomaticnetwork.com/wp-content/uploads/2023/03/Republic-of-Chile-National-Flag.svg
END:VEVENT
BEGIN:VEVENT
DTSTART;VALUE=DATE:20240916
DTEND;VALUE=DATE:20240917
DTSTAMP:20260423T164221
CREATED:20240215T184956Z
LAST-MODIFIED:20240215T184956Z
UID:2999-1726444800-1726531199@thediplomaticnetwork.com
SUMMARY:National Day: Independent State of Papua New Guinea\, 2024
DESCRIPTION:
URL:https://thediplomaticnetwork.com/event/national-day-independent-state-of-papua-new-guinea-2024/
CATEGORIES:National Days
ATTACH;FMTTYPE=image/svg+xml:https://thediplomaticnetwork.com/wp-content/uploads/2023/03/Independent-State-of-Papua-New-Guinea-National-Flag.svg
END:VEVENT
BEGIN:VEVENT
DTSTART;VALUE=DATE:20240916
DTEND;VALUE=DATE:20240917
DTSTAMP:20260423T164221
CREATED:20240215T184955Z
LAST-MODIFIED:20240215T184955Z
UID:2998-1726444800-1726531199@thediplomaticnetwork.com
SUMMARY:National Day: United Mexican States\, 2024
DESCRIPTION:
URL:https://thediplomaticnetwork.com/event/national-day-united-mexican-states-2024/
CATEGORIES:National Days
ATTACH;FMTTYPE=image/svg+xml:https://thediplomaticnetwork.com/wp-content/uploads/2023/03/United-Mexican-States-National-Flag.svg
END:VEVENT
BEGIN:VEVENT
DTSTART;VALUE=DATE:20240915
DTEND;VALUE=DATE:20240916
DTSTAMP:20260423T164221
CREATED:20240215T184954Z
LAST-MODIFIED:20240215T184954Z
UID:2997-1726358400-1726444799@thediplomaticnetwork.com
SUMMARY:National Day: Republic of Costa Rica\, 2024
DESCRIPTION:
URL:https://thediplomaticnetwork.com/event/national-day-republic-of-costa-rica-2024/
CATEGORIES:National Days
ATTACH;FMTTYPE=image/svg+xml:https://thediplomaticnetwork.com/wp-content/uploads/2023/03/Republic-of-Costa-Rica-National-Flag.svg
END:VEVENT
BEGIN:VEVENT
DTSTART;VALUE=DATE:20240909
DTEND;VALUE=DATE:20240910
DTSTAMP:20260423T164221
CREATED:20240215T184951Z
LAST-MODIFIED:20240215T200205Z
UID:2996-1725840000-1725926399@thediplomaticnetwork.com
SUMMARY:National Day: Democratic People's Republic of Korea\, 2024
DESCRIPTION:
URL:https://thediplomaticnetwork.com/event/national-day-democratic-peoples-republic-of-korea-2024/
CATEGORIES:National Days
ATTACH;FMTTYPE=image/svg+xml:https://thediplomaticnetwork.com/wp-content/uploads/2023/03/Democratic-Peoples-Republic-of-Korea-National-Flag.svg
END:VEVENT
BEGIN:VEVENT
DTSTART;VALUE=DATE:20240907
DTEND;VALUE=DATE:20240908
DTSTAMP:20260423T164221
CREATED:20240215T184950Z
LAST-MODIFIED:20240215T184950Z
UID:2995-1725667200-1725753599@thediplomaticnetwork.com
SUMMARY:National Day: Federative Republic of Brazil\, 2024
DESCRIPTION:
URL:https://thediplomaticnetwork.com/event/national-day-federative-republic-of-brazil-2024/
CATEGORIES:National Days
ATTACH;FMTTYPE=image/svg+xml:https://thediplomaticnetwork.com/wp-content/uploads/2023/03/Federative-Republic-of-Brazil-National-Flag.svg
END:VEVENT
BEGIN:VEVENT
DTSTART;VALUE=DATE:20240906
DTEND;VALUE=DATE:20240907
DTSTAMP:20260423T164221
CREATED:20240215T184949Z
LAST-MODIFIED:20240215T184949Z
UID:2994-1725580800-1725667199@thediplomaticnetwork.com
SUMMARY:National Day: Republic of Estonia\, 2024
DESCRIPTION:
URL:https://thediplomaticnetwork.com/event/national-day-republic-of-estonia-2024/
CATEGORIES:National Days
ATTACH;FMTTYPE=image/svg+xml:https://thediplomaticnetwork.com/wp-content/uploads/2023/03/Republic-of-Estonia-National-Flag.svg
END:VEVENT
BEGIN:VEVENT
DTSTART;VALUE=DATE:20240902
DTEND;VALUE=DATE:20240903
DTSTAMP:20260423T164221
CREATED:20240215T184948Z
LAST-MODIFIED:20240215T184948Z
UID:2993-1725235200-1725321599@thediplomaticnetwork.com
SUMMARY:National Day: Socialist Republic of Vietnam\, 2024
DESCRIPTION:
URL:https://thediplomaticnetwork.com/event/national-day-socialist-republic-of-vietnam-2024/
CATEGORIES:National Days
ATTACH;FMTTYPE=image/svg+xml:https://thediplomaticnetwork.com/wp-content/uploads/2023/03/Socialist-Republic-of-Vietnam-National-Flag.svg
END:VEVENT
BEGIN:VEVENT
DTSTART;VALUE=DATE:20240901
DTEND;VALUE=DATE:20240902
DTSTAMP:20260423T164221
CREATED:20240215T184948Z
LAST-MODIFIED:20240215T184948Z
UID:2992-1725148800-1725235199@thediplomaticnetwork.com
SUMMARY:National Day: Republic of Uzbekistan\, 2024
DESCRIPTION:
URL:https://thediplomaticnetwork.com/event/national-day-republic-of-uzbekistan-2024/
CATEGORIES:National Days
ATTACH;FMTTYPE=image/svg+xml:https://thediplomaticnetwork.com/wp-content/uploads/2023/03/Republic-of-Uzbekistan-National-Flag.svg
END:VEVENT
BEGIN:VEVENT
DTSTART;VALUE=DATE:20240831
DTEND;VALUE=DATE:20240901
DTSTAMP:20260423T164221
CREATED:20240215T184822Z
LAST-MODIFIED:20240215T184822Z
UID:2989-1725062400-1725148799@thediplomaticnetwork.com
SUMMARY:National Day: Malaysia\, 2024
DESCRIPTION:
URL:https://thediplomaticnetwork.com/event/national-day-malaysia-2024/
CATEGORIES:National Days
ATTACH;FMTTYPE=image/svg+xml:https://thediplomaticnetwork.com/wp-content/uploads/2023/03/Malaysia-National-Flag.svg
END:VEVENT
BEGIN:VEVENT
DTSTART;VALUE=DATE:20240824
DTEND;VALUE=DATE:20240825
DTSTAMP:20260423T164221
CREATED:20240215T184821Z
LAST-MODIFIED:20240215T200120Z
UID:2988-1724457600-1724543999@thediplomaticnetwork.com
SUMMARY:National Day: Ukraine \, 2024
DESCRIPTION:
URL:https://thediplomaticnetwork.com/event/national-day-ukraine-2024/
CATEGORIES:National Days
ATTACH;FMTTYPE=image/svg+xml:https://thediplomaticnetwork.com/wp-content/uploads/2023/03/Ukraine-National-Flag.svg
END:VEVENT
BEGIN:VEVENT
DTSTART;VALUE=DATE:20240817
DTEND;VALUE=DATE:20240818
DTSTAMP:20260423T164221
CREATED:20240215T184820Z
LAST-MODIFIED:20240215T184820Z
UID:2987-1723852800-1723939199@thediplomaticnetwork.com
SUMMARY:National Day: Republic of Indonesia\, 2024
DESCRIPTION:
URL:https://thediplomaticnetwork.com/event/national-day-republic-of-indonesia-2024/
CATEGORIES:National Days
ATTACH;FMTTYPE=image/svg+xml:https://thediplomaticnetwork.com/wp-content/uploads/2023/03/Republic-of-Indonesia-National-Flag.svg
END:VEVENT
BEGIN:VEVENT
DTSTART;VALUE=DATE:20240815
DTEND;VALUE=DATE:20240816
DTSTAMP:20260423T164221
CREATED:20240215T184814Z
LAST-MODIFIED:20240215T184814Z
UID:2984-1723680000-1723766399@thediplomaticnetwork.com
SUMMARY:National Day: Republic of Congo\, 2024
DESCRIPTION:
URL:https://thediplomaticnetwork.com/event/national-day-republic-of-congo-2024/
CATEGORIES:National Days
ATTACH;FMTTYPE=image/svg+xml:https://thediplomaticnetwork.com/wp-content/uploads/2023/03/Republic-of-Congo-National-Flag.svg
END:VEVENT
BEGIN:VEVENT
DTSTART;VALUE=DATE:20240801
DTEND;VALUE=DATE:20240802
DTSTAMP:20260423T164221
CREATED:20240215T184813Z
LAST-MODIFIED:20240215T184813Z
UID:2983-1722470400-1722556799@thediplomaticnetwork.com
SUMMARY:National Day: Swiss Confederation\, 2024
DESCRIPTION:
URL:https://thediplomaticnetwork.com/event/national-day-swiss-confederation-2024/
CATEGORIES:National Days
ATTACH;FMTTYPE=image/svg+xml:https://thediplomaticnetwork.com/wp-content/uploads/2023/03/Swiss-Confederation-National-Flag.svg
END:VEVENT
BEGIN:VEVENT
DTSTART;VALUE=DATE:20240728
DTEND;VALUE=DATE:20240729
DTSTAMP:20260423T164221
CREATED:20240215T184811Z
LAST-MODIFIED:20240215T184811Z
UID:2982-1722124800-1722211199@thediplomaticnetwork.com
SUMMARY:National Day: Republic of Peru\, 2024
DESCRIPTION:
URL:https://thediplomaticnetwork.com/event/national-day-republic-of-peru-2024/
CATEGORIES:National Days
ATTACH;FMTTYPE=image/svg+xml:https://thediplomaticnetwork.com/wp-content/uploads/2023/03/Republic-of-Peru-National-Flag.svg
END:VEVENT
BEGIN:VEVENT
DTSTART;VALUE=DATE:20240726
DTEND;VALUE=DATE:20240727
DTSTAMP:20260423T164221
CREATED:20240215T184810Z
LAST-MODIFIED:20240215T184810Z
UID:2981-1721952000-1722038399@thediplomaticnetwork.com
SUMMARY:National Day: Republic of Maldives\, 2024
DESCRIPTION:
URL:https://thediplomaticnetwork.com/event/national-day-republic-of-maldives-2024/
CATEGORIES:National Days
ATTACH;FMTTYPE=image/svg+xml:https://thediplomaticnetwork.com/wp-content/uploads/2023/03/Republic-of-Maldives-National-Flag.svg
END:VEVENT
BEGIN:VEVENT
DTSTART;VALUE=DATE:20240723
DTEND;VALUE=DATE:20240724
DTSTAMP:20260423T164221
CREATED:20240215T184810Z
LAST-MODIFIED:20240215T184810Z
UID:2980-1721692800-1721779199@thediplomaticnetwork.com
SUMMARY:National Day: Arab Republic of Egypt\, 2024
DESCRIPTION:
URL:https://thediplomaticnetwork.com/event/national-day-arab-republic-of-egypt-2024/
CATEGORIES:National Days
ATTACH;FMTTYPE=image/svg+xml:https://thediplomaticnetwork.com/wp-content/uploads/2023/03/Arab-Republic-of-Egypt-National-Flag.svg
END:VEVENT
BEGIN:VEVENT
DTSTART;VALUE=DATE:20240721
DTEND;VALUE=DATE:20240722
DTSTAMP:20260423T164221
CREATED:20240215T184755Z
LAST-MODIFIED:20240215T184755Z
UID:2979-1721520000-1721606399@thediplomaticnetwork.com
SUMMARY:National Day: Kingdom of Belgium\, 2024
DESCRIPTION:
URL:https://thediplomaticnetwork.com/event/national-day-kingdom-of-belgium-2024/
CATEGORIES:National Days
ATTACH;FMTTYPE=image/svg+xml:https://thediplomaticnetwork.com/wp-content/uploads/2023/03/Kingdom-of-Belgium-National-Flag.svg
END:VEVENT
END:VCALENDAR