BEGIN:VCALENDAR
VERSION:2.0
PRODID:-//The Diplomatic Network - ECPv6.15.20//NONSGML v1.0//EN
CALSCALE:GREGORIAN
METHOD:PUBLISH
X-WR-CALNAME:The Diplomatic Network
X-ORIGINAL-URL:https://thediplomaticnetwork.com
X-WR-CALDESC:Events for The Diplomatic Network
REFRESH-INTERVAL;VALUE=DURATION:PT1H
X-Robots-Tag:noindex
X-PUBLISHED-TTL:PT1H
BEGIN:VTIMEZONE
TZID:Asia/Shanghai
BEGIN:STANDARD
TZOFFSETFROM:+0800
TZOFFSETTO:+0800
TZNAME:CST
DTSTART:20220101T000000
END:STANDARD
END:VTIMEZONE
BEGIN:VEVENT
DTSTART;VALUE=DATE:20231205
DTEND;VALUE=DATE:20231206
DTSTAMP:20260420T235516
CREATED:20230402T204044Z
LAST-MODIFIED:20230402T204044Z
UID:829-1701734400-1701820799@thediplomaticnetwork.com
SUMMARY:National Day: Kingdom of Thailand\, 2023
DESCRIPTION:
URL:https://thediplomaticnetwork.com/event/national-day-kingdom-of-thailand-2023-2/
CATEGORIES:National Days
ATTACH;FMTTYPE=image/svg+xml:https://thediplomaticnetwork.com/wp-content/uploads/2023/03/Kingdom-of-Thailand-National-Flag.svg
END:VEVENT
BEGIN:VEVENT
DTSTART;VALUE=DATE:20231202
DTEND;VALUE=DATE:20231203
DTSTAMP:20260420T235516
CREATED:20230402T204034Z
LAST-MODIFIED:20230402T204034Z
UID:828-1701475200-1701561599@thediplomaticnetwork.com
SUMMARY:National Day: United Arab Emirates\, 2023
DESCRIPTION:
URL:https://thediplomaticnetwork.com/event/national-day-united-arab-emirates-2023-2/
CATEGORIES:National Days
ATTACH;FMTTYPE=image/svg+xml:https://thediplomaticnetwork.com/wp-content/uploads/2023/03/United-Arab-Emirates-National-Flag.svg
END:VEVENT
BEGIN:VEVENT
DTSTART;VALUE=DATE:20231202
DTEND;VALUE=DATE:20231203
DTSTAMP:20260420T235516
CREATED:20230402T204033Z
LAST-MODIFIED:20230402T204033Z
UID:827-1701475200-1701561599@thediplomaticnetwork.com
SUMMARY:National Day: Lao People's Democratic Republic\, 2023
DESCRIPTION:
URL:https://thediplomaticnetwork.com/event/national-day-lao-peoples-democratic-republic-2023-2/
CATEGORIES:National Days
END:VEVENT
BEGIN:VEVENT
DTSTART;VALUE=DATE:20231201
DTEND;VALUE=DATE:20240101
DTSTAMP:20260420T235516
CREATED:20230901T062320Z
LAST-MODIFIED:20230901T062320Z
UID:1971-1701388800-1704067199@thediplomaticnetwork.com
SUMMARY:21st East Asia Forum
DESCRIPTION:The EAS is a forum that includes ASEAN member states plus eight other countries: Australia\, China\, India\, Japan\, New Zealand\, South Korea\, Russia\, and the United States. It discusses various issues\, including political and security matters\, economic cooperation\, and disaster management.
URL:https://thediplomaticnetwork.com/event/21st-east-asia-forum/
LOCATION:Jakarta\, Indonesia
CATEGORIES:ASEAN
END:VEVENT
BEGIN:VEVENT
DTSTART;VALUE=DATE:20231201
DTEND;VALUE=DATE:20231202
DTSTAMP:20260420T235516
CREATED:20230402T204032Z
LAST-MODIFIED:20230402T204032Z
UID:826-1701388800-1701475199@thediplomaticnetwork.com
SUMMARY:National Day: Romania\, 2023
DESCRIPTION:
URL:https://thediplomaticnetwork.com/event/national-day-romania-2023-2/
CATEGORIES:National Days
ATTACH;FMTTYPE=image/svg+xml:https://thediplomaticnetwork.com/wp-content/uploads/2023/03/Romania-National-Flag.svg
END:VEVENT
BEGIN:VEVENT
DTSTART;TZID=Asia/Shanghai:20231129T083000
DTEND;TZID=Asia/Shanghai:20231129T233000
DTSTAMP:20260420T235516
CREATED:20231101T053734Z
LAST-MODIFIED:20231101T053734Z
UID:2411-1701246600-1701300600@thediplomaticnetwork.com
SUMMARY:"Healthy Ageing in Singapore: Collaboration Strategies for the Future" Breakfast Talk
DESCRIPTION:Asia is preparing for a major demographic change\, with the elderly population predicted to surpass 1.6 billion by mid-century. Amidst this\, Singapore government has launched a proactive approach called Healthy SG to address the resulting societal and health impacts. \nTo contribute to these efforts\, EuroCham Singapore and Menarini Asia Pacific are coordinating a ‘Healthy Ageing in Asia’ roundtable discussion to foster dialogue and devise solutions for this demographic shift with a focus on four key areas: \n\nPreventive Care\nAddressing access to medical services and care gaps\nSupportive Care closer to home\nPatient Centricity and shared decision making
URL:https://thediplomaticnetwork.com/event/healthy-ageing-in-singapore-collaboration-strategies-for-the-future-breakfast-talk/
LOCATION:Singapore
CATEGORIES:Chambers of Commerce,European Chamber of Commerce in Singapore
ATTACH;FMTTYPE=image/png:https://thediplomaticnetwork.com/wp-content/uploads/2023/11/EV23-1129-Healthy-Ageing-in-Singapore-Collaboration-Strategies-for-the-Future.png
END:VEVENT
BEGIN:VEVENT
DTSTART;TZID=Asia/Shanghai:20231121T083000
DTEND;TZID=Asia/Shanghai:20231121T113000
DTSTAMP:20260420T235516
CREATED:20231107T065816Z
LAST-MODIFIED:20231107T065816Z
UID:2458-1700555400-1700566200@thediplomaticnetwork.com
SUMMARY:AI in Smart Mobility\, Shaping the Urban Mobility in Singapore
DESCRIPTION:In the fast-evolving landscape of modern transportation\, the intersection of Artificial Intelligence (AI) and Smart Mobility has become a transformative force. \nOur upcoming event aims to delve deeply into the profound influence of AI on Smart Mobility as “Software Defined Vehicles” (SDVs) are more common in coming years. \nThis knowledge-sharing session will facilitate the exchange of insights and experiences related to the application of AI based technologies in the field of Smart Mobility\, including software use in the automobile industry and shared mobility concepts. \nDuring the event\, industry leaders will showcase pioneering AI-driven projects\, products\, and services that are revolutionising urban transportation in Singapore. Attendees will also receive updates on the government’s strides in realising the Smart Mobility 2030 strategy and engage in discussions about AI-related challenges. \nIn addition to exploring these critical themes\, the event aims to provide a platform for industry professionals\, policymakers\, and researchers to network\, collaborate\, and forge beneficial partnerships.
URL:https://thediplomaticnetwork.com/event/ai-in-smart-mobility-shaping-the-urban-mobility-in-singapore/
LOCATION:Singapore
CATEGORIES:Chambers of Commerce,European Chamber of Commerce in Singapore
ATTACH;FMTTYPE=image/png:https://thediplomaticnetwork.com/wp-content/uploads/2023/11/EV23-1121-AI-in-Smart-Mobility-Shaping-the-Urban-Mobility-in-Singapore-3.png
END:VEVENT
BEGIN:VEVENT
DTSTART;VALUE=DATE:20231121
DTEND;VALUE=DATE:20231126
DTSTAMP:20260420T235516
CREATED:20230818T034953Z
LAST-MODIFIED:20230818T064926Z
UID:1808-1700524800-1700956799@thediplomaticnetwork.com
SUMMARY:Pullman Pattaya Invitational Series
DESCRIPTION:“A delightful amateur golf event in vibrant Pattaya [Thailand]. Tee off on some of Thailand’s top golf courses\, alongside fellow enthusiasts of a similar age. Enjoy friendly competition with daily prizes in categories like Nearest The Pin and Longest Drives. Stay at the luxurious Pullman Pattaya Hotel\, where you can relax in comfort\, just a stone’s throw from Pattaya’s many attractions. A blend of competitive golf and Thai hospitality awaits you.” – Golfasian.
URL:https://thediplomaticnetwork.com/event/pullman-pattaya-invitational-series/
CATEGORIES:Golf
ATTACH;FMTTYPE=image/webp:https://thediplomaticnetwork.com/wp-content/uploads/2023/08/thailand-golf-tournaments-logo-web2.webp
END:VEVENT
BEGIN:VEVENT
DTSTART;VALUE=DATE:20231118
DTEND;VALUE=DATE:20240325
DTSTAMP:20260420T235516
CREATED:20231023T035327Z
LAST-MODIFIED:20231023T035327Z
UID:2356-1700265600-1711324799@thediplomaticnetwork.com
SUMMARY:Tropical: Stories from Southeast Asia and Latin America
DESCRIPTION:Tropical: Stories from Southeast Asia and Latin America will be the first large-scale museum exhibition to take a comparative approach across Southeast Asia and Latin America\, uniquely animated by their struggles against colonialism. \nComprising over 200 paintings\, sculptures\, drawings\, performances and sensorial installations\, Tropical spans the 20th century\, tracing how artists from both regions challenged conventions and fostered solidarities\, defiantly reclaiming their place within the story of art.
URL:https://thediplomaticnetwork.com/event/tropical-stories-from-southeast-asia-and-latin-america/
LOCATION:Singapore
CATEGORIES:Chambers of Commerce,Latin American Chamber of Commerce Singapore
ATTACH;FMTTYPE=image/png:https://thediplomaticnetwork.com/wp-content/uploads/2023/10/22f6b349-9cd0-4b10-820b-16e73bcbd705.png
END:VEVENT
BEGIN:VEVENT
DTSTART;TZID=Asia/Shanghai:20231117T090000
DTEND;TZID=Asia/Shanghai:20231117T110000
DTSTAMP:20260420T235516
CREATED:20231107T065555Z
LAST-MODIFIED:20231107T065555Z
UID:2454-1700211600-1700218800@thediplomaticnetwork.com
SUMMARY:Optimisation of Operations (Aerospace)
DESCRIPTION:In the frame of sustainable air travel and on the journey towards clean aerospace\, one important pillar relies on continuously optimising operations to increase further efficiency and reduce emissions. This session will be the opportunity to introduce different innovations in the field of optimisation of operations.
URL:https://thediplomaticnetwork.com/event/optimisation-of-operations-aerospace/
LOCATION:Singapore
CATEGORIES:Chambers of Commerce,European Chamber of Commerce in Singapore
ATTACH;FMTTYPE=image/png:https://thediplomaticnetwork.com/wp-content/uploads/2023/11/EV23-1117-Optimisation-of-Operations-3.png
END:VEVENT
BEGIN:VEVENT
DTSTART;TZID=Asia/Shanghai:20231116T083000
DTEND;TZID=Asia/Shanghai:20231116T103000
DTSTAMP:20260420T235516
CREATED:20231107T065403Z
LAST-MODIFIED:20231107T065403Z
UID:2451-1700123400-1700130600@thediplomaticnetwork.com
SUMMARY:A Fireside Chat on Fintech and Innovation in Europe
DESCRIPTION:The banking sector in Europe has witnessed a remarkable transformation with the widespread adoption of technology. EuroCham Singapore is organising an exclusive fireside chat to coincide with the Singapore FinTech festival. This event aims to discuss Europe’s capacity to foster fintech innovation\, emphasising the importance of policies and regulatory frameworks that support innovation and provide companies with the necessary infrastructure for innovation.
URL:https://thediplomaticnetwork.com/event/a-fireside-chat-on-fintech-and-innovation-in-europe/
LOCATION:Singapore
CATEGORIES:Chambers of Commerce,European Chamber of Commerce in Singapore
ATTACH;FMTTYPE=image/png:https://thediplomaticnetwork.com/wp-content/uploads/2023/11/EV23-1116-Fireside-Chat-on-Fintech-and-Innovation-in-Europe.png
END:VEVENT
BEGIN:VEVENT
DTSTART;VALUE=DATE:20231116
DTEND;VALUE=DATE:20231118
DTSTAMP:20260420T235516
CREATED:20231023T034834Z
LAST-MODIFIED:20231023T035657Z
UID:2349-1700092800-1700265599@thediplomaticnetwork.com
SUMMARY:International Entrepreneurship & Innovation Summit
DESCRIPTION:The Latin American Chamber of Commerce and EtM invite you to participate in ETM Day. \nETM Day is the international entrepreneurship and innovation summit that takes place in Santiago de Chile​ ​​from​ 16 ​to​ 17 November​ 2023. This informal and ultra-cool event will gather entrepreneurs\, corporates\, mentors and investors to connect and meet. \n​Last year ETM Day gathered over 20\,000 attendees and delivered over 5\,000 business meetings (one-to-one) and 1\,200 mentorship commitments. \n​This year we are expecting 25\,000 attendees! If you are interested please sign up here and we will get back to you with more details. \nThe event is free of charge but you must cover your traveling expenses.
URL:https://thediplomaticnetwork.com/event/international-entrepreneurship-innovation-summit/
LOCATION:Santiago\, Chile
CATEGORIES:Chambers of Commerce,Latin American Chamber of Commerce Singapore
END:VEVENT
BEGIN:VEVENT
DTSTART;VALUE=DATE:20231115
DTEND;VALUE=DATE:20231118
DTSTAMP:20260420T235516
CREATED:20231023T034630Z
LAST-MODIFIED:20231023T034630Z
UID:2347-1700006400-1700265599@thediplomaticnetwork.com
SUMMARY:Singapore Fintech Festival 2023
DESCRIPTION:The LatAmCham is pleased to partner with the Singapore Fintech Festival. \nThe 8th edition of the Singapore FinTech Festival (SFF) will take place from 15 -17 November 2023 at the Singapore EXPO. SFF 2023 will focus on the growth and adoption of Artificial Intelligence and how this technology can potentially be used in financial services. As the world’s most impactful FinTech event\, last year’s edition brought together over 62\,000 participants from 134 countries. SFF is organised by the Monetary Authority of Singapore\, Elevandi and Constellar and in collaboration with The Association of Banks in Singapore.
URL:https://thediplomaticnetwork.com/event/singapore-fintech-festival-2023/
LOCATION:Singapore
CATEGORIES:Chambers of Commerce,Latin American Chamber of Commerce Singapore
END:VEVENT
BEGIN:VEVENT
DTSTART;VALUE=DATE:20231111
DTEND;VALUE=DATE:20231112
DTSTAMP:20260420T235516
CREATED:20230402T204031Z
LAST-MODIFIED:20230402T204031Z
UID:825-1699660800-1699747199@thediplomaticnetwork.com
SUMMARY:National Day: Republic of Angola\, 2023
DESCRIPTION:
URL:https://thediplomaticnetwork.com/event/national-day-republic-of-angola-2023-2/
CATEGORIES:National Days
ATTACH;FMTTYPE=image/svg+xml:https://thediplomaticnetwork.com/wp-content/uploads/2023/03/Republic-of-Angola-National-Flag.svg
END:VEVENT
BEGIN:VEVENT
DTSTART;VALUE=DATE:20231109
DTEND;VALUE=DATE:20231110
DTSTAMP:20260420T235516
CREATED:20230330T002250Z
LAST-MODIFIED:20230402T204029Z
UID:656-1699488000-1699574399@thediplomaticnetwork.com
SUMMARY:National Day: Kingdom of Cambodia\, 2023
DESCRIPTION:
URL:https://thediplomaticnetwork.com/event/national-day-kingdom-of-cambodia-2023-2/
CATEGORIES:National Days
ATTACH;FMTTYPE=image/svg+xml:https://thediplomaticnetwork.com/wp-content/uploads/2023/03/Kingdom-of-Cambodia-National-Flag.svg
END:VEVENT
BEGIN:VEVENT
DTSTART;TZID=Asia/Shanghai:20231107T083000
DTEND;TZID=Asia/Shanghai:20231107T103000
DTSTAMP:20260420T235516
CREATED:20231017T080704Z
LAST-MODIFIED:20231017T080704Z
UID:2306-1699345800-1699353000@thediplomaticnetwork.com
SUMMARY:Advancing Digital Trade: Exploring Legal Progress & Future Prospects
DESCRIPTION:The digital trade landscape is rapidly evolving\, driven by the need for efficiency\, economic benefits\, and global collaboration.\n\n\n\n\n\n\n\n\nThis event aims to shed light on the legal developments in digital trade\, with a particular focus on the UNCITRAL Model Law on Electronic Transferable Records (MLETR) and the UNCITRAL Model Law on the Use and Cross-Border Recognition of Identity Management and Trust Services (MLIT). The UNCITRAL Model Laws serve as a global framework that provides a foundation for bilateral agreements and other advancements made by countries in the realm of digital trade.
URL:https://thediplomaticnetwork.com/event/advancing-digital-trade-exploring-legal-progress-future-prospects/
LOCATION:Singapore
CATEGORIES:Chambers of Commerce,European Chamber of Commerce in Singapore
ATTACH;FMTTYPE=image/png:https://thediplomaticnetwork.com/wp-content/uploads/2023/10/CO23-1107-Advancing-Digital-Trade-Exploring-Legal-Progress-and-Future-Prospects.png
END:VEVENT
BEGIN:VEVENT
DTSTART;VALUE=DATE:20231106
DTEND;VALUE=DATE:20231108
DTSTAMP:20260420T235516
CREATED:20231023T034236Z
LAST-MODIFIED:20231023T034236Z
UID:2342-1699228800-1699401599@thediplomaticnetwork.com
SUMMARY:BCB Bar Convent Singapore
DESCRIPTION:Únetenos al primer pabellón Latinoamericano en Bar Convent Singapore 2023\, una oportunidad única para dar a conocer tu marca de bebida alcohólica en la convención más grande de la industria\, en condiciones muy favorables\, gracias a la colaboración entre la Cámara Latinoamericana y Bar Convent. \nVen\, anímate a explorar este mercado.
URL:https://thediplomaticnetwork.com/event/bcb-bar-convent-singapore/
LOCATION:Singapore
CATEGORIES:Latin American Chamber of Commerce Singapore
ATTACH;FMTTYPE=image/png:https://thediplomaticnetwork.com/wp-content/uploads/2023/10/19cdbd34-d4e3-4799-a409-5196823aedb1.png
END:VEVENT
BEGIN:VEVENT
DTSTART;VALUE=DATE:20231106
DTEND;VALUE=DATE:20231116
DTSTAMP:20260420T235516
CREATED:20231023T034428Z
LAST-MODIFIED:20231023T035613Z
UID:2345-1699228800-1700092799@thediplomaticnetwork.com
SUMMARY:Coffee Sourcing Trade Mission
DESCRIPTION:Please register your interest in the Coffee Sourcing Trade Mission to Belo Horizonte\, Minas Gerais in Brazil and Quindio\, Colombia. \nThe Latin American Chamber of Commerce is organizing a trade mission to visit the International Coffee Week in Belo Horizonte\, Minas Gerais in Brazil. \nThe International Coffee Week (SIC) is one of the largest fairs in the world and a perfect space to meet professionals participating in the supply chain of Brazilian coffee\, farmers\, traders\, baristas\, and technologies in the industry. \nSIC offers cutting-edge content for industry professionals in lectures\, courses\, workshops\, competitions\, coffee tastings\, research and guided tastings. \n\n\n\n\nThe Singapore delegates will be able to participate in exclusive networking events and coffee tastings and visit farms and production/storage facilities. \nDelegates have the option to continue their sourcing trip to Colombia where they will participate in a curated business mission with coffee growers and meet with key cooperatives and coffee industries in Colombia in Bogota (the capital city) and finish the visit in the coffee region visiting farms in Quindio.
URL:https://thediplomaticnetwork.com/event/coffee-sourcing-trade-mission/
LOCATION:Belo Horizonte\, Brazil
CATEGORIES:Chambers of Commerce,Latin American Chamber of Commerce Singapore
END:VEVENT
BEGIN:VEVENT
DTSTART;TZID=Asia/Shanghai:20231104T120000
DTEND;TZID=Asia/Shanghai:20231105T010000
DTSTAMP:20260420T235516
CREATED:20231018T054120Z
LAST-MODIFIED:20231018T054120Z
UID:2310-1699099200-1699146000@thediplomaticnetwork.com
SUMMARY:Celebrating Africa
DESCRIPTION:Exciting news! We’re thrilled to showcase the incredible talents of Africans from different corners of the world\, alongside African businesses in Singapore. Join us on November 4th for a day filled with delicious African cuisine\, captivating arts and crafts\, exquisite South African wines\, a mesmerizing fashion runway\, electrifying entertainment\, and enlightening talks by our esteemed Ambassadors. The day starts at 12:00 and we’ll conclude with an unforgettable Afrobeats party. \nIn the spirit of Ubuntu\, a percentage of our event’s proceeds will support youth education and orphanages\, offering vital mental health resources\, staff training\, and essential provisions through the MBI-Music charity. For further detail and to get your tickets\, please visit the link below:
URL:https://thediplomaticnetwork.com/event/celebrating-africa/
LOCATION:Singapore
CATEGORIES:Chambers of Commerce,South African Chamber of Commerce Singapore
ATTACH;FMTTYPE=image/jpeg:https://thediplomaticnetwork.com/wp-content/uploads/2023/10/https___cdn.evbuc_.com_images_619763219_1009928727583_1_original.jpg
END:VEVENT
BEGIN:VEVENT
DTSTART;VALUE=DATE:20231103
DTEND;VALUE=DATE:20231104
DTSTAMP:20260420T235516
CREATED:20230330T002248Z
LAST-MODIFIED:20230402T204019Z
UID:655-1698969600-1699055999@thediplomaticnetwork.com
SUMMARY:National Day: Republic of Panama\, 2023
DESCRIPTION:
URL:https://thediplomaticnetwork.com/event/national-day-republic-of-panama-2023-2/
CATEGORIES:National Days
ATTACH;FMTTYPE=image/svg+xml:https://thediplomaticnetwork.com/wp-content/uploads/2023/03/Republic-of-Panama-National-Flag.svg
END:VEVENT
BEGIN:VEVENT
DTSTART;VALUE=DATE:20231103
DTEND;VALUE=DATE:20231104
DTSTAMP:20260420T235516
CREATED:20230330T002246Z
LAST-MODIFIED:20230402T204018Z
UID:654-1698969600-1699055999@thediplomaticnetwork.com
SUMMARY:National Day: Micronesia\, Federated  States of \, 2023
DESCRIPTION:
URL:https://thediplomaticnetwork.com/event/national-day-micronesia-federated-states-of-2023-2/
CATEGORIES:National Days
ATTACH;FMTTYPE=image/svg+xml:https://thediplomaticnetwork.com/wp-content/uploads/2023/03/Micronesia-Federated-States-of-National-Flag.svg
END:VEVENT
BEGIN:VEVENT
DTSTART;TZID=Asia/Shanghai:20231102T180000
DTEND;TZID=Asia/Shanghai:20231102T210000
DTSTAMP:20260420T235516
CREATED:20230906T054700Z
LAST-MODIFIED:20230906T054700Z
UID:2025-1698948000-1698958800@thediplomaticnetwork.com
SUMMARY:EuroCham Sustainability Awards 2023 Gala Dinner
DESCRIPTION:“The European Chamber of Commerce\, Singapore is pleased to announce that Mr Heng Swee Keat\, Deputy Prime Minister\, has accepted to be our Guest of Honour at the EuroCham Sustainability Awards 2023 Gala Dinner. The awards ceremony will be held on the 2nd of November\, 2023 at 6 pm SGT. \nMr Heng Swee Keat will join Her Excellency Iwona Piórko\, Ambassador of the European Union to Singapore and Mr Jens Rübbert\, President of the European Chamber of Commerce\, Singapore in congratulating the five winners of the EuroCham Sustainability Awards 2023.”
URL:https://thediplomaticnetwork.com/event/eurocham-sustainability-awards-2023-gala-dinner/
LOCATION:Singapore
CATEGORIES:European Chamber of Commerce in Singapore
ATTACH;FMTTYPE=image/webp:https://thediplomaticnetwork.com/wp-content/uploads/2023/09/EV23-1102-EuroCham-Awards-Gala-Dinner-9.webp
END:VEVENT
BEGIN:VEVENT
DTSTART;VALUE=DATE:20231029
DTEND;VALUE=DATE:20231030
DTSTAMP:20260420T235516
CREATED:20230330T002245Z
LAST-MODIFIED:20230402T204017Z
UID:653-1698537600-1698623999@thediplomaticnetwork.com
SUMMARY:National Day: Republic of Turkey\, 2023
DESCRIPTION:
URL:https://thediplomaticnetwork.com/event/national-day-republic-of-turkey-2023-2/
CATEGORIES:National Days
ATTACH;FMTTYPE=image/svg+xml:https://thediplomaticnetwork.com/wp-content/uploads/2023/03/Republic-of-Turkey-National-Flag.svg
END:VEVENT
BEGIN:VEVENT
DTSTART;TZID=Asia/Shanghai:20231028T180000
DTEND;TZID=Asia/Shanghai:20231028T233000
DTSTAMP:20260420T235516
CREATED:20231023T034056Z
LAST-MODIFIED:20231023T034056Z
UID:2339-1698516000-1698535800@thediplomaticnetwork.com
SUMMARY:LatAmCham Gala Ball 2023
DESCRIPTION:Join us for an unforgettable night of Latin American splendour at our LatAmCham Gala Ball 2023! \nIn order to ensure that everyone can fully enjoy the evening’s program\, we kindly request all our guests to arrive on time\, by 6:00 pm. Your prompt attendance will contribute to the smooth flow of the event and allow us to kick off the festivities promptly. \nThe esteemed Mr Alvin Tan\, Minister of State\, Ministry of Trade and Industry & Ministry of Culture\, Community and Youth will be joining us as the Guest of Honor. Minister Tan’s presence adds a unique and distinguished touch to our gathering\, and we are honoured to have him join us for this special occasion. \nIndulge in the rich and vibrant flavours of Latin American cuisine\, masterfully crafted by our top Chefs Tamara Chavez\, Daniel Chavez\, Fernando Arevalo and Antonio Benites who will tantalize your taste buds with their culinary expertise.
URL:https://thediplomaticnetwork.com/event/latamcham-gala-ball-2023/
LOCATION:Singapore
CATEGORIES:Latin American Chamber of Commerce Singapore
END:VEVENT
BEGIN:VEVENT
DTSTART;VALUE=DATE:20231028
DTEND;VALUE=DATE:20231029
DTSTAMP:20260420T235516
CREATED:20230330T002243Z
LAST-MODIFIED:20230402T204016Z
UID:652-1698451200-1698537599@thediplomaticnetwork.com
SUMMARY:National Day: Czech Republic\, 2023
DESCRIPTION:
URL:https://thediplomaticnetwork.com/event/national-day-czech-republic-2023-2/
CATEGORIES:National Days
ATTACH;FMTTYPE=image/svg+xml:https://thediplomaticnetwork.com/wp-content/uploads/2023/03/Czech-Republic-National-Flag.svg
END:VEVENT
BEGIN:VEVENT
DTSTART;TZID=Asia/Shanghai:20231026T160000
DTEND;TZID=Asia/Shanghai:20231026T180000
DTSTAMP:20260420T235516
CREATED:20231011T084016Z
LAST-MODIFIED:20231011T084016Z
UID:2282-1698336000-1698343200@thediplomaticnetwork.com
SUMMARY:EU Taxonomy: Shaping a Sustainable Future
DESCRIPTION:Join us at our upcoming event as we delve into the latest developments of the European Union (EU) Taxonomy\, focusing on the significant updates introduced in June 2023. \nWe will explore the EU Taxonomy in depth\, a vital framework for promoting sustainable finance and green bond issuance. As Europe takes a leading role in the global green bond market\, this event aims to provide attendees with a comprehensive understanding of the implications of these developments\, both for stakeholders in Singapore and globally. Our discussion will also involve insights from stakeholders representing ESG rating agencies\, financial institutions\, and asset management.
URL:https://thediplomaticnetwork.com/event/eu-taxonomy-shaping-a-sustainable-future/
LOCATION:Online
CATEGORIES:Chambers of Commerce,European Chamber of Commerce in Singapore
ATTACH;FMTTYPE=image/png:https://thediplomaticnetwork.com/wp-content/uploads/2023/10/EV23-1005-EU-Taxonomy-Shaping-a-Sustainable-Future-1.png
END:VEVENT
BEGIN:VEVENT
DTSTART;VALUE=DATE:20231026
DTEND;VALUE=DATE:20231027
DTSTAMP:20260420T235516
CREATED:20230330T002112Z
LAST-MODIFIED:20230402T204014Z
UID:650-1698278400-1698364799@thediplomaticnetwork.com
SUMMARY:National Day: Republic of Austria\, 2023
DESCRIPTION:
URL:https://thediplomaticnetwork.com/event/national-day-republic-of-austria-2023-2/
CATEGORIES:National Days
ATTACH;FMTTYPE=image/svg+xml:https://thediplomaticnetwork.com/wp-content/uploads/2023/03/Republic-of-Austria-National-Flag.svg
END:VEVENT
BEGIN:VEVENT
DTSTART;VALUE=DATE:20231023
DTEND;VALUE=DATE:20231024
DTSTAMP:20260420T235516
CREATED:20230330T002110Z
LAST-MODIFIED:20230402T204010Z
UID:649-1698019200-1698105599@thediplomaticnetwork.com
SUMMARY:National Day: Republic of Hungary\, 2023
DESCRIPTION:
URL:https://thediplomaticnetwork.com/event/national-day-republic-of-hungary-2023-2/
CATEGORIES:National Days
ATTACH;FMTTYPE=image/svg+xml:https://thediplomaticnetwork.com/wp-content/uploads/2023/03/Republic-of-Hungary-National-Flag.svg
END:VEVENT
BEGIN:VEVENT
DTSTART;TZID=Asia/Shanghai:20231020T160000
DTEND;TZID=Asia/Shanghai:20231020T170000
DTSTAMP:20260420T235516
CREATED:20231011T084343Z
LAST-MODIFIED:20231011T084343Z
UID:2286-1697817600-1697821200@thediplomaticnetwork.com
SUMMARY:The EU Circular Economy Action Plan: Insights & Significance for the Southeast Asian Region
DESCRIPTION:Traditionally\, the global economy has been linear – take\, make\, dispose. However it is reaching its limits and is placing excessive pressure on the environment and jeopardising finite natural resources. Hence\, a global transition to a carbon-neutral\, resource-efficient circular economy is key to fighting climate change\, protecting biodiversity loss while addressing important social needs. \nThe initial Circular Economy Action Plan of the EU\, introduced in 2015\, has exerted a significant influence on a global scale. Its vision to shift towards a circular economy will alleviate strain on natural resources\, foster sustainable growth and boost job creation. This endeavor is also set to expedite the EU’s ambitious goal of achieving climate neutrality by 2050 while simultaneously curbing biodiversity loss.
URL:https://thediplomaticnetwork.com/event/the-eu-circular-economy-action-plan-insights-significance-for-the-southeast-asian-region/
LOCATION:Online
CATEGORIES:Chambers of Commerce,European Chamber of Commerce in Singapore
ATTACH;FMTTYPE=image/png:https://thediplomaticnetwork.com/wp-content/uploads/2023/10/EV23-1020-EBO-ASEAN-Webinar-The-EU-Circular-Economy-Action-Plan-SGT.png
END:VEVENT
BEGIN:VEVENT
DTSTART;TZID=Asia/Shanghai:20231017T210000
DTEND;TZID=Asia/Shanghai:20231017T233000
DTSTAMP:20260420T235516
CREATED:20231023T035111Z
LAST-MODIFIED:20231023T035111Z
UID:2352-1697576400-1697585400@thediplomaticnetwork.com
SUMMARY:Gallery UnderGround
DESCRIPTION:Join the first-ever Gallery Underground! When night falls\, party in the museum with music and complimentary cocktails within our historical walls. You will also be the first to view more than 200 artworks Join the first-ever Gallery Underground! When night falls\, party in the museum with music and complimentary cocktails within our historical walls. You will also be the first to view more than 200 artworks from our blockbuster exhibition\, Tropical: Stories in Southeast Asia and Latin America.from our blockbuster exhibition\, Tropical: Stories in Southeast Asia and Latin America.
URL:https://thediplomaticnetwork.com/event/gallery-underground/
LOCATION:Singapore
CATEGORIES:Chambers of Commerce,Latin American Chamber of Commerce Singapore
ATTACH;FMTTYPE=image/png:https://thediplomaticnetwork.com/wp-content/uploads/2023/10/acef7bac-909c-49bb-956a-12320d916209.png
END:VEVENT
END:VCALENDAR