BEGIN:VCALENDAR
VERSION:2.0
PRODID:-//The Diplomatic Network - ECPv6.15.20//NONSGML v1.0//EN
CALSCALE:GREGORIAN
METHOD:PUBLISH
X-WR-CALNAME:The Diplomatic Network
X-ORIGINAL-URL:https://thediplomaticnetwork.com
X-WR-CALDESC:Events for The Diplomatic Network
REFRESH-INTERVAL;VALUE=DURATION:PT1H
X-Robots-Tag:noindex
X-PUBLISHED-TTL:PT1H
BEGIN:VTIMEZONE
TZID:Asia/Shanghai
BEGIN:STANDARD
TZOFFSETFROM:+0800
TZOFFSETTO:+0800
TZNAME:CST
DTSTART:20220101T000000
END:STANDARD
END:VTIMEZONE
BEGIN:VEVENT
DTSTART;TZID=Asia/Shanghai:20230928T083000
DTEND;TZID=Asia/Shanghai:20230928T110000
DTSTAMP:20260421T081206
CREATED:20230906T054351Z
LAST-MODIFIED:20230906T054351Z
UID:2023-1695889800-1695898800@thediplomaticnetwork.com
SUMMARY:Changing Corporate Payment Landscape in Asia
DESCRIPTION:“During this public event\, we will delve into the evolving dynamics of cross-border payments and data interoperability for corporates in the Asian market. Experts will explore key themes such as speed\, security and the future of development in this rapidly evolving landscape and what it means for corporates.”
URL:https://thediplomaticnetwork.com/event/changing-corporate-payment-landscape-in-asia/
LOCATION:Singapore
CATEGORIES:European Chamber of Commerce in Singapore
ATTACH;FMTTYPE=image/png:https://thediplomaticnetwork.com/wp-content/uploads/2023/09/EV23-0929-Changing-Corporate-Payment-Landscape-in-Asia-14.png
END:VEVENT
BEGIN:VEVENT
DTSTART;TZID=Asia/Shanghai:20230926T160000
DTEND;TZID=Asia/Shanghai:20230926T170000
DTSTAMP:20260421T081206
CREATED:20230905T083828Z
LAST-MODIFIED:20230908T091928Z
UID:1996-1695744000-1695747600@thediplomaticnetwork.com
SUMMARY:Empowering African SMEs: Bridging the Trade Finance Gap
DESCRIPTION:Join the President of the Chamber\, Nigel Ritson\, and Tom James\, CEO of TradeFlow Capital Management for an insightful fireside chat as we delve into the impactful initiatives led by TradeFlow Capital Management in Africa to address the escalating trade finance gap. The trade finance gap has presented significant challenges to Small and Medium-sized Enterprises (SMEs) across the continent\, hindering their growth and potential.
URL:https://thediplomaticnetwork.com/event/empowering-african-smes-bridging-the-trade-finance-gap/
LOCATION:Singapore
CATEGORIES:South African Chamber of Commerce Singapore
ATTACH;FMTTYPE=image/png:https://thediplomaticnetwork.com/wp-content/uploads/2023/09/7d974eb9-05ee-4894-b748-f41201428a5d.png
END:VEVENT
BEGIN:VEVENT
DTSTART;VALUE=DATE:20230923
DTEND;VALUE=DATE:20230924
DTSTAMP:20260421T081206
CREATED:20230330T002048Z
LAST-MODIFIED:20230330T002048Z
UID:643-1695427200-1695513599@thediplomaticnetwork.com
SUMMARY:National Day: Kingdom of Saudi Arabia\, 2023
DESCRIPTION:
URL:https://thediplomaticnetwork.com/event/national-day-kingdom-of-saudi-arabia-2023-2/
CATEGORIES:National Days
ATTACH;FMTTYPE=image/svg+xml:https://thediplomaticnetwork.com/wp-content/uploads/2023/03/Kingdom-of-Saudi-Arabia-National-Flag.svg
END:VEVENT
BEGIN:VEVENT
DTSTART;VALUE=DATE:20230918
DTEND;VALUE=DATE:20230919
DTSTAMP:20260421T081206
CREATED:20230330T002047Z
LAST-MODIFIED:20230330T002047Z
UID:642-1694995200-1695081599@thediplomaticnetwork.com
SUMMARY:National Day: Republic of Chile\, 2023
DESCRIPTION:
URL:https://thediplomaticnetwork.com/event/national-day-republic-of-chile-2023-2/
CATEGORIES:National Days
ATTACH;FMTTYPE=image/svg+xml:https://thediplomaticnetwork.com/wp-content/uploads/2023/03/Republic-of-Chile-National-Flag.svg
END:VEVENT
BEGIN:VEVENT
DTSTART;VALUE=DATE:20230916
DTEND;VALUE=DATE:20230922
DTSTAMP:20260421T081206
CREATED:20230818T034725Z
LAST-MODIFIED:20230818T065223Z
UID:1805-1694822400-1695340799@thediplomaticnetwork.com
SUMMARY:Danang 4 Ball Golf Championship
DESCRIPTION:“The Danang 4 Ball Golf Championship is played across 3 rounds consisting of 2 Person 4 Ball Best Ball\, 2 Person Ambrose & 2 Person Stableford Aggregate. All ages and handicaps welcome. If you come alone as a single\, we’ll find a partner for you.” – Danang 4 Ball Golf Championship.
URL:https://thediplomaticnetwork.com/event/danang-4-ball-golf-championship/
LOCATION:Danang\, Vietnam
CATEGORIES:Golf
ATTACH;FMTTYPE=image/png:https://thediplomaticnetwork.com/wp-content/uploads/2023/08/MicrosoftTeams-image-20.png
END:VEVENT
BEGIN:VEVENT
DTSTART;VALUE=DATE:20230916
DTEND;VALUE=DATE:20230917
DTSTAMP:20260421T081206
CREATED:20230330T002045Z
LAST-MODIFIED:20230330T002045Z
UID:641-1694822400-1694908799@thediplomaticnetwork.com
SUMMARY:National Day: Independent State of Papua New Guinea\, 2023
DESCRIPTION:
URL:https://thediplomaticnetwork.com/event/national-day-independent-state-of-papua-new-guinea-2023-2/
CATEGORIES:National Days
ATTACH;FMTTYPE=image/svg+xml:https://thediplomaticnetwork.com/wp-content/uploads/2023/03/Independent-State-of-Papua-New-Guinea-National-Flag.svg
END:VEVENT
BEGIN:VEVENT
DTSTART;VALUE=DATE:20230916
DTEND;VALUE=DATE:20230917
DTSTAMP:20260421T081206
CREATED:20230330T001954Z
LAST-MODIFIED:20230330T001954Z
UID:639-1694822400-1694908799@thediplomaticnetwork.com
SUMMARY:National Day: United Mexican States\, 2023
DESCRIPTION:
URL:https://thediplomaticnetwork.com/event/national-day-united-mexican-states-2023-2/
CATEGORIES:National Days
ATTACH;FMTTYPE=image/svg+xml:https://thediplomaticnetwork.com/wp-content/uploads/2023/03/United-Mexican-States-National-Flag.svg
END:VEVENT
BEGIN:VEVENT
DTSTART;VALUE=DATE:20230915
DTEND;VALUE=DATE:20230916
DTSTAMP:20260421T081206
CREATED:20230330T001952Z
LAST-MODIFIED:20230330T001952Z
UID:638-1694736000-1694822399@thediplomaticnetwork.com
SUMMARY:National Day: Republic of Costa Rica\, 2023
DESCRIPTION:
URL:https://thediplomaticnetwork.com/event/national-day-republic-of-costa-rica-2023-2/
CATEGORIES:National Days
ATTACH;FMTTYPE=image/svg+xml:https://thediplomaticnetwork.com/wp-content/uploads/2023/03/Republic-of-Costa-Rica-National-Flag.svg
END:VEVENT
BEGIN:VEVENT
DTSTART;VALUE=DATE:20230910
DTEND;VALUE=DATE:20230917
DTSTAMP:20260421T081206
CREATED:20230818T034404Z
LAST-MODIFIED:20230818T064126Z
UID:1803-1694304000-1694908799@thediplomaticnetwork.com
SUMMARY:Vietnam World Masters Golf Championship
DESCRIPTION:“Welcome to the Vietnam World Masters\, a spectacular amateur golf tournament set amidst the breathtaking coast of Danang\, Vietnam. Compete with golf enthusiasts from around the globe on beautifully designed courses that promise an exciting challenge. Off the green\, indulge in vibrant social events and soak up the unique local culture. Your stay will be in one of Vietnam’s finest hotels\, the Pullman Danang Beach Resort\, offering a perfect blend of comfort and luxury. This event is not just about golf\, it’s a fusion of sport\, camaraderie\, and Vietnamese hospitality. Come and join us for an unforgettable golfing experience in Vietnam.” – Golfasian.
URL:https://thediplomaticnetwork.com/event/vietnam-world-masters-golf-championship/
LOCATION:Danang\, Vietnam
CATEGORIES:Golf
ATTACH;FMTTYPE=image/png:https://thediplomaticnetwork.com/wp-content/uploads/2023/08/Accor-Vietnam-World-Masters-Golf-Championship-Logo.png
END:VEVENT
BEGIN:VEVENT
DTSTART;VALUE=DATE:20230909
DTEND;VALUE=DATE:20230910
DTSTAMP:20260421T081206
CREATED:20230330T001950Z
LAST-MODIFIED:20230330T002616Z
UID:637-1694217600-1694303999@thediplomaticnetwork.com
SUMMARY:National Day: Democratic People's Republic of Korea\, 2023
DESCRIPTION:
URL:https://thediplomaticnetwork.com/event/national-day-democratic-peoples-republic-of-korea-2023-2/
CATEGORIES:National Days
ATTACH;FMTTYPE=image/svg+xml:https://thediplomaticnetwork.com/wp-content/uploads/2023/03/Democratic-Peoples-Republic-of-Korea-National-Flag.svg
END:VEVENT
BEGIN:VEVENT
DTSTART;TZID=Asia/Shanghai:20230908T183000
DTEND;TZID=Asia/Shanghai:20230908T203000
DTSTAMP:20260421T081206
CREATED:20230905T083613Z
LAST-MODIFIED:20230905T083613Z
UID:1992-1694197800-1694205000@thediplomaticnetwork.com
SUMMARY:Inter-Chamber Rugby World Cup 2023 Networking Event
DESCRIPTION:We are excited to present the Inter-Chamber Rugby World Cup Networking Event\, bringing together various Chambers of Commerce in Singapore to celebrate the start of the Rugby World Cup 2023. This unique event aims to foster camaraderie\, encourage networking\, and strengthen business connections among the participating Chambers while enjoying the thrilling sportsmanship of rugby. \nSadly due to different time zones\, we will not be watching the game. However\, join us for a fun evening\, connecting over great food and drinks\, and go in the draw to win one of the many Lucky Door prizes! \nSecure your spot now – tickets are likely to sell out! \nThe ticket includes 2 hours of free-flow beer\, wine\, soft drinks\, & canapés.
URL:https://thediplomaticnetwork.com/event/inter-chamber-rugby-world-cup-2023-networking-event/
LOCATION:Singapore
CATEGORIES:South African Chamber of Commerce Singapore
ATTACH;FMTTYPE=image/png:https://thediplomaticnetwork.com/wp-content/uploads/2023/09/509ca0b8-ca78-472b-a353-7245129a0ce0.png
END:VEVENT
BEGIN:VEVENT
DTSTART;VALUE=DATE:20230907
DTEND;VALUE=DATE:20230908
DTSTAMP:20260421T081206
CREATED:20230822T075829Z
LAST-MODIFIED:20230822T075829Z
UID:1879-1694044800-1694131199@thediplomaticnetwork.com
SUMMARY:18th East Asia Summit
DESCRIPTION:The East Asia Summit is a regional leaders’ forum for strategic dialogue and cooperation on key challenges facing the East Asian region.
URL:https://thediplomaticnetwork.com/event/18th-east-asia-summit/
LOCATION:Jakarta\, Indonesia
CATEGORIES:ASEAN
END:VEVENT
BEGIN:VEVENT
DTSTART;VALUE=DATE:20230907
DTEND;VALUE=DATE:20230908
DTSTAMP:20260421T081206
CREATED:20230330T001949Z
LAST-MODIFIED:20230330T001949Z
UID:636-1694044800-1694131199@thediplomaticnetwork.com
SUMMARY:National Day: Federative Republic of Brazil\, 2023
DESCRIPTION:
URL:https://thediplomaticnetwork.com/event/national-day-federative-republic-of-brazil-2023-2/
CATEGORIES:National Days
ATTACH;FMTTYPE=image/svg+xml:https://thediplomaticnetwork.com/wp-content/uploads/2023/03/Federative-Republic-of-Brazil-National-Flag.svg
END:VEVENT
BEGIN:VEVENT
DTSTART;VALUE=DATE:20230906
DTEND;VALUE=DATE:20230907
DTSTAMP:20260421T081206
CREATED:20230330T001947Z
LAST-MODIFIED:20230330T001947Z
UID:635-1693958400-1694044799@thediplomaticnetwork.com
SUMMARY:National Day: Republic of Estonia\, 2023
DESCRIPTION:
URL:https://thediplomaticnetwork.com/event/national-day-republic-of-estonia-2023-2/
CATEGORIES:National Days
ATTACH;FMTTYPE=image/svg+xml:https://thediplomaticnetwork.com/wp-content/uploads/2023/03/Republic-of-Estonia-National-Flag.svg
END:VEVENT
BEGIN:VEVENT
DTSTART;VALUE=DATE:20230904
DTEND;VALUE=DATE:20230908
DTSTAMP:20260421T081206
CREATED:20230901T061744Z
LAST-MODIFIED:20230901T061744Z
UID:1969-1693785600-1694131199@thediplomaticnetwork.com
SUMMARY:ASEAN Foreign Ministers' Meeting
DESCRIPTION:
URL:https://thediplomaticnetwork.com/event/asean-foreign-ministers-meeting/
LOCATION:Jakarta\, Indonesia
CATEGORIES:ASEAN
END:VEVENT
BEGIN:VEVENT
DTSTART;VALUE=DATE:20230904
DTEND;VALUE=DATE:20230908
DTSTAMP:20260421T081206
CREATED:20230901T061423Z
LAST-MODIFIED:20230901T061423Z
UID:1966-1693785600-1694131199@thediplomaticnetwork.com
SUMMARY:43rd ASEAN Summit and Related Summits
DESCRIPTION:
URL:https://thediplomaticnetwork.com/event/43rd-asean-summit-and-related-summits/
LOCATION:Jakarta\, Indonesia
CATEGORIES:ASEAN
END:VEVENT
BEGIN:VEVENT
DTSTART;VALUE=DATE:20230903
DTEND;VALUE=DATE:20230910
DTSTAMP:20260421T081206
CREATED:20230802T005134Z
LAST-MODIFIED:20230818T064400Z
UID:1724-1693699200-1694303999@thediplomaticnetwork.com
SUMMARY:Pattaya Mens Open Golf Week
DESCRIPTION:Enjoy a friendly competition playing 1 round each at 4 of the top courses in Pattaya – Laem Chabang and Siam  Plantation\, Rolling Hills and Chee Chan. \nCompetitors will play in groups of 4 with other single entrants of a similar age. \nThe tournament will be conducted as a single Stableford competition. Winners to be determined by the highest aggregate of Stableford points daily. \nPrizes will also be awarded daily for Nearest The Pin\, Longest Drives\, Straightest Drive and other fun competition.
URL:https://thediplomaticnetwork.com/event/pattaya-mens-open-golf-week/
LOCATION:Pattaya\, Thailand
CATEGORIES:Golf
ATTACH;FMTTYPE=image/webp:https://thediplomaticnetwork.com/wp-content/uploads/2023/08/mercure-pattaya-mens-golf-week-logo-s.webp
END:VEVENT
BEGIN:VEVENT
DTSTART;VALUE=DATE:20230902
DTEND;VALUE=DATE:20230903
DTSTAMP:20260421T081206
CREATED:20230330T001932Z
LAST-MODIFIED:20230330T001932Z
UID:634-1693612800-1693699199@thediplomaticnetwork.com
SUMMARY:National Day: Socialist Republic of Vietnam\, 2023
DESCRIPTION:
URL:https://thediplomaticnetwork.com/event/national-day-socialist-republic-of-vietnam-2023-2/
CATEGORIES:National Days
ATTACH;FMTTYPE=image/svg+xml:https://thediplomaticnetwork.com/wp-content/uploads/2023/03/Socialist-Republic-of-Vietnam-National-Flag.svg
END:VEVENT
BEGIN:VEVENT
DTSTART;VALUE=DATE:20230901
DTEND;VALUE=DATE:20230902
DTSTAMP:20260421T081206
CREATED:20230330T001930Z
LAST-MODIFIED:20230330T001930Z
UID:633-1693526400-1693612799@thediplomaticnetwork.com
SUMMARY:National Day: Republic of Uzbekistan\, 2023
DESCRIPTION:
URL:https://thediplomaticnetwork.com/event/national-day-republic-of-uzbekistan-2023-2/
CATEGORIES:National Days
ATTACH;FMTTYPE=image/svg+xml:https://thediplomaticnetwork.com/wp-content/uploads/2023/03/Republic-of-Uzbekistan-National-Flag.svg
END:VEVENT
BEGIN:VEVENT
DTSTART;VALUE=DATE:20230831
DTEND;VALUE=DATE:20230901
DTSTAMP:20260421T081206
CREATED:20230330T001928Z
LAST-MODIFIED:20230330T001928Z
UID:632-1693440000-1693526399@thediplomaticnetwork.com
SUMMARY:National Day: Malaysia\, 2023
DESCRIPTION:
URL:https://thediplomaticnetwork.com/event/national-day-malaysia-2023-2/
CATEGORIES:National Days
ATTACH;FMTTYPE=image/svg+xml:https://thediplomaticnetwork.com/wp-content/uploads/2023/03/Malaysia-National-Flag.svg
END:VEVENT
BEGIN:VEVENT
DTSTART;VALUE=DATE:20230824
DTEND;VALUE=DATE:20230825
DTSTAMP:20260421T081206
CREATED:20230330T001926Z
LAST-MODIFIED:20230330T002240Z
UID:631-1692835200-1692921599@thediplomaticnetwork.com
SUMMARY:National Day: Ukraine \, 2023
DESCRIPTION:
URL:https://thediplomaticnetwork.com/event/national-day-ukraine-2023-2/
CATEGORIES:National Days
ATTACH;FMTTYPE=image/svg+xml:https://thediplomaticnetwork.com/wp-content/uploads/2023/03/Ukraine-National-Flag.svg
END:VEVENT
BEGIN:VEVENT
DTSTART;VALUE=DATE:20230817
DTEND;VALUE=DATE:20230818
DTSTAMP:20260421T081206
CREATED:20230330T001925Z
LAST-MODIFIED:20230330T001925Z
UID:630-1692230400-1692316799@thediplomaticnetwork.com
SUMMARY:National Day: Republic of Indonesia\, 2023
DESCRIPTION:
URL:https://thediplomaticnetwork.com/event/national-day-republic-of-indonesia-2023-2/
CATEGORIES:National Days
ATTACH;FMTTYPE=image/svg+xml:https://thediplomaticnetwork.com/wp-content/uploads/2023/03/Republic-of-Indonesia-National-Flag.svg
END:VEVENT
BEGIN:VEVENT
DTSTART;VALUE=DATE:20230815
DTEND;VALUE=DATE:20230816
DTSTAMP:20260421T081206
CREATED:20230330T001900Z
LAST-MODIFIED:20230330T001915Z
UID:624-1692057600-1692143999@thediplomaticnetwork.com
SUMMARY:National Day: Republic of Congo\, 2023
DESCRIPTION:
URL:https://thediplomaticnetwork.com/event/national-day-republic-of-congo-2023-2/
CATEGORIES:National Days
ATTACH;FMTTYPE=image/svg+xml:https://thediplomaticnetwork.com/wp-content/uploads/2023/03/Republic-of-Congo-National-Flag.svg
END:VEVENT
BEGIN:VEVENT
DTSTART;VALUE=DATE:20230801
DTEND;VALUE=DATE:20230802
DTSTAMP:20260421T081206
CREATED:20230330T001858Z
LAST-MODIFIED:20230330T001914Z
UID:623-1690848000-1690934399@thediplomaticnetwork.com
SUMMARY:National Day: Swiss Confederation\, 2023
DESCRIPTION:
URL:https://thediplomaticnetwork.com/event/national-day-swiss-confederation-2023-2/
CATEGORIES:National Days
ATTACH;FMTTYPE=image/svg+xml:https://thediplomaticnetwork.com/wp-content/uploads/2023/03/Swiss-Confederation-National-Flag.svg
END:VEVENT
BEGIN:VEVENT
DTSTART;VALUE=DATE:20230728
DTEND;VALUE=DATE:20230729
DTSTAMP:20260421T081206
CREATED:20230330T001856Z
LAST-MODIFIED:20230330T001912Z
UID:622-1690502400-1690588799@thediplomaticnetwork.com
SUMMARY:National Day: Republic of Peru\, 2023
DESCRIPTION:
URL:https://thediplomaticnetwork.com/event/national-day-republic-of-peru-2023-2/
CATEGORIES:National Days
ATTACH;FMTTYPE=image/svg+xml:https://thediplomaticnetwork.com/wp-content/uploads/2023/03/Republic-of-Peru-National-Flag.svg
END:VEVENT
BEGIN:VEVENT
DTSTART;VALUE=DATE:20230726
DTEND;VALUE=DATE:20230727
DTSTAMP:20260421T081206
CREATED:20230330T001854Z
LAST-MODIFIED:20230330T001911Z
UID:621-1690329600-1690415999@thediplomaticnetwork.com
SUMMARY:National Day: Republic of Maldives\, 2023
DESCRIPTION:
URL:https://thediplomaticnetwork.com/event/national-day-republic-of-maldives-2023-2/
CATEGORIES:National Days
ATTACH;FMTTYPE=image/svg+xml:https://thediplomaticnetwork.com/wp-content/uploads/2023/03/Republic-of-Maldives-National-Flag.svg
END:VEVENT
BEGIN:VEVENT
DTSTART;VALUE=DATE:20230723
DTEND;VALUE=DATE:20230724
DTSTAMP:20260421T081206
CREATED:20230330T001853Z
LAST-MODIFIED:20230330T001910Z
UID:620-1690070400-1690156799@thediplomaticnetwork.com
SUMMARY:National Day: Arab Republic of Egypt\, 2023
DESCRIPTION:
URL:https://thediplomaticnetwork.com/event/national-day-arab-republic-of-egypt-2023-2/
CATEGORIES:National Days
ATTACH;FMTTYPE=image/svg+xml:https://thediplomaticnetwork.com/wp-content/uploads/2023/03/Arab-Republic-of-Egypt-National-Flag.svg
END:VEVENT
BEGIN:VEVENT
DTSTART;VALUE=DATE:20230721
DTEND;VALUE=DATE:20230722
DTSTAMP:20260421T081206
CREATED:20230330T001800Z
LAST-MODIFIED:20230330T001812Z
UID:612-1689897600-1689983999@thediplomaticnetwork.com
SUMMARY:National Day: Kingdom of Belgium\, 2023
DESCRIPTION:
URL:https://thediplomaticnetwork.com/event/national-day-kingdom-of-belgium-2023-2/
CATEGORIES:National Days
ATTACH;FMTTYPE=image/svg+xml:https://thediplomaticnetwork.com/wp-content/uploads/2023/03/Kingdom-of-Belgium-National-Flag.svg
END:VEVENT
BEGIN:VEVENT
DTSTART;VALUE=DATE:20230720
DTEND;VALUE=DATE:20230721
DTSTAMP:20260421T081206
CREATED:20230330T001758Z
LAST-MODIFIED:20230330T001810Z
UID:611-1689811200-1689897599@thediplomaticnetwork.com
SUMMARY:National Day: Republic of Colombia\, 2023
DESCRIPTION:
URL:https://thediplomaticnetwork.com/event/national-day-republic-of-colombia-2023-2/
CATEGORIES:National Days
ATTACH;FMTTYPE=image/svg+xml:https://thediplomaticnetwork.com/wp-content/uploads/2023/03/Republic-of-Colombia-National-Flag.svg
END:VEVENT
BEGIN:VEVENT
DTSTART;VALUE=DATE:20230714
DTEND;VALUE=DATE:20230715
DTSTAMP:20260421T081206
CREATED:20230330T001757Z
LAST-MODIFIED:20230330T001809Z
UID:610-1689292800-1689379199@thediplomaticnetwork.com
SUMMARY:National Day: French Republic\, 2023
DESCRIPTION:
URL:https://thediplomaticnetwork.com/event/national-day-french-republic-2023-2/
CATEGORIES:National Days
ATTACH;FMTTYPE=image/svg+xml:https://thediplomaticnetwork.com/wp-content/uploads/2023/03/French-Republic-National-Flag.svg
END:VEVENT
END:VCALENDAR