BEGIN:VCALENDAR
VERSION:2.0
PRODID:-//The Diplomatic Network - ECPv6.15.20//NONSGML v1.0//EN
CALSCALE:GREGORIAN
METHOD:PUBLISH
X-WR-CALNAME:The Diplomatic Network
X-ORIGINAL-URL:https://thediplomaticnetwork.com
X-WR-CALDESC:Events for The Diplomatic Network
REFRESH-INTERVAL;VALUE=DURATION:PT1H
X-Robots-Tag:noindex
X-PUBLISHED-TTL:PT1H
BEGIN:VTIMEZONE
TZID:Asia/Singapore
BEGIN:STANDARD
TZOFFSETFROM:+0800
TZOFFSETTO:+0800
TZNAME:+08
DTSTART:20230101T000000
END:STANDARD
END:VTIMEZONE
BEGIN:VTIMEZONE
TZID:Asia/Shanghai
BEGIN:STANDARD
TZOFFSETFROM:+0800
TZOFFSETTO:+0800
TZNAME:CST
DTSTART:20230101T000000
END:STANDARD
END:VTIMEZONE
BEGIN:VEVENT
DTSTART;VALUE=DATE:20240711
DTEND;VALUE=DATE:20240712
DTSTAMP:20260420T065809
CREATED:20240215T184752Z
LAST-MODIFIED:20240215T184752Z
UID:2976-1720656000-1720742399@thediplomaticnetwork.com
SUMMARY:National Day: Mongolia\, 2024
DESCRIPTION:
URL:https://thediplomaticnetwork.com/event/national-day-mongolia-2024/
CATEGORIES:National Days
ATTACH;FMTTYPE=image/svg+xml:https://thediplomaticnetwork.com/wp-content/uploads/2023/03/Mongolia-National-Flag.svg
END:VEVENT
BEGIN:VEVENT
DTSTART;VALUE=DATE:20240705
DTEND;VALUE=DATE:20240706
DTSTAMP:20260420T065809
CREATED:20240215T184749Z
LAST-MODIFIED:20240215T184749Z
UID:2975-1720137600-1720223999@thediplomaticnetwork.com
SUMMARY:National Day: Bolivarian Republic of Venezuela\, 2024
DESCRIPTION:
URL:https://thediplomaticnetwork.com/event/national-day-bolivarian-republic-of-venezuela-2024/
CATEGORIES:National Days
ATTACH;FMTTYPE=image/svg+xml:https://thediplomaticnetwork.com/wp-content/uploads/2023/03/Bolivarian-Republic-of-Venezuela-National-Flag.svg
END:VEVENT
BEGIN:VEVENT
DTSTART;VALUE=DATE:20240704
DTEND;VALUE=DATE:20240705
DTSTAMP:20260420T065809
CREATED:20240215T184737Z
LAST-MODIFIED:20240215T184737Z
UID:2973-1720051200-1720137599@thediplomaticnetwork.com
SUMMARY:National Day: United States of America\, 2024
DESCRIPTION:
URL:https://thediplomaticnetwork.com/event/national-day-united-states-of-america-2024/
CATEGORIES:National Days
ATTACH;FMTTYPE=image/svg+xml:https://thediplomaticnetwork.com/wp-content/uploads/2023/03/United-States-of-America-National-Flag.svg
END:VEVENT
BEGIN:VEVENT
DTSTART;VALUE=DATE:20240704
DTEND;VALUE=DATE:20240705
DTSTAMP:20260420T065809
CREATED:20240215T184736Z
LAST-MODIFIED:20240215T184736Z
UID:2972-1720051200-1720137599@thediplomaticnetwork.com
SUMMARY:National Day: Republic of Rwanda\, 2024
DESCRIPTION:
URL:https://thediplomaticnetwork.com/event/national-day-republic-of-rwanda-2024/
CATEGORIES:National Days
ATTACH;FMTTYPE=image/svg+xml:https://thediplomaticnetwork.com/wp-content/uploads/2023/03/Republic-of-Rwanda-National-Flag.svg
END:VEVENT
BEGIN:VEVENT
DTSTART;VALUE=DATE:20240701
DTEND;VALUE=DATE:20240705
DTSTAMP:20260420T065809
CREATED:20240215T183245Z
LAST-MODIFIED:20240215T183245Z
UID:2921-1719792000-1720137599@thediplomaticnetwork.com
SUMMARY:ILTM Asia Pacific
DESCRIPTION:
URL:https://thediplomaticnetwork.com/event/iltm-asia-pacific/
CATEGORIES:Travel
ATTACH;FMTTYPE=image/png:https://thediplomaticnetwork.com/wp-content/uploads/2024/02/ITLS_ASIA_Logo.png
END:VEVENT
BEGIN:VEVENT
DTSTART;VALUE=DATE:20240701
DTEND;VALUE=DATE:20240702
DTSTAMP:20260420T065809
CREATED:20240215T184735Z
LAST-MODIFIED:20240215T184735Z
UID:2971-1719792000-1719878399@thediplomaticnetwork.com
SUMMARY:National Day: Dominion of Canada\, 2024
DESCRIPTION:
URL:https://thediplomaticnetwork.com/event/national-day-dominion-of-canada-2024/
CATEGORIES:National Days
ATTACH;FMTTYPE=image/svg+xml:https://thediplomaticnetwork.com/wp-content/uploads/2023/03/Dominion-of-Canada-National-Flag.svg
END:VEVENT
BEGIN:VEVENT
DTSTART;TZID=Asia/Shanghai:20240626T160000
DTEND;TZID=Asia/Shanghai:20240626T170000
DTSTAMP:20260420T065809
CREATED:20240617T062821Z
LAST-MODIFIED:20240617T062821Z
UID:3839-1719417600-1719421200@thediplomaticnetwork.com
SUMMARY:Bias in AI and the Impact on Gender Parity
DESCRIPTION:Join the SAChamber and esteemed speaker Simon Bernie\, Vice President at Purview for a relevant and insightful webinar on raising awareness of AI along with a how-to guide to becoming proficient in navigating the rapidly changing landscape. \nSimon will share on: \n\nWhat AI means\nWhat Bias inside AI is\nHow to stay ahead while using AI\nExamples on Generative AI\, Image Creation\, Copilot Assistants\, and Application Tracking Systems (ATS)\n\nWe look forward to seeing you there!
URL:https://thediplomaticnetwork.com/event/bias-in-ai-and-the-impact-on-gender-parity/
LOCATION:Online
CATEGORIES:South African Chamber of Commerce Singapore
END:VEVENT
BEGIN:VEVENT
DTSTART;VALUE=DATE:20240625
DTEND;VALUE=DATE:20240626
DTSTAMP:20260420T065809
CREATED:20240215T184734Z
LAST-MODIFIED:20240215T184734Z
UID:2970-1719273600-1719359999@thediplomaticnetwork.com
SUMMARY:National Day: Croatia\, 2024
DESCRIPTION:
URL:https://thediplomaticnetwork.com/event/national-day-croatia-2024/
CATEGORIES:National Days
ATTACH;FMTTYPE=image/svg+xml:https://thediplomaticnetwork.com/wp-content/uploads/2023/03/Croatia-National-Flag.svg
END:VEVENT
BEGIN:VEVENT
DTSTART;VALUE=DATE:20240619
DTEND;VALUE=DATE:20240621
DTSTAMP:20260420T065809
CREATED:20240215T183244Z
LAST-MODIFIED:20240215T192014Z
UID:2920-1718755200-1718927999@thediplomaticnetwork.com
SUMMARY:Business Travel Show Europe
DESCRIPTION:
URL:https://thediplomaticnetwork.com/event/business-travel-show-europe/
CATEGORIES:Travel
ATTACH;FMTTYPE=image/png:https://thediplomaticnetwork.com/wp-content/uploads/2024/02/btse30_Logo-removebg-preview.png
END:VEVENT
BEGIN:VEVENT
DTSTART;VALUE=DATE:20240619
DTEND;VALUE=DATE:20240621
DTSTAMP:20260420T065809
CREATED:20240215T183043Z
LAST-MODIFIED:20240215T183043Z
UID:2919-1718755200-1718927999@thediplomaticnetwork.com
SUMMARY:Business Events Industry Aotearoa Meetings 2024
DESCRIPTION:
URL:https://thediplomaticnetwork.com/event/business-events-industry-aotearoa-meetings-2024/
CATEGORIES:Travel
ATTACH;FMTTYPE=image/png:https://thediplomaticnetwork.com/wp-content/uploads/2024/02/beia-Logo.png
END:VEVENT
BEGIN:VEVENT
DTSTART;TZID=Asia/Shanghai:20240618T040000
DTEND;TZID=Asia/Shanghai:20240618T170000
DTSTAMP:20260420T065809
CREATED:20240610T055039Z
LAST-MODIFIED:20240610T055039Z
UID:3773-1718683200-1718730000@thediplomaticnetwork.com
SUMMARY:Impact & Significance of the EU CBAM on Businesses in Singapore and Southeast Asia with DG Taxud
DESCRIPTION:In October 2023\, the EU Carbon Border Adjustment Mechanism (CBAM) entered into its transitional phase. A mechanism that aims to incentivise exporting countries to decarbonise their carbon-intensive goods entering the EU market (cement\, iron and steel\, aluminium\, fertilisers\, electricity and hydrogen in preliminary stages)\, will shape the existing trade dynamics and accelerate sustainable development worldwide. Strong trade ties between Europe and Southeast Asia suggest the countries are expected to see an impact – some minimal and some more severe due to their significant export of goods covered under CBAM. \nThis webinar\, a second in the series of events on Carbon Pricing\, will explore: \n\nThe mechanics of CBAM from the transitional phase to its implementation in 2026\nHow companies can mitigate risks and assess opportunities\nBroader implications for the region and existing and potential domestic carbon policy frameworks
URL:https://thediplomaticnetwork.com/event/impact-significance-of-the-eu-cbam-on-businesses-in-singapore-and-southeast-asia-with-dg-taxud/
LOCATION:Online
CATEGORIES:Chambers of Commerce,European Chamber of Commerce in Singapore
ATTACH;FMTTYPE=image/png:https://thediplomaticnetwork.com/wp-content/uploads/2024/06/EV24-0618-Impact-and-Significance-of-the-EU-CBAM-on-Businesses-in-Singapore-and-Southeast-Asia-with-DG-TAXUD-3.png
END:VEVENT
BEGIN:VEVENT
DTSTART;VALUE=DATE:20240616
DTEND;VALUE=DATE:20240623
DTSTAMP:20260420T065809
CREATED:20240115T055126Z
LAST-MODIFIED:20240115T055126Z
UID:2690-1718496000-1719100799@thediplomaticnetwork.com
SUMMARY:Avani Pattaya 2 Ball Golf Championship
DESCRIPTION:“Joining you in Pattaya Thailand will be golfers from around the world who share your love of the game and your thirst for fun. \nPlaying as a team of two\, bring along your favourite golfing partner\, or register on your own and we will allocate a suitable partner. The exciting competition format including 2 rounds of best ball stableford\, ambrose and stableford aggregate. There’s an extensive prize table\, quality gift pack\, sensational lucky draw prizes and the nightly parties and entertainment are great fun. \nAt the heart of the event’s success is the camaraderie developed among participants. This is where lifelong friendships are forged.”
URL:https://thediplomaticnetwork.com/event/avani-pattaya-2-ball-golf-championship/
LOCATION:Pattaya\, Thailand
CATEGORIES:Golf
ATTACH;FMTTYPE=image/png:https://thediplomaticnetwork.com/wp-content/uploads/2024/01/2019-Avani-Pattaya-Resort-Spa-2-Ball-Golf-Championship-LOGO_300x115-1.png
END:VEVENT
BEGIN:VEVENT
DTSTART;TZID=Asia/Shanghai:20240613T160000
DTEND;TZID=Asia/Shanghai:20240613T180000
DTSTAMP:20260420T065809
CREATED:20240507T065342Z
LAST-MODIFIED:20240507T065342Z
UID:3594-1718294400-1718301600@thediplomaticnetwork.com
SUMMARY:Singapore as Global Gateway to South East Asia
DESCRIPTION:This event will serve as a platform for discussions on the latest trends\, challenges\, and opportunities within the banking and corporate sectors\, particularly concerning the capacity of liquidity flows management for MNCs in ASEAN. \nDuring this exciting event\, you will listen to presentations from experts and explore topics such as relevance of setting regional treasury centers in Singapore and managing liquidity from there\, benefits and challenges of implementing cash pooling or notional pooling structures\, impact of local regulations and restrictions\, and the insights from experts including representatives of BNP Paribas and Standard Chartered. \nEmphasis will be also placed on addressing challenges faced by MNCs in managing treasury functions in multi-currency environment and opportunities arising from concentrating the flows in Singapore during a panel discussion. \nThis event aims to provide a comprehensive understanding for CFOs\, treasurers\, bankers and relevant corporates\, fostering knowledge sharing and networking within the landscape of corporate liquidity management.\nDon’t miss this exclusive opportunity to gain valuable insights and establish connections with industry experts!
URL:https://thediplomaticnetwork.com/event/singapore-as-global-gateway-to-south-east-asia/
LOCATION:Singapore
CATEGORIES:Chambers of Commerce,European Chamber of Commerce in Singapore
ATTACH;FMTTYPE=image/webp:https://thediplomaticnetwork.com/wp-content/uploads/2024/05/EV24-0613-Singapore-as-Global-Gateway-to-South-East-Asia.webp
END:VEVENT
BEGIN:VEVENT
DTSTART;TZID=Asia/Shanghai:20240613T090000
DTEND;TZID=Asia/Shanghai:20240613T110000
DTSTAMP:20260420T065809
CREATED:20240514T084605Z
LAST-MODIFIED:20240514T084605Z
UID:3628-1718269200-1718276400@thediplomaticnetwork.com
SUMMARY:AI in Mobility and its Application in Fleet Management and Mobility on Demand
DESCRIPTION:AI in Mobility and its Application in Fleet Management and Mobility on Demand. \nEuroCham is organising an event centred on AI in Mobility. This event promises an in-depth exploration of AI’s role in mobility\, particularly focusing on its impact on fleet management\, car park management\, and its specific application in Mobility on Demand. \nFleet management holds significant importance due to its wide-ranging effects across various industries and sectors. With increasing concerns about sustainability\, effective fleet management plays a crucial role in reducing carbon emissions\, making data-informed decisions\, utilising insights to improve efficiency\, cutting costs\, optimising routes\, managing last-mile deliveries\, and minimising vehicle downtime. \nMobility on Demand (MOD) within fleet management is revolutionising transportation by providing flexible mobility services that dynamically adjust transportation supply to match user demand in real-time. It integrates different transportation modes to enable smooth transitions between them during journeys. \nThis upcoming event will gather industry leaders and companies at the forefront of this evolving landscape\, including technology firms providing on-demand services\, leading experts in AI vehicle routing\, and industry specialists such as HERE Technologies\, Continental\, and BlueCharge. Attendees will have the opportunity to hear from experts through presentations and engage in insightful discussions during the panel session.
URL:https://thediplomaticnetwork.com/event/ai-in-mobility-and-its-application-in-fleet-management-and-mobility-on-demand/
LOCATION:Singapore
CATEGORIES:Chambers of Commerce,European Chamber of Commerce in Singapore
ATTACH;FMTTYPE=image/png:https://thediplomaticnetwork.com/wp-content/uploads/2024/05/EV24-0613-AI-in-Mobility-and-its-Application-in-Fleet-Management-and-Mobility-on-Demand.png
END:VEVENT
BEGIN:VEVENT
DTSTART;VALUE=DATE:20240613
DTEND;VALUE=DATE:20240617
DTSTAMP:20260420T065809
CREATED:20240215T183042Z
LAST-MODIFIED:20240215T183042Z
UID:2918-1718236800-1718582399@thediplomaticnetwork.com
SUMMARY:ITE Hong Kong
DESCRIPTION:
URL:https://thediplomaticnetwork.com/event/ite-hong-kong/
CATEGORIES:Travel
ATTACH;FMTTYPE=image/png:https://thediplomaticnetwork.com/wp-content/uploads/2024/02/ITE_Logo.png
END:VEVENT
BEGIN:VEVENT
DTSTART;VALUE=DATE:20240612
DTEND;VALUE=DATE:20240615
DTSTAMP:20260420T065809
CREATED:20240215T183041Z
LAST-MODIFIED:20240215T183041Z
UID:2917-1718150400-1718409599@thediplomaticnetwork.com
SUMMARY:Bali & Beyond Travel Fair
DESCRIPTION:
URL:https://thediplomaticnetwork.com/event/bali-beyond-travel-fair/
CATEGORIES:Travel
ATTACH;FMTTYPE=image/png:https://thediplomaticnetwork.com/wp-content/uploads/2024/02/bbtf_Logo.png
END:VEVENT
BEGIN:VEVENT
DTSTART;VALUE=DATE:20240612
DTEND;VALUE=DATE:20240613
DTSTAMP:20260420T065809
CREATED:20240215T184733Z
LAST-MODIFIED:20240215T184733Z
UID:2969-1718150400-1718236799@thediplomaticnetwork.com
SUMMARY:National Day: Russian Federation\, 2024
DESCRIPTION:
URL:https://thediplomaticnetwork.com/event/national-day-russian-federation-2024/
CATEGORIES:National Days
ATTACH;FMTTYPE=image/svg+xml:https://thediplomaticnetwork.com/wp-content/uploads/2023/03/Russian-Federation-National-Flag.svg
END:VEVENT
BEGIN:VEVENT
DTSTART;VALUE=DATE:20240612
DTEND;VALUE=DATE:20240613
DTSTAMP:20260420T065809
CREATED:20240215T184731Z
LAST-MODIFIED:20240215T184731Z
UID:2968-1718150400-1718236799@thediplomaticnetwork.com
SUMMARY:National Day: Republic of the Philippines\, 2024
DESCRIPTION:
URL:https://thediplomaticnetwork.com/event/national-day-republic-of-the-philippines-2024/
CATEGORIES:National Days
ATTACH;FMTTYPE=image/svg+xml:https://thediplomaticnetwork.com/wp-content/uploads/2023/03/Republic-of-the-Philippines-National-Flag.svg
END:VEVENT
BEGIN:VEVENT
DTSTART;VALUE=DATE:20240610
DTEND;VALUE=DATE:20240615
DTSTAMP:20260420T065809
CREATED:20240304T114419Z
LAST-MODIFIED:20240304T114419Z
UID:3177-1717977600-1718409599@thediplomaticnetwork.com
SUMMARY:16th ASEAN Health Ministers Meeting
DESCRIPTION:
URL:https://thediplomaticnetwork.com/event/16th-asean-health-ministers-meeting/
CATEGORIES:ASEAN
ATTACH;FMTTYPE=image/png:https://thediplomaticnetwork.com/wp-content/uploads/2024/03/2.Asean-LAO-PDR-2024-Secondary-Configuration@4x.png
END:VEVENT
BEGIN:VEVENT
DTSTART;VALUE=DATE:20240610
DTEND;VALUE=DATE:20240611
DTSTAMP:20260420T065809
CREATED:20240215T184730Z
LAST-MODIFIED:20240215T184730Z
UID:2967-1717977600-1718063999@thediplomaticnetwork.com
SUMMARY:National Day: Portuguese Republic\, 2024
DESCRIPTION:
URL:https://thediplomaticnetwork.com/event/national-day-portuguese-republic-2024/
CATEGORIES:National Days
ATTACH;FMTTYPE=image/svg+xml:https://thediplomaticnetwork.com/wp-content/uploads/2023/03/Portuguese-Republic-National-Flag.svg
END:VEVENT
BEGIN:VEVENT
DTSTART;VALUE=DATE:20240609
DTEND;VALUE=DATE:20240616
DTSTAMP:20260420T065809
CREATED:20240115T055450Z
LAST-MODIFIED:20240115T055450Z
UID:2694-1717891200-1718495999@thediplomaticnetwork.com
SUMMARY:Centara World Masters Golf Championship
DESCRIPTION:“Black Mountain\, Banyan & Springfield GC will give you the ultimate golfing experience. \nYou will be spoiled by Thailand’s friendly caddies. \nBlack Mountain Golf Club \nThe first course in Thailand to be included in the prestigious US Golf Digest list of the Best 100 Courses Outside the United States\, 2012. Black Mountain is among the best and most challenging golf courses in Thailand. \nThanks to the many natural creeks that run through it and the ‘black rock’ mountainous backdrops throughout\, it’s also one of the most beautiful.”
URL:https://thediplomaticnetwork.com/event/centara-world-masters-golf-championship/
LOCATION:Hua Hin\, Thailand
CATEGORIES:Golf
ATTACH;FMTTYPE=image/png:https://thediplomaticnetwork.com/wp-content/uploads/2024/01/cwmgc-logo.png
END:VEVENT
BEGIN:VEVENT
DTSTART;VALUE=DATE:20240606
DTEND;VALUE=DATE:20240607
DTSTAMP:20260420T065809
CREATED:20240215T184729Z
LAST-MODIFIED:20240215T184729Z
UID:2966-1717632000-1717718399@thediplomaticnetwork.com
SUMMARY:National Day: Sweden\, 2024
DESCRIPTION:
URL:https://thediplomaticnetwork.com/event/national-day-sweden-2024/
CATEGORIES:National Days
ATTACH;FMTTYPE=image/svg+xml:https://thediplomaticnetwork.com/wp-content/uploads/2023/03/Sweden-National-Flag.svg
END:VEVENT
BEGIN:VEVENT
DTSTART;VALUE=DATE:20240605
DTEND;VALUE=DATE:20240606
DTSTAMP:20260420T065809
CREATED:20240215T184728Z
LAST-MODIFIED:20240215T184728Z
UID:2965-1717545600-1717631999@thediplomaticnetwork.com
SUMMARY:National Day: Kingdom of Denmark\, 2024
DESCRIPTION:
URL:https://thediplomaticnetwork.com/event/national-day-kingdom-of-denmark-2024/
CATEGORIES:National Days
ATTACH;FMTTYPE=image/svg+xml:https://thediplomaticnetwork.com/wp-content/uploads/2023/03/Kingdom-of-Denmark-National-Flag.svg
END:VEVENT
BEGIN:VEVENT
DTSTART;VALUE=DATE:20240604
DTEND;VALUE=DATE:20240609
DTSTAMP:20260420T065809
CREATED:20240304T114349Z
LAST-MODIFIED:20240304T114349Z
UID:3172-1717459200-1717891199@thediplomaticnetwork.com
SUMMARY:East Asia Summit Senior Officials’ Meeting
DESCRIPTION:
URL:https://thediplomaticnetwork.com/event/east-asia-summit-senior-officials-meeting-2/
CATEGORIES:ASEAN
ATTACH;FMTTYPE=image/png:https://thediplomaticnetwork.com/wp-content/uploads/2024/03/2.Asean-LAO-PDR-2024-Secondary-Configuration@4x.png
END:VEVENT
BEGIN:VEVENT
DTSTART;VALUE=DATE:20240604
DTEND;VALUE=DATE:20240609
DTSTAMP:20260420T065809
CREATED:20240304T114318Z
LAST-MODIFIED:20240304T114318Z
UID:3168-1717459200-1717891199@thediplomaticnetwork.com
SUMMARY:ASEAN Regional Forum Senior Officials Meeting
DESCRIPTION:
URL:https://thediplomaticnetwork.com/event/asean-regional-forum-senior-officials-meeting/
CATEGORIES:ASEAN
ATTACH;FMTTYPE=image/png:https://thediplomaticnetwork.com/wp-content/uploads/2024/03/2.Asean-LAO-PDR-2024-Secondary-Configuration@4x.png
END:VEVENT
BEGIN:VEVENT
DTSTART;VALUE=DATE:20240602
DTEND;VALUE=DATE:20240603
DTSTAMP:20260420T065809
CREATED:20240215T184727Z
LAST-MODIFIED:20240215T184727Z
UID:2964-1717286400-1717372799@thediplomaticnetwork.com
SUMMARY:National Day: Republic of Italy\, 2024
DESCRIPTION:
URL:https://thediplomaticnetwork.com/event/national-day-republic-of-italy-2024/
CATEGORIES:National Days
ATTACH;FMTTYPE=image/svg+xml:https://thediplomaticnetwork.com/wp-content/uploads/2023/03/Republic-of-Italy-National-Flag.svg
END:VEVENT
BEGIN:VEVENT
DTSTART;VALUE=DATE:20240601
DTEND;VALUE=DATE:20240602
DTSTAMP:20260420T065809
CREATED:20240215T184715Z
LAST-MODIFIED:20240215T184715Z
UID:2963-1717200000-1717286399@thediplomaticnetwork.com
SUMMARY:National Day: Samoa\, 2024
DESCRIPTION:
URL:https://thediplomaticnetwork.com/event/national-day-samoa-2024/
CATEGORIES:National Days
ATTACH;FMTTYPE=image/svg+xml:https://thediplomaticnetwork.com/wp-content/uploads/2023/03/Samoa-National-Flag.svg
END:VEVENT
BEGIN:VEVENT
DTSTART;TZID=Asia/Shanghai:20240529T090000
DTEND;TZID=Asia/Shanghai:20240529T110000
DTSTAMP:20260420T065809
CREATED:20240514T084855Z
LAST-MODIFIED:20240514T084855Z
UID:3631-1716973200-1716980400@thediplomaticnetwork.com
SUMMARY:Technology-Driven Sustainability - Advancing ESG Goals & Responsible AI Regulations
DESCRIPTION:Sustainability – Gone are the days when some dismissed it as merely a buzzword. A few years ago\, the primary concern for organisations was to initiate tangible action but now the pressing question is how to achieve the final phase of net zero emissions using technology. \nJoin us for an invigorating conversation centred around the pivotal nexus of technology\, responsible AI\, and sustainability\, where we will delve into how companies are using technologies to drive their environmental\, societal and governance (ESG) targets and Responsible AI regulations. \nDon’t miss the captivating panel discussion addressing the challenges in tech sustainability and responsible AI.
URL:https://thediplomaticnetwork.com/event/technology-driven-sustainability-advancing-esg-goals-responsible-ai-regulations/
LOCATION:Singapore
CATEGORIES:Chambers of Commerce,European Chamber of Commerce in Singapore
ATTACH;FMTTYPE=image/png:https://thediplomaticnetwork.com/wp-content/uploads/2024/05/EV24-0529-Technology-Driven-Sustainability-–-Advancing-ESG-Goals-and-Responsible-AI-Regulations.png
END:VEVENT
BEGIN:VEVENT
DTSTART;TZID=Asia/Shanghai:20240528T160000
DTEND;TZID=Asia/Shanghai:20240528T173000
DTSTAMP:20260420T065809
CREATED:20240507T065759Z
LAST-MODIFIED:20240507T065759Z
UID:3597-1716912000-1716917400@thediplomaticnetwork.com
SUMMARY:Webinar: A Pathway to Circular Economy - Mass Balance Approach
DESCRIPTION:The world is producing twice as much plastic waste as two decades ago\, yet only 9% is recycled. Growing the circular economy – where products and materials are kept in circulation through processes that include reuse\, recycling and composting – is needed to stop waste from being produced in the first place and to tackle climate change and other global challenges such as biodiversity loss and pollution. \nTo fully unlock the potential of a circular economy\, we need to find ways to circulate all kinds of materials and substances. Industry is increasingly producing materials that mix both virgin fossil feedstock and renewable or recycled raw material feedstock. Mass balance can be applied to plastics to make it possible to track the amount of renewable and recycled materials in the value chain\, and attribute it. These can help to accelerate the transition to a bioeconomy and circular economy. \nJoin us for an insightful sharing session with the International Sustainability and Carbon Certification (ISCC) organisation\, an independent multi-stakeholder initiative and leading third certification system supporting sustainable\, fully traceable\, deforestation free and climate-friendly supply chains\, to learn about mass balance approach.
URL:https://thediplomaticnetwork.com/event/webinar-a-pathway-to-circular-economy-mass-balance-approach/
LOCATION:Online
CATEGORIES:Chambers of Commerce,European Chamber of Commerce in Singapore
ATTACH;FMTTYPE=image/png:https://thediplomaticnetwork.com/wp-content/uploads/2024/05/EV24-0528-A-Pathway-to-Circular-Economy-Mass-Balance-Approach-2.png
END:VEVENT
BEGIN:VEVENT
DTSTART;VALUE=DATE:20240527
DTEND;VALUE=DATE:20240530
DTSTAMP:20260420T065809
CREATED:20240215T183040Z
LAST-MODIFIED:20240215T183040Z
UID:2916-1716768000-1717027199@thediplomaticnetwork.com
SUMMARY:ITB China
DESCRIPTION:
URL:https://thediplomaticnetwork.com/event/itb-china/
CATEGORIES:Travel
ATTACH;FMTTYPE=image/png:https://thediplomaticnetwork.com/wp-content/uploads/2024/02/ITBChina-Logo.png
END:VEVENT
END:VCALENDAR