BEGIN:VCALENDAR
VERSION:2.0
PRODID:-//The Diplomatic Network - ECPv6.15.20//NONSGML v1.0//EN
CALSCALE:GREGORIAN
METHOD:PUBLISH
X-WR-CALNAME:The Diplomatic Network
X-ORIGINAL-URL:https://thediplomaticnetwork.com
X-WR-CALDESC:Events for The Diplomatic Network
REFRESH-INTERVAL;VALUE=DURATION:PT1H
X-Robots-Tag:noindex
X-PUBLISHED-TTL:PT1H
BEGIN:VTIMEZONE
TZID:Asia/Shanghai
BEGIN:STANDARD
TZOFFSETFROM:+0800
TZOFFSETTO:+0800
TZNAME:CST
DTSTART:20220101T000000
END:STANDARD
END:VTIMEZONE
BEGIN:VEVENT
DTSTART;VALUE=DATE:20230427
DTEND;VALUE=DATE:20230428
DTSTAMP:20260421T142751
CREATED:20230330T001531Z
LAST-MODIFIED:20230330T001548Z
UID:592-1682553600-1682639999@thediplomaticnetwork.com
SUMMARY:National Day: Kingdom of the Netherlands\, 2023
DESCRIPTION:
URL:https://thediplomaticnetwork.com/event/national-day-kingdom-of-the-netherlands-2023-2/
CATEGORIES:National Days
ATTACH;FMTTYPE=image/svg+xml:https://thediplomaticnetwork.com/wp-content/uploads/2023/03/Kingdom-of-the-Netherlands-National-Flag.svg
END:VEVENT
BEGIN:VEVENT
DTSTART;VALUE=DATE:20230421
DTEND;VALUE=DATE:20230422
DTSTAMP:20260421T142751
CREATED:20230330T001529Z
LAST-MODIFIED:20230330T001547Z
UID:591-1682035200-1682121599@thediplomaticnetwork.com
SUMMARY:National Day: United Kingdom\, 2023
DESCRIPTION:
URL:https://thediplomaticnetwork.com/event/national-day-united-kingdom-2023-2/
CATEGORIES:National Days
ATTACH;FMTTYPE=image/svg+xml:https://thediplomaticnetwork.com/wp-content/uploads/2023/03/United-Kingdom-National-Flag.svg
END:VEVENT
BEGIN:VEVENT
DTSTART;VALUE=DATE:20230418
DTEND;VALUE=DATE:20230419
DTSTAMP:20260421T142751
CREATED:20230330T001510Z
LAST-MODIFIED:20230330T001510Z
UID:590-1681776000-1681862399@thediplomaticnetwork.com
SUMMARY:National Day: Republic of Zimbabwe\, 2023
DESCRIPTION:
URL:https://thediplomaticnetwork.com/event/national-day-republic-of-zimbabwe-2023-2/
CATEGORIES:National Days
ATTACH;FMTTYPE=image/svg+xml:https://thediplomaticnetwork.com/wp-content/uploads/2023/03/Republic-of-Zimbabwe-National-Flag.svg
END:VEVENT
BEGIN:VEVENT
DTSTART;VALUE=DATE:20230326
DTEND;VALUE=DATE:20230327
DTSTAMP:20260421T142751
CREATED:20230330T001509Z
LAST-MODIFIED:20230330T002028Z
UID:589-1679788800-1679875199@thediplomaticnetwork.com
SUMMARY:National Day: People's Republic of Bangladesh\, 2023
DESCRIPTION:
URL:https://thediplomaticnetwork.com/event/national-day-peoples-republic-of-bangladesh-2023-2/
CATEGORIES:National Days
ATTACH;FMTTYPE=image/svg+xml:https://thediplomaticnetwork.com/wp-content/uploads/2023/03/Peoples-Republic-of-Bangladesh-National-Flag.svg
END:VEVENT
BEGIN:VEVENT
DTSTART;VALUE=DATE:20230325
DTEND;VALUE=DATE:20230326
DTSTAMP:20260421T142751
CREATED:20230330T001507Z
LAST-MODIFIED:20230330T001841Z
UID:588-1679702400-1679788799@thediplomaticnetwork.com
SUMMARY:National Day: Hellenic Republic (Greece)\, 2023
DESCRIPTION:
URL:https://thediplomaticnetwork.com/event/national-day-hellenic-republic-greece-2023-2/
CATEGORIES:National Days
ATTACH;FMTTYPE=image/svg+xml:https://thediplomaticnetwork.com/wp-content/uploads/2023/03/Hellenic-Republic-Greece-National-Flag.svg
END:VEVENT
BEGIN:VEVENT
DTSTART;VALUE=DATE:20230323
DTEND;VALUE=DATE:20230324
DTSTAMP:20260421T142751
CREATED:20230320T001506Z
LAST-MODIFIED:20230330T001506Z
UID:587-1679529600-1679615999@thediplomaticnetwork.com
SUMMARY:National Day: Islamic Republic of Pakistan\, 2023
DESCRIPTION:Pakistan’s national day\, called Pakistan Day\, is set to kick off on Wednesday. \nPakistan Day marks the adoption of the Lahore Resolution in 1940\, which called for the creation of an independent Muslim state in South Asia. \nIn Pakistan\, the main celebration reaches a crescendo in the form of a military parade held in the capital city of Islamabad – normally attended by the president. \nOn this day\, special prayers are offered in mosques and other places of worship for the prosperity and well-being of the country. \nAnother notable event is the changing of the guard at the mausoleums of Muhammad Iqbal\, who is commonly known as Allama Iqbal\, and Muhammad Ali Jinnah\, who is also known as Quaid-e-Azam\, meaning ‘Great Leader’. \nIqbal was a poet and philosopher\, as well as a prominent political figure. He was a staunch advocate of the rights of the Muslim minority in India and is considered one of the founding fathers of Pakistan. \nMeanwhile\, Jinnah was instrumental in the founding of Pakistan after he unified the Muslim League\, which was a political party in India. Jinnah’s leadership of the Muslim League and his tireless efforts to negotiate with the British government and other political leaders of India eventually led to the creation of Pakistan on August 14\, 1947. \nIn celebration of Pakistan Day\, here is a poem by Iqbal about helping the Other and understanding their struggles. \n  \nSympathy \nPerched on the branch of a tree \nWas a nightingale sad and lonely \n“The night has drawn near”\, He was thinking \n“I passed the day in flying around and feeding \nHow can I reach up to the nest \nDarkness has enveloped everything”? \nHearing the nightingale wailing thus \nA glow-worm lurking nearby spoke thus \n“With my heart and soul ready to help I am \nThough only an insignificant insect I am \nNever mind if the night is dark \nI shall shed light if the way is dark \nGod has bestowed a torch on me \nHe has given a shining lamp to me \nThe good in the world only those are \nReady to be useful to others who are
URL:https://thediplomaticnetwork.com/event/national-day-islamic-republic-of-pakistan-2023-2/
CATEGORIES:National Days
ATTACH;FMTTYPE=image/svg+xml:https://thediplomaticnetwork.com/wp-content/uploads/2023/03/Islamic-Republic-of-Pakistan-National-Flag.svg
END:VEVENT
BEGIN:VEVENT
DTSTART;VALUE=DATE:20230317
DTEND;VALUE=DATE:20230318
DTSTAMP:20260421T142751
CREATED:20230330T001505Z
LAST-MODIFIED:20230330T001505Z
UID:586-1679011200-1679097599@thediplomaticnetwork.com
SUMMARY:National Day: Republic of Ireland\, 2023
DESCRIPTION:
URL:https://thediplomaticnetwork.com/event/national-day-republic-of-ireland-2023-2/
CATEGORIES:National Days
ATTACH;FMTTYPE=image/svg+xml:https://thediplomaticnetwork.com/wp-content/uploads/2023/03/Republic-of-Ireland-National-Flag.svg
END:VEVENT
BEGIN:VEVENT
DTSTART;VALUE=DATE:20230313
DTEND;VALUE=DATE:20230314
DTSTAMP:20260421T142751
CREATED:20230330T001406Z
LAST-MODIFIED:20230330T001406Z
UID:585-1678665600-1678751999@thediplomaticnetwork.com
SUMMARY:National Day: Holy See\, 2023
DESCRIPTION:
URL:https://thediplomaticnetwork.com/event/national-day-holy-see-2023-2/
CATEGORIES:National Days
ATTACH;FMTTYPE=image/svg+xml:https://thediplomaticnetwork.com/wp-content/uploads/2023/03/Holy-See-National-Flag.svg
END:VEVENT
BEGIN:VEVENT
DTSTART;VALUE=DATE:20230225
DTEND;VALUE=DATE:20230226
DTSTAMP:20260421T142751
CREATED:20230330T001404Z
LAST-MODIFIED:20230330T001404Z
UID:584-1677283200-1677369599@thediplomaticnetwork.com
SUMMARY:National Day: State of Kuwait\, 2023
DESCRIPTION:
URL:https://thediplomaticnetwork.com/event/national-day-state-of-kuwait-2023-2/
CATEGORIES:National Days
ATTACH;FMTTYPE=image/svg+xml:https://thediplomaticnetwork.com/wp-content/uploads/2023/03/State-of-Kuwait-National-Flag.svg
END:VEVENT
BEGIN:VEVENT
DTSTART;VALUE=DATE:20230223
DTEND;VALUE=DATE:20230224
DTSTAMP:20260421T142751
CREATED:20230330T001403Z
LAST-MODIFIED:20230330T001403Z
UID:583-1677110400-1677196799@thediplomaticnetwork.com
SUMMARY:National Day: State of Japan\, 2023
DESCRIPTION:
URL:https://thediplomaticnetwork.com/event/national-day-state-of-japan-2023-2/
CATEGORIES:National Days
ATTACH;FMTTYPE=image/svg+xml:https://thediplomaticnetwork.com/wp-content/uploads/2023/03/State-of-Japan-National-Flag.svg
END:VEVENT
BEGIN:VEVENT
DTSTART;VALUE=DATE:20230223
DTEND;VALUE=DATE:20230224
DTSTAMP:20260421T142751
CREATED:20230330T001402Z
LAST-MODIFIED:20230330T001402Z
UID:582-1677110400-1677196799@thediplomaticnetwork.com
SUMMARY:National Day: Brunei Darussalam\, 2023
DESCRIPTION:
URL:https://thediplomaticnetwork.com/event/national-day-brunei-darussalam-2023-2/
CATEGORIES:National Days
ATTACH;FMTTYPE=image/svg+xml:https://thediplomaticnetwork.com/wp-content/uploads/2023/03/Brunei-Darussalam-National-Flag.svg
END:VEVENT
BEGIN:VEVENT
DTSTART;VALUE=DATE:20230206
DTEND;VALUE=DATE:20230207
DTSTAMP:20260421T142751
CREATED:20230330T001400Z
LAST-MODIFIED:20230330T001634Z
UID:581-1675641600-1675727999@thediplomaticnetwork.com
SUMMARY:National Day: Aotearoa (New Zealand)\, 2023
DESCRIPTION:
URL:https://thediplomaticnetwork.com/event/national-day-aotearoa-new-zealand-2023-2/
CATEGORIES:National Days
ATTACH;FMTTYPE=image/svg+xml:https://thediplomaticnetwork.com/wp-content/uploads/2023/03/Aotearoa-New-Zealand-National-Flag.svg
END:VEVENT
BEGIN:VEVENT
DTSTART;VALUE=DATE:20230204
DTEND;VALUE=DATE:20230205
DTSTAMP:20260421T142751
CREATED:20230330T001351Z
LAST-MODIFIED:20230330T001351Z
UID:580-1675468800-1675555199@thediplomaticnetwork.com
SUMMARY:National Day: Democratic Socialist Republic of Sri Lanka\, 2023
DESCRIPTION:
URL:https://thediplomaticnetwork.com/event/national-day-democratic-socialist-republic-of-sri-lanka-2023-2/
CATEGORIES:National Days
ATTACH;FMTTYPE=image/svg+xml:https://thediplomaticnetwork.com/wp-content/uploads/2023/03/Democratic-Socialist-Republic-of-Sri-Lanka-National-Flag.svg
END:VEVENT
BEGIN:VEVENT
DTSTART;VALUE=DATE:20230126
DTEND;VALUE=DATE:20230127
DTSTAMP:20260421T142751
CREATED:20230330T001349Z
LAST-MODIFIED:20230330T001349Z
UID:579-1674691200-1674777599@thediplomaticnetwork.com
SUMMARY:National Day: Republic of India\, 2023
DESCRIPTION:
URL:https://thediplomaticnetwork.com/event/national-day-republic-of-india-2023-2/
CATEGORIES:National Days
ATTACH;FMTTYPE=image/svg+xml:https://thediplomaticnetwork.com/wp-content/uploads/2023/03/Republic-of-India-National-Flag.svg
END:VEVENT
BEGIN:VEVENT
DTSTART;VALUE=DATE:20230126
DTEND;VALUE=DATE:20230127
DTSTAMP:20260421T142751
CREATED:20230330T001348Z
LAST-MODIFIED:20230330T001348Z
UID:578-1674691200-1674777599@thediplomaticnetwork.com
SUMMARY:National Day: Commonwealth of Australia\, 2023
DESCRIPTION:
URL:https://thediplomaticnetwork.com/event/national-day-commonwealth-of-australia-2023-2/
CATEGORIES:National Days
ATTACH;FMTTYPE=image/svg+xml:https://thediplomaticnetwork.com/wp-content/uploads/2023/03/Commonwealth-of-Australia-National-Flag.svg
END:VEVENT
BEGIN:VEVENT
DTSTART;VALUE=DATE:20230104
DTEND;VALUE=DATE:20230105
DTSTAMP:20260421T142751
CREATED:20230330T001347Z
LAST-MODIFIED:20230330T001347Z
UID:577-1672790400-1672876799@thediplomaticnetwork.com
SUMMARY:National Day: Republic of the Union of Myanmar\, 2023
DESCRIPTION:
URL:https://thediplomaticnetwork.com/event/national-day-republic-of-the-union-of-myanmar-2023-2/
CATEGORIES:National Days
ATTACH;FMTTYPE=image/svg+xml:https://thediplomaticnetwork.com/wp-content/uploads/2023/03/Republic-of-the-Union-of-Myanmar-National-Flag.svg
END:VEVENT
BEGIN:VEVENT
DTSTART;VALUE=DATE:20230101
DTEND;VALUE=DATE:20230102
DTSTAMP:20260421T142751
CREATED:20230330T001346Z
LAST-MODIFIED:20230330T001346Z
UID:576-1672531200-1672617599@thediplomaticnetwork.com
SUMMARY:National Day: Republic of Cuba\, 2023
DESCRIPTION:
URL:https://thediplomaticnetwork.com/event/national-day-republic-of-cuba-2023-2/
CATEGORIES:National Days
ATTACH;FMTTYPE=image/svg+xml:https://thediplomaticnetwork.com/wp-content/uploads/2023/03/Republic-of-Cuba-National-Flag.svg
END:VEVENT
END:VCALENDAR