BEGIN:VCALENDAR
VERSION:2.0
PRODID:-//The Diplomatic Network - ECPv6.15.20//NONSGML v1.0//EN
CALSCALE:GREGORIAN
METHOD:PUBLISH
X-WR-CALNAME:The Diplomatic Network
X-ORIGINAL-URL:https://thediplomaticnetwork.com
X-WR-CALDESC:Events for The Diplomatic Network
REFRESH-INTERVAL;VALUE=DURATION:PT1H
X-Robots-Tag:noindex
X-PUBLISHED-TTL:PT1H
BEGIN:VTIMEZONE
TZID:Asia/Shanghai
BEGIN:STANDARD
TZOFFSETFROM:+0800
TZOFFSETTO:+0800
TZNAME:CST
DTSTART:20220101T000000
END:STANDARD
END:VTIMEZONE
BEGIN:VEVENT
DTSTART;VALUE=DATE:20230901
DTEND;VALUE=DATE:20230902
DTSTAMP:20260421T101748
CREATED:20230330T001930Z
LAST-MODIFIED:20230330T001930Z
UID:633-1693526400-1693612799@thediplomaticnetwork.com
SUMMARY:National Day: Republic of Uzbekistan\, 2023
DESCRIPTION:
URL:https://thediplomaticnetwork.com/event/national-day-republic-of-uzbekistan-2023-2/
CATEGORIES:National Days
ATTACH;FMTTYPE=image/svg+xml:https://thediplomaticnetwork.com/wp-content/uploads/2023/03/Republic-of-Uzbekistan-National-Flag.svg
END:VEVENT
BEGIN:VEVENT
DTSTART;VALUE=DATE:20230831
DTEND;VALUE=DATE:20230901
DTSTAMP:20260421T101748
CREATED:20230330T001928Z
LAST-MODIFIED:20230330T001928Z
UID:632-1693440000-1693526399@thediplomaticnetwork.com
SUMMARY:National Day: Malaysia\, 2023
DESCRIPTION:
URL:https://thediplomaticnetwork.com/event/national-day-malaysia-2023-2/
CATEGORIES:National Days
ATTACH;FMTTYPE=image/svg+xml:https://thediplomaticnetwork.com/wp-content/uploads/2023/03/Malaysia-National-Flag.svg
END:VEVENT
BEGIN:VEVENT
DTSTART;VALUE=DATE:20230824
DTEND;VALUE=DATE:20230825
DTSTAMP:20260421T101748
CREATED:20230330T001926Z
LAST-MODIFIED:20230330T002240Z
UID:631-1692835200-1692921599@thediplomaticnetwork.com
SUMMARY:National Day: Ukraine \, 2023
DESCRIPTION:
URL:https://thediplomaticnetwork.com/event/national-day-ukraine-2023-2/
CATEGORIES:National Days
ATTACH;FMTTYPE=image/svg+xml:https://thediplomaticnetwork.com/wp-content/uploads/2023/03/Ukraine-National-Flag.svg
END:VEVENT
BEGIN:VEVENT
DTSTART;VALUE=DATE:20230817
DTEND;VALUE=DATE:20230818
DTSTAMP:20260421T101748
CREATED:20230330T001925Z
LAST-MODIFIED:20230330T001925Z
UID:630-1692230400-1692316799@thediplomaticnetwork.com
SUMMARY:National Day: Republic of Indonesia\, 2023
DESCRIPTION:
URL:https://thediplomaticnetwork.com/event/national-day-republic-of-indonesia-2023-2/
CATEGORIES:National Days
ATTACH;FMTTYPE=image/svg+xml:https://thediplomaticnetwork.com/wp-content/uploads/2023/03/Republic-of-Indonesia-National-Flag.svg
END:VEVENT
BEGIN:VEVENT
DTSTART;VALUE=DATE:20230815
DTEND;VALUE=DATE:20230816
DTSTAMP:20260421T101748
CREATED:20230330T001900Z
LAST-MODIFIED:20230330T001915Z
UID:624-1692057600-1692143999@thediplomaticnetwork.com
SUMMARY:National Day: Republic of Congo\, 2023
DESCRIPTION:
URL:https://thediplomaticnetwork.com/event/national-day-republic-of-congo-2023-2/
CATEGORIES:National Days
ATTACH;FMTTYPE=image/svg+xml:https://thediplomaticnetwork.com/wp-content/uploads/2023/03/Republic-of-Congo-National-Flag.svg
END:VEVENT
BEGIN:VEVENT
DTSTART;VALUE=DATE:20230801
DTEND;VALUE=DATE:20230802
DTSTAMP:20260421T101748
CREATED:20230330T001858Z
LAST-MODIFIED:20230330T001914Z
UID:623-1690848000-1690934399@thediplomaticnetwork.com
SUMMARY:National Day: Swiss Confederation\, 2023
DESCRIPTION:
URL:https://thediplomaticnetwork.com/event/national-day-swiss-confederation-2023-2/
CATEGORIES:National Days
ATTACH;FMTTYPE=image/svg+xml:https://thediplomaticnetwork.com/wp-content/uploads/2023/03/Swiss-Confederation-National-Flag.svg
END:VEVENT
BEGIN:VEVENT
DTSTART;VALUE=DATE:20230728
DTEND;VALUE=DATE:20230729
DTSTAMP:20260421T101748
CREATED:20230330T001856Z
LAST-MODIFIED:20230330T001912Z
UID:622-1690502400-1690588799@thediplomaticnetwork.com
SUMMARY:National Day: Republic of Peru\, 2023
DESCRIPTION:
URL:https://thediplomaticnetwork.com/event/national-day-republic-of-peru-2023-2/
CATEGORIES:National Days
ATTACH;FMTTYPE=image/svg+xml:https://thediplomaticnetwork.com/wp-content/uploads/2023/03/Republic-of-Peru-National-Flag.svg
END:VEVENT
BEGIN:VEVENT
DTSTART;VALUE=DATE:20230726
DTEND;VALUE=DATE:20230727
DTSTAMP:20260421T101748
CREATED:20230330T001854Z
LAST-MODIFIED:20230330T001911Z
UID:621-1690329600-1690415999@thediplomaticnetwork.com
SUMMARY:National Day: Republic of Maldives\, 2023
DESCRIPTION:
URL:https://thediplomaticnetwork.com/event/national-day-republic-of-maldives-2023-2/
CATEGORIES:National Days
ATTACH;FMTTYPE=image/svg+xml:https://thediplomaticnetwork.com/wp-content/uploads/2023/03/Republic-of-Maldives-National-Flag.svg
END:VEVENT
BEGIN:VEVENT
DTSTART;VALUE=DATE:20230723
DTEND;VALUE=DATE:20230724
DTSTAMP:20260421T101748
CREATED:20230330T001853Z
LAST-MODIFIED:20230330T001910Z
UID:620-1690070400-1690156799@thediplomaticnetwork.com
SUMMARY:National Day: Arab Republic of Egypt\, 2023
DESCRIPTION:
URL:https://thediplomaticnetwork.com/event/national-day-arab-republic-of-egypt-2023-2/
CATEGORIES:National Days
ATTACH;FMTTYPE=image/svg+xml:https://thediplomaticnetwork.com/wp-content/uploads/2023/03/Arab-Republic-of-Egypt-National-Flag.svg
END:VEVENT
BEGIN:VEVENT
DTSTART;VALUE=DATE:20230721
DTEND;VALUE=DATE:20230722
DTSTAMP:20260421T101748
CREATED:20230330T001800Z
LAST-MODIFIED:20230330T001812Z
UID:612-1689897600-1689983999@thediplomaticnetwork.com
SUMMARY:National Day: Kingdom of Belgium\, 2023
DESCRIPTION:
URL:https://thediplomaticnetwork.com/event/national-day-kingdom-of-belgium-2023-2/
CATEGORIES:National Days
ATTACH;FMTTYPE=image/svg+xml:https://thediplomaticnetwork.com/wp-content/uploads/2023/03/Kingdom-of-Belgium-National-Flag.svg
END:VEVENT
BEGIN:VEVENT
DTSTART;VALUE=DATE:20230720
DTEND;VALUE=DATE:20230721
DTSTAMP:20260421T101748
CREATED:20230330T001758Z
LAST-MODIFIED:20230330T001810Z
UID:611-1689811200-1689897599@thediplomaticnetwork.com
SUMMARY:National Day: Republic of Colombia\, 2023
DESCRIPTION:
URL:https://thediplomaticnetwork.com/event/national-day-republic-of-colombia-2023-2/
CATEGORIES:National Days
ATTACH;FMTTYPE=image/svg+xml:https://thediplomaticnetwork.com/wp-content/uploads/2023/03/Republic-of-Colombia-National-Flag.svg
END:VEVENT
BEGIN:VEVENT
DTSTART;VALUE=DATE:20230714
DTEND;VALUE=DATE:20230715
DTSTAMP:20260421T101748
CREATED:20230330T001757Z
LAST-MODIFIED:20230330T001809Z
UID:610-1689292800-1689379199@thediplomaticnetwork.com
SUMMARY:National Day: French Republic\, 2023
DESCRIPTION:
URL:https://thediplomaticnetwork.com/event/national-day-french-republic-2023-2/
CATEGORIES:National Days
ATTACH;FMTTYPE=image/svg+xml:https://thediplomaticnetwork.com/wp-content/uploads/2023/03/French-Republic-National-Flag.svg
END:VEVENT
BEGIN:VEVENT
DTSTART;VALUE=DATE:20230711
DTEND;VALUE=DATE:20230712
DTSTAMP:20260421T101748
CREATED:20230330T001755Z
LAST-MODIFIED:20230330T001808Z
UID:609-1689033600-1689119999@thediplomaticnetwork.com
SUMMARY:National Day: Mongolia\, 2023
DESCRIPTION:
URL:https://thediplomaticnetwork.com/event/national-day-mongolia-2023-2/
CATEGORIES:National Days
ATTACH;FMTTYPE=image/svg+xml:https://thediplomaticnetwork.com/wp-content/uploads/2023/03/Mongolia-National-Flag.svg
END:VEVENT
BEGIN:VEVENT
DTSTART;VALUE=DATE:20230705
DTEND;VALUE=DATE:20230706
DTSTAMP:20260421T101748
CREATED:20230330T001754Z
LAST-MODIFIED:20230330T001807Z
UID:608-1688515200-1688601599@thediplomaticnetwork.com
SUMMARY:National Day: Bolivarian Republic of Venezuela\, 2023
DESCRIPTION:
URL:https://thediplomaticnetwork.com/event/national-day-bolivarian-republic-of-venezuela-2023-2/
CATEGORIES:National Days
ATTACH;FMTTYPE=image/svg+xml:https://thediplomaticnetwork.com/wp-content/uploads/2023/03/Bolivarian-Republic-of-Venezuela-National-Flag.svg
END:VEVENT
BEGIN:VEVENT
DTSTART;VALUE=DATE:20230704
DTEND;VALUE=DATE:20230705
DTSTAMP:20260421T101748
CREATED:20230330T001744Z
LAST-MODIFIED:20230330T001744Z
UID:607-1688428800-1688515199@thediplomaticnetwork.com
SUMMARY:National Day: United States of America\, 2023
DESCRIPTION:
URL:https://thediplomaticnetwork.com/event/national-day-united-states-of-america-2023-2/
CATEGORIES:National Days
ATTACH;FMTTYPE=image/svg+xml:https://thediplomaticnetwork.com/wp-content/uploads/2023/03/United-States-of-America-National-Flag.svg
END:VEVENT
BEGIN:VEVENT
DTSTART;VALUE=DATE:20230704
DTEND;VALUE=DATE:20230705
DTSTAMP:20260421T101748
CREATED:20230330T001029Z
LAST-MODIFIED:20230330T001743Z
UID:564-1688428800-1688515199@thediplomaticnetwork.com
SUMMARY:National Day: Republic of Rwanda\, 2023
DESCRIPTION:
URL:https://thediplomaticnetwork.com/event/national-day-republic-of-rwanda-2023-2/
CATEGORIES:National Days
ATTACH;FMTTYPE=image/svg+xml:https://thediplomaticnetwork.com/wp-content/uploads/2023/03/Republic-of-Rwanda-National-Flag.svg
END:VEVENT
BEGIN:VEVENT
DTSTART;VALUE=DATE:20230701
DTEND;VALUE=DATE:20230702
DTSTAMP:20260421T101748
CREATED:20230330T001028Z
LAST-MODIFIED:20230330T001742Z
UID:563-1688169600-1688255999@thediplomaticnetwork.com
SUMMARY:National Day: Dominion of Canada\, 2023
DESCRIPTION:
URL:https://thediplomaticnetwork.com/event/national-day-dominion-of-canada-2023-2/
CATEGORIES:National Days
ATTACH;FMTTYPE=image/svg+xml:https://thediplomaticnetwork.com/wp-content/uploads/2023/03/Dominion-of-Canada-National-Flag.svg
END:VEVENT
BEGIN:VEVENT
DTSTART;VALUE=DATE:20230625
DTEND;VALUE=DATE:20230626
DTSTAMP:20260421T101748
CREATED:20230330T001026Z
LAST-MODIFIED:20230330T001741Z
UID:562-1687651200-1687737599@thediplomaticnetwork.com
SUMMARY:National Day: Croatia\, 2023
DESCRIPTION:
URL:https://thediplomaticnetwork.com/event/national-day-croatia-2023-2/
CATEGORIES:National Days
ATTACH;FMTTYPE=image/svg+xml:https://thediplomaticnetwork.com/wp-content/uploads/2023/03/Croatia-National-Flag.svg
END:VEVENT
BEGIN:VEVENT
DTSTART;VALUE=DATE:20230612
DTEND;VALUE=DATE:20230613
DTSTAMP:20260421T101748
CREATED:20230330T001025Z
LAST-MODIFIED:20230330T001740Z
UID:561-1686528000-1686614399@thediplomaticnetwork.com
SUMMARY:National Day: Russian Federation\, 2023
DESCRIPTION:
URL:https://thediplomaticnetwork.com/event/national-day-russian-federation-2023-2/
CATEGORIES:National Days
ATTACH;FMTTYPE=image/svg+xml:https://thediplomaticnetwork.com/wp-content/uploads/2023/03/Russian-Federation-National-Flag.svg
END:VEVENT
BEGIN:VEVENT
DTSTART;VALUE=DATE:20230612
DTEND;VALUE=DATE:20230613
DTSTAMP:20260421T101748
CREATED:20230330T001024Z
LAST-MODIFIED:20230330T001732Z
UID:560-1686528000-1686614399@thediplomaticnetwork.com
SUMMARY:National Day: Republic of the Philippines\, 2023
DESCRIPTION:
URL:https://thediplomaticnetwork.com/event/national-day-republic-of-the-philippines-2023-2/
CATEGORIES:National Days
ATTACH;FMTTYPE=image/svg+xml:https://thediplomaticnetwork.com/wp-content/uploads/2023/03/Republic-of-the-Philippines-National-Flag.svg
END:VEVENT
BEGIN:VEVENT
DTSTART;VALUE=DATE:20230610
DTEND;VALUE=DATE:20230611
DTSTAMP:20260421T101748
CREATED:20230330T001730Z
LAST-MODIFIED:20230330T001730Z
UID:606-1686355200-1686441599@thediplomaticnetwork.com
SUMMARY:National Day: Portuguese Republic\, 2023
DESCRIPTION:
URL:https://thediplomaticnetwork.com/event/national-day-portuguese-republic-2023-2/
CATEGORIES:National Days
ATTACH;FMTTYPE=image/svg+xml:https://thediplomaticnetwork.com/wp-content/uploads/2023/03/Portuguese-Republic-National-Flag.svg
END:VEVENT
BEGIN:VEVENT
DTSTART;VALUE=DATE:20230606
DTEND;VALUE=DATE:20230607
DTSTAMP:20260421T101748
CREATED:20230330T001729Z
LAST-MODIFIED:20230330T001729Z
UID:605-1686009600-1686095999@thediplomaticnetwork.com
SUMMARY:National Day: Sweden\, 2023
DESCRIPTION:
URL:https://thediplomaticnetwork.com/event/national-day-sweden-2023-2/
CATEGORIES:National Days
ATTACH;FMTTYPE=image/svg+xml:https://thediplomaticnetwork.com/wp-content/uploads/2023/03/Sweden-National-Flag.svg
END:VEVENT
BEGIN:VEVENT
DTSTART;VALUE=DATE:20230605
DTEND;VALUE=DATE:20230606
DTSTAMP:20260421T101748
CREATED:20230330T001728Z
LAST-MODIFIED:20230330T001728Z
UID:604-1685923200-1686009599@thediplomaticnetwork.com
SUMMARY:National Day: Kingdom of Denmark\, 2023
DESCRIPTION:
URL:https://thediplomaticnetwork.com/event/national-day-kingdom-of-denmark-2023-2/
CATEGORIES:National Days
ATTACH;FMTTYPE=image/svg+xml:https://thediplomaticnetwork.com/wp-content/uploads/2023/03/Kingdom-of-Denmark-National-Flag.svg
END:VEVENT
BEGIN:VEVENT
DTSTART;VALUE=DATE:20230602
DTEND;VALUE=DATE:20230603
DTSTAMP:20260421T101748
CREATED:20230330T001726Z
LAST-MODIFIED:20230330T001726Z
UID:603-1685664000-1685750399@thediplomaticnetwork.com
SUMMARY:National Day: Republic of Italy\, 2023
DESCRIPTION:
URL:https://thediplomaticnetwork.com/event/national-day-republic-of-italy-2023-2/
CATEGORIES:National Days
ATTACH;FMTTYPE=image/svg+xml:https://thediplomaticnetwork.com/wp-content/uploads/2023/03/Republic-of-Italy-National-Flag.svg
END:VEVENT
BEGIN:VEVENT
DTSTART;VALUE=DATE:20230601
DTEND;VALUE=DATE:20230602
DTSTAMP:20260421T101748
CREATED:20230330T001655Z
LAST-MODIFIED:20230330T001655Z
UID:602-1685577600-1685663999@thediplomaticnetwork.com
SUMMARY:National Day: Samoa\, 2023
DESCRIPTION:
URL:https://thediplomaticnetwork.com/event/national-day-samoa-2023-2/
CATEGORIES:National Days
ATTACH;FMTTYPE=image/svg+xml:https://thediplomaticnetwork.com/wp-content/uploads/2023/03/Samoa-National-Flag.svg
END:VEVENT
BEGIN:VEVENT
DTSTART;VALUE=DATE:20230525
DTEND;VALUE=DATE:20230526
DTSTAMP:20260421T101748
CREATED:20230329T235636Z
LAST-MODIFIED:20230330T001654Z
UID:557-1684972800-1685059199@thediplomaticnetwork.com
SUMMARY:National Day: Hashemite Kingdom of Jordan\, 2023
DESCRIPTION:
URL:https://thediplomaticnetwork.com/event/national-day-hashemite-kingdom-of-jordan-2023-2/
CATEGORIES:National Days
ATTACH;FMTTYPE=image/svg+xml:https://thediplomaticnetwork.com/wp-content/uploads/2023/03/Hashemite-Kingdom-of-Jordan-National-Flag.svg
END:VEVENT
BEGIN:VEVENT
DTSTART;VALUE=DATE:20230525
DTEND;VALUE=DATE:20230526
DTSTAMP:20260421T101748
CREATED:20230329T235635Z
LAST-MODIFIED:20230330T001653Z
UID:556-1684972800-1685059199@thediplomaticnetwork.com
SUMMARY:National Day: Republic of Argentina\, 2023
DESCRIPTION:
URL:https://thediplomaticnetwork.com/event/national-day-republic-of-argentina-2023-2/
CATEGORIES:National Days
ATTACH;FMTTYPE=image/svg+xml:https://thediplomaticnetwork.com/wp-content/uploads/2023/03/Republic-of-Argentina-National-Flag.svg
END:VEVENT
BEGIN:VEVENT
DTSTART;VALUE=DATE:20230520
DTEND;VALUE=DATE:20230521
DTSTAMP:20260421T101748
CREATED:20230329T235634Z
LAST-MODIFIED:20230330T001651Z
UID:555-1684540800-1684627199@thediplomaticnetwork.com
SUMMARY:National Day: Democratic Republic of TimorLeste\, 2023
DESCRIPTION:
URL:https://thediplomaticnetwork.com/event/national-day-democratic-republic-of-timorleste-2023-2/
CATEGORIES:National Days
ATTACH;FMTTYPE=image/svg+xml:https://thediplomaticnetwork.com/wp-content/uploads/2023/03/Democratic-Republic-of-TimorLeste-National-Flag.svg
END:VEVENT
BEGIN:VEVENT
DTSTART;VALUE=DATE:20230517
DTEND;VALUE=DATE:20230518
DTSTAMP:20260421T101748
CREATED:20230329T235632Z
LAST-MODIFIED:20230330T001650Z
UID:554-1684281600-1684367999@thediplomaticnetwork.com
SUMMARY:National Day: Kingdom of Norway\, 2023
DESCRIPTION:
URL:https://thediplomaticnetwork.com/event/national-day-kingdom-of-norway-2023-2/
CATEGORIES:National Days
ATTACH;FMTTYPE=image/svg+xml:https://thediplomaticnetwork.com/wp-content/uploads/2023/03/Kingdom-of-Norway-National-Flag.svg
END:VEVENT
BEGIN:VEVENT
DTSTART;VALUE=DATE:20230514
DTEND;VALUE=DATE:20230515
DTSTAMP:20260421T101748
CREATED:20230330T001537Z
LAST-MODIFIED:20230330T001552Z
UID:595-1684022400-1684108799@thediplomaticnetwork.com
SUMMARY:National Day: State of Israel\, 2023
DESCRIPTION:
URL:https://thediplomaticnetwork.com/event/national-day-state-of-israel-2023-2/
CATEGORIES:National Days
ATTACH;FMTTYPE=image/svg+xml:https://thediplomaticnetwork.com/wp-content/uploads/2023/03/State-of-Israel-National-Flag.svg
END:VEVENT
END:VCALENDAR