BEGIN:VCALENDAR
VERSION:2.0
PRODID:-//The Diplomatic Network - ECPv6.15.20//NONSGML v1.0//EN
CALSCALE:GREGORIAN
METHOD:PUBLISH
X-WR-CALNAME:The Diplomatic Network
X-ORIGINAL-URL:https://thediplomaticnetwork.com
X-WR-CALDESC:Events for The Diplomatic Network
REFRESH-INTERVAL;VALUE=DURATION:PT1H
X-Robots-Tag:noindex
X-PUBLISHED-TTL:PT1H
BEGIN:VTIMEZONE
TZID:Asia/Shanghai
BEGIN:STANDARD
TZOFFSETFROM:+0800
TZOFFSETTO:+0800
TZNAME:CST
DTSTART:20230101T000000
END:STANDARD
END:VTIMEZONE
BEGIN:VTIMEZONE
TZID:Asia/Singapore
BEGIN:STANDARD
TZOFFSETFROM:+0800
TZOFFSETTO:+0800
TZNAME:+08
DTSTART:20230101T000000
END:STANDARD
END:VTIMEZONE
BEGIN:VEVENT
DTSTART;VALUE=DATE:20240305
DTEND;VALUE=DATE:20240308
DTSTAMP:20260421T074508
CREATED:20240304T114412Z
LAST-MODIFIED:20240304T114412Z
UID:3175-1709596800-1709855999@thediplomaticnetwork.com
SUMMARY:ASEAN Defence Ministers’ Meeting & Retreat
DESCRIPTION:
URL:https://thediplomaticnetwork.com/event/asean-defence-ministers-meeting-retreat/
CATEGORIES:ASEAN
ATTACH;FMTTYPE=image/png:https://thediplomaticnetwork.com/wp-content/uploads/2024/03/2.Asean-LAO-PDR-2024-Secondary-Configuration@4x.png
END:VEVENT
BEGIN:VEVENT
DTSTART;VALUE=DATE:20240305
DTEND;VALUE=DATE:20240308
DTSTAMP:20260421T074508
CREATED:20240215T182818Z
LAST-MODIFIED:20240215T182818Z
UID:2898-1709596800-1709855999@thediplomaticnetwork.com
SUMMARY:ITB Berlin 2024
DESCRIPTION:
URL:https://thediplomaticnetwork.com/event/itb-berlin-2024/
CATEGORIES:Travel
ATTACH;FMTTYPE=image/png:https://thediplomaticnetwork.com/wp-content/uploads/2024/02/ITB_Berlin_Logo.png
END:VEVENT
BEGIN:VEVENT
DTSTART;TZID=Asia/Shanghai:20240304T160000
DTEND;TZID=Asia/Shanghai:20240304T173000
DTSTAMP:20260421T074508
CREATED:20240222T075047Z
LAST-MODIFIED:20240222T075047Z
UID:3096-1709568000-1709573400@thediplomaticnetwork.com
SUMMARY:The Biodiversity Pulse for Southeast Asia
DESCRIPTION:Climate related issues are front page news but there are several indications and trends that suggest that biodiversity is at a critical crossroads. The rate of biodiversity loss is accelerating\, and urgent actions are required to assess potential risks to be managed and mitigated. \nThe introduction of the Task Force on Nature-related Financial Disclosures (TNFD) as a market-led initiative proves its relevance to financial institutions and corporations to take the ‘biodiversity pulse’ by understanding\, assessing and disclosing their dependencies on nature\, the impacts they have on nature\, and the risks and opportunities they face from nature-related issues. \nIn this discussion\, we bring together experts providing different perspectives and insights around research\, initiatives and financing requirements for nature conservation\, the development of new technologies and solutions to better understand and protect biodiversity.
URL:https://thediplomaticnetwork.com/event/the-biodiversity-pulse-for-southeast-asia/
LOCATION:Singapore
CATEGORIES:Chambers of Commerce,European Chamber of Commerce in Singapore
ATTACH;FMTTYPE=image/png:https://thediplomaticnetwork.com/wp-content/uploads/2024/02/CO24-0304-The-biodiversity-pulse-for-Southeast-Asia-1-1.png
END:VEVENT
BEGIN:VEVENT
DTSTART;VALUE=DATE:20240301
DTEND;VALUE=DATE:20240304
DTSTAMP:20260421T074508
CREATED:20240215T182817Z
LAST-MODIFIED:20240215T182817Z
UID:2897-1709251200-1709510399@thediplomaticnetwork.com
SUMMARY:India International Travel Mart 2023 Kolkatai
DESCRIPTION:
URL:https://thediplomaticnetwork.com/event/india-international-travel-mart-2023-kolkatai/
CATEGORIES:Travel
ATTACH;FMTTYPE=image/png:https://thediplomaticnetwork.com/wp-content/uploads/2024/02/IITM_Logo.png
END:VEVENT
BEGIN:VEVENT
DTSTART;VALUE=DATE:20240228
DTEND;VALUE=DATE:20240301
DTSTAMP:20260421T074508
CREATED:20240215T182816Z
LAST-MODIFIED:20240215T182816Z
UID:2896-1709078400-1709251199@thediplomaticnetwork.com
SUMMARY:Aviation Festival Asia 2024
DESCRIPTION:
URL:https://thediplomaticnetwork.com/event/aviation-festival-asia-2024/
CATEGORIES:Travel
ATTACH;FMTTYPE=image/png:https://thediplomaticnetwork.com/wp-content/uploads/2024/02/Aviation-Festival-Asia-Logo.png
END:VEVENT
BEGIN:VEVENT
DTSTART;VALUE=DATE:20240228
DTEND;VALUE=DATE:20240301
DTSTAMP:20260421T074508
CREATED:20240215T182815Z
LAST-MODIFIED:20240215T195119Z
UID:2895-1709078400-1709251199@thediplomaticnetwork.com
SUMMARY:International Confex 2024
DESCRIPTION:
URL:https://thediplomaticnetwork.com/event/international-confex-2024/
CATEGORIES:Travel
ATTACH;FMTTYPE=image/webp:https://thediplomaticnetwork.com/wp-content/uploads/2024/02/ConfEx_Logo-1.webp
END:VEVENT
BEGIN:VEVENT
DTSTART;VALUE=DATE:20240227
DTEND;VALUE=DATE:20240301
DTSTAMP:20260421T074508
CREATED:20240215T182803Z
LAST-MODIFIED:20240215T182803Z
UID:2894-1708992000-1709251199@thediplomaticnetwork.com
SUMMARY:Routes Asia
DESCRIPTION:
URL:https://thediplomaticnetwork.com/event/routes-asia/
CATEGORIES:Travel
ATTACH;FMTTYPE=image/svg+xml:https://thediplomaticnetwork.com/wp-content/uploads/2024/02/Routes-logo.svg
END:VEVENT
BEGIN:VEVENT
DTSTART;VALUE=DATE:20240225
DTEND;VALUE=DATE:20240226
DTSTAMP:20260421T074508
CREATED:20240215T184621Z
LAST-MODIFIED:20240215T184621Z
UID:2947-1708819200-1708905599@thediplomaticnetwork.com
SUMMARY:National Day: State of Kuwait\, 2024
DESCRIPTION:
URL:https://thediplomaticnetwork.com/event/national-day-state-of-kuwait-2024/
CATEGORIES:National Days
ATTACH;FMTTYPE=image/svg+xml:https://thediplomaticnetwork.com/wp-content/uploads/2023/03/State-of-Kuwait-National-Flag.svg
END:VEVENT
BEGIN:VEVENT
DTSTART;VALUE=DATE:20240223
DTEND;VALUE=DATE:20240224
DTSTAMP:20260421T074508
CREATED:20240215T184620Z
LAST-MODIFIED:20240215T184620Z
UID:2946-1708646400-1708732799@thediplomaticnetwork.com
SUMMARY:National Day: State of Japan\, 2024
DESCRIPTION:
URL:https://thediplomaticnetwork.com/event/national-day-state-of-japan-2024/
CATEGORIES:National Days
ATTACH;FMTTYPE=image/svg+xml:https://thediplomaticnetwork.com/wp-content/uploads/2023/03/State-of-Japan-National-Flag.svg
END:VEVENT
BEGIN:VEVENT
DTSTART;VALUE=DATE:20240223
DTEND;VALUE=DATE:20240224
DTSTAMP:20260421T074508
CREATED:20240215T184619Z
LAST-MODIFIED:20240215T184619Z
UID:2945-1708646400-1708732799@thediplomaticnetwork.com
SUMMARY:National Day: Brunei Darussalam\, 2024
DESCRIPTION:
URL:https://thediplomaticnetwork.com/event/national-day-brunei-darussalam-2024/
CATEGORIES:National Days
ATTACH;FMTTYPE=image/svg+xml:https://thediplomaticnetwork.com/wp-content/uploads/2023/03/Brunei-Darussalam-National-Flag.svg
END:VEVENT
BEGIN:VEVENT
DTSTART;TZID=Asia/Shanghai:20240222T160000
DTEND;TZID=Asia/Shanghai:20240222T180000
DTSTAMP:20260421T074508
CREATED:20240126T060150Z
LAST-MODIFIED:20240126T060150Z
UID:2764-1708617600-1708624800@thediplomaticnetwork.com
SUMMARY:Webinar: Running Your Company in Singapore
DESCRIPTION:Are you a European Small or Medium-sized Enterprise (SME) considering expansion into Singapore or already established here? \nJoin us for an exclusive webinar\, “Running Your Company in Singapore\,” organised by EuroCham Singapore in collaboration with the Irish Chamber of Commerce\, SwissCham Singapore and the South East Asia IP SME Helpdesk\, our esteemed knowledge partner. \nDuring this webinar\, our expert speakers will guide you through essential facets of managing a company in Singapore\, providing specialised insights tailored to SMEs. The agenda kicks off with a keynote presentation on Intellectual Property (IP) considerations by the representative of the SEA IP SME Helpdesk\, followed by a panel featuring experts covering crucial aspects\, such as: \n\nIP Strategy: In-depth insights from the SEA IP SME Helpdesk.\nMarket Entry Strategies: Expert advice and information from Sleek Representative.\nHR Considerations: Valuable expertise and insights from Fidinam Representative.\n\nThis interactive session aims to equip attendees with knowledge on conducting an audit of intangible assets\, strategically registering Intellectual Property Rights (IPRs)\, market entry strategies\, and navigating legal considerations at pivotal stages of your business. \nDon’t miss this exclusive opportunity to gain valuable insights and establish connections with industry experts!\nWho Should Attend: \n\nEuropean SMEs exploring business opportunities in Singapore.\nEuropean SMEs already established in Singapore seeking to enhance their understanding of IP considerations and broader business considerations.\nMultipliers supporting European SMEs in establishing their business in Singapore\nEuropean Entrepreneurs interested in learning from industry experts and successful businesses.\nAnyone interested in learning from industry experts and successful businesses
URL:https://thediplomaticnetwork.com/event/webinar-running-your-company-in-singapore/
LOCATION:Singapore
CATEGORIES:Chambers of Commerce,European Chamber of Commerce in Singapore
ATTACH;FMTTYPE=image/png:https://thediplomaticnetwork.com/wp-content/uploads/2024/01/EV24-0222-Running-Your-Company-in-Singapore-1.png
END:VEVENT
BEGIN:VEVENT
DTSTART;VALUE=DATE:20240222
DTEND;VALUE=DATE:20240225
DTSTAMP:20260421T074508
CREATED:20240215T182802Z
LAST-MODIFIED:20240215T182802Z
UID:2893-1708560000-1708819199@thediplomaticnetwork.com
SUMMARY:SATTE Travel Expo
DESCRIPTION:
URL:https://thediplomaticnetwork.com/event/satte-travel-expo/
CATEGORIES:Travel
ATTACH;FMTTYPE=image/png:https://thediplomaticnetwork.com/wp-content/uploads/2024/02/SATTE-Logo.png
END:VEVENT
BEGIN:VEVENT
DTSTART;VALUE=DATE:20240221
DTEND;VALUE=DATE:20240222
DTSTAMP:20260421T074508
CREATED:20240215T182801Z
LAST-MODIFIED:20240215T182801Z
UID:2892-1708473600-1708559999@thediplomaticnetwork.com
SUMMARY:Hotels + Accommodation Industry Summit Philippines 2024
DESCRIPTION:
URL:https://thediplomaticnetwork.com/event/hotels-accommodation-industry-summit-philippines-2024/
CATEGORIES:Travel
ATTACH;FMTTYPE=image/png:https://thediplomaticnetwork.com/wp-content/uploads/2024/02/Hotel_Accommodation_Logo.png
END:VEVENT
BEGIN:VEVENT
DTSTART;VALUE=DATE:20240220
DTEND;VALUE=DATE:20240226
DTSTAMP:20260421T074508
CREATED:20240215T182800Z
LAST-MODIFIED:20240215T182800Z
UID:2891-1708387200-1708905599@thediplomaticnetwork.com
SUMMARY:Singapore Airshow
DESCRIPTION:
URL:https://thediplomaticnetwork.com/event/singapore-airshow/
CATEGORIES:Travel
ATTACH;FMTTYPE=image/png:https://thediplomaticnetwork.com/wp-content/uploads/2024/02/SAS_Logo.png
END:VEVENT
BEGIN:VEVENT
DTSTART;VALUE=DATE:20240219
DTEND;VALUE=DATE:20240222
DTSTAMP:20260421T074508
CREATED:20240215T182759Z
LAST-MODIFIED:20240215T182759Z
UID:2890-1708300800-1708559999@thediplomaticnetwork.com
SUMMARY:The Asia Pacific Incentives and Meetings Event (AIME)
DESCRIPTION:
URL:https://thediplomaticnetwork.com/event/the-asia-pacific-incentives-and-meetings-event-aime/
CATEGORIES:Travel
ATTACH;FMTTYPE=image/png:https://thediplomaticnetwork.com/wp-content/uploads/2024/02/AIME_Logo.png
END:VEVENT
BEGIN:VEVENT
DTSTART;VALUE=DATE:20240216
DTEND;VALUE=DATE:20240219
DTSTAMP:20260421T074508
CREATED:20240215T182754Z
LAST-MODIFIED:20240215T182754Z
UID:2889-1708041600-1708300799@thediplomaticnetwork.com
SUMMARY:TTF Bengaluru
DESCRIPTION:
URL:https://thediplomaticnetwork.com/event/ttf-bengaluru/
CATEGORIES:Travel
ATTACH;FMTTYPE=image/png:https://thediplomaticnetwork.com/wp-content/uploads/2024/02/TTF_Logo.png
END:VEVENT
BEGIN:VEVENT
DTSTART;VALUE=DATE:20240215
DTEND;VALUE=DATE:20240218
DTSTAMP:20260421T074508
CREATED:20240215T182753Z
LAST-MODIFIED:20240215T182753Z
UID:2888-1707955200-1708214399@thediplomaticnetwork.com
SUMMARY:Travel & Tourism Fair Chennai
DESCRIPTION:
URL:https://thediplomaticnetwork.com/event/travel-tourism-fair-chennai/
CATEGORIES:Travel
ATTACH;FMTTYPE=image/png:https://thediplomaticnetwork.com/wp-content/uploads/2024/02/TTF_Logo.png
END:VEVENT
BEGIN:VEVENT
DTSTART;VALUE=DATE:20240208
DTEND;VALUE=DATE:20240211
DTSTAMP:20260421T074508
CREATED:20240215T182752Z
LAST-MODIFIED:20240215T182752Z
UID:2887-1707350400-1707609599@thediplomaticnetwork.com
SUMMARY:OTM Mumbai
DESCRIPTION:
URL:https://thediplomaticnetwork.com/event/otm-mumbai/
CATEGORIES:Travel
ATTACH;FMTTYPE=image/png:https://thediplomaticnetwork.com/wp-content/uploads/2024/02/OTM_Logo.png
END:VEVENT
BEGIN:VEVENT
DTSTART;VALUE=DATE:20240206
DTEND;VALUE=DATE:20240210
DTSTAMP:20260421T074508
CREATED:20240215T182751Z
LAST-MODIFIED:20240215T182751Z
UID:2886-1707177600-1707523199@thediplomaticnetwork.com
SUMMARY:East Mediterranean International Tourism & Travel Exhibition (EMITT)
DESCRIPTION:
URL:https://thediplomaticnetwork.com/event/east-mediterranean-international-tourism-travel-exhibition-emitt/
CATEGORIES:Travel
ATTACH;FMTTYPE=image/png:https://thediplomaticnetwork.com/wp-content/uploads/2024/02/EMITT_Logo.png
END:VEVENT
BEGIN:VEVENT
DTSTART;VALUE=DATE:20240206
DTEND;VALUE=DATE:20240207
DTSTAMP:20260421T074508
CREATED:20240215T184618Z
LAST-MODIFIED:20240215T184618Z
UID:2944-1707177600-1707263999@thediplomaticnetwork.com
SUMMARY:National Day: Aotearoa (New Zealand)\, 2024
DESCRIPTION:
URL:https://thediplomaticnetwork.com/event/national-day-aotearoa-new-zealand-2024/
CATEGORIES:National Days
END:VEVENT
BEGIN:VEVENT
DTSTART;VALUE=DATE:20240204
DTEND;VALUE=DATE:20240207
DTSTAMP:20260421T074508
CREATED:20240215T182750Z
LAST-MODIFIED:20240215T182750Z
UID:2885-1707004800-1707263999@thediplomaticnetwork.com
SUMMARY:Borsa Internazionale del Turismo (BIT) International Tourism Exchange
DESCRIPTION:
URL:https://thediplomaticnetwork.com/event/borsa-internazionale-del-turismo-bit-international-tourism-exchange/
CATEGORIES:Travel
ATTACH;FMTTYPE=image/svg+xml:https://thediplomaticnetwork.com/wp-content/uploads/2024/02/Bit_Logo.svg
END:VEVENT
BEGIN:VEVENT
DTSTART;VALUE=DATE:20240204
DTEND;VALUE=DATE:20240205
DTSTAMP:20260421T074508
CREATED:20240215T184609Z
LAST-MODIFIED:20240215T184609Z
UID:2943-1707004800-1707091199@thediplomaticnetwork.com
SUMMARY:National Day: Democratic Socialist Republic of Sri Lanka\, 2024
DESCRIPTION:
URL:https://thediplomaticnetwork.com/event/national-day-democratic-socialist-republic-of-sri-lanka-2024/
CATEGORIES:National Days
ATTACH;FMTTYPE=image/svg+xml:https://thediplomaticnetwork.com/wp-content/uploads/2023/03/Democratic-Socialist-Republic-of-Sri-Lanka-National-Flag.svg
END:VEVENT
BEGIN:VEVENT
DTSTART;VALUE=DATE:20240203
DTEND;VALUE=DATE:20240205
DTSTAMP:20260421T074508
CREATED:20240115T024110Z
LAST-MODIFIED:20240201T070414Z
UID:2684-1706918400-1707091199@thediplomaticnetwork.com
SUMMARY:Palawan Green Sentosa Island Festival & Latin American Market
DESCRIPTION:🗓️ Dates: 3rd to 4th February 2024 \n🕓 Time: 4:00 pm to 10:00 pm \n📍 Venue: Palawan Green\, Sentosa Island \n  \nDive into a feast of flavors with tantalizing Latin American cuisine at the vibrant market! \n  \nImmerse yourself in the lively beats and rhythms with sensational dance performances showcasing the diverse and dynamic dances from the region. \n  \nStay active and energized with our lineup of activities: \n  \n💃 Zumba \n🍿 Outdoor Movie Screenings \n🧘 Meditation in movement Sessions \n🔥 Hot Pilates \n🎺🕺 And of course\, what’s a Latin festival without the contagious rhythm of salsa? Be prepared to move and groove to the pulsating beats! \n  \nBring your friends and family for an unforgettable weekend filled with laughter\, joy\, and the vibrant spirit of Latin America and the Caribbean! \n  \nMark your calendars and join us at Palawan Green Sentosa Island for an extravaganza of entertainment\, mouthwatering delights\, and an eclectic market experience! \n  \nDon’t miss out on the fiesta of the year! See you there! #PalawanFiesta2024 #LatinVibes #SentosaIslandParty \n  \nClick here for the program.
URL:https://thediplomaticnetwork.com/event/palawan-green-sentosa-island-festival-latin-american-market/
LOCATION:Singapore
CATEGORIES:Chambers of Commerce,Latin American Chamber of Commerce Singapore
ATTACH;FMTTYPE=image/png:https://thediplomaticnetwork.com/wp-content/uploads/2024/01/Latin-American-Festival-and-Caribbean_-Instagram-Post_Mesa-de-trabajo-1.png
END:VEVENT
BEGIN:VEVENT
DTSTART;TZID=Asia/Shanghai:20240126T173000
DTEND;TZID=Asia/Shanghai:20240126T210000
DTSTAMP:20260421T074508
CREATED:20240104T054542Z
LAST-MODIFIED:20240104T054542Z
UID:2670-1706290200-1706302800@thediplomaticnetwork.com
SUMMARY:LatAmCham Community Beach Clean-up Day
DESCRIPTION:We are excited to extend a warm invitation to all members of our vibrant Latin American community to come together for a Beach Clean-Up! \nTogether\, we can make a powerful statement about the importance of environmental responsibility and community unity. We believe that small actions can lead to significant change\, and we are eager to make a positive difference in our local community. \nThis event is not just about cleaning up our shores; it’s about coming together as a community\, celebrating our shared culture\, and leaving a lasting\, positive impact on the environment we all cherish. \nHere’s what you can expect on this special day: \n\nBeach clean-up activities\nMusic\, food\, and drinks to make it a fun and enjoyable experience\nOpportunities to connect with fellow community members\n\nBring your colleagues and friends\, and a positive attitude as we work together to protect our oceans and preserve the beauty of our local beaches. Don’t forget to wear comfortable clothing\, sunscreen\, and bring reusable water bottles to stay hydrated. \nPlease register to ensure we have enough supplies and refreshments for everyone. For any inquiries or to confirm your attendance\, feel free to contact us. \nWe look forward to seeing you at the Beach Clean-Up and making a positive difference together!
URL:https://thediplomaticnetwork.com/event/latamcham-community-beach-clean-up-day/
LOCATION:Singapore
CATEGORIES:Chambers of Commerce,Latin American Chamber of Commerce Singapore
END:VEVENT
BEGIN:VEVENT
DTSTART;VALUE=DATE:20240126
DTEND;VALUE=DATE:20240127
DTSTAMP:20260421T074508
CREATED:20240215T184608Z
LAST-MODIFIED:20240215T184608Z
UID:2942-1706227200-1706313599@thediplomaticnetwork.com
SUMMARY:National Day: Republic of India\, 2024
DESCRIPTION:
URL:https://thediplomaticnetwork.com/event/national-day-republic-of-india-2024/
CATEGORIES:National Days
ATTACH;FMTTYPE=image/svg+xml:https://thediplomaticnetwork.com/wp-content/uploads/2023/03/Republic-of-India-National-Flag.svg
END:VEVENT
BEGIN:VEVENT
DTSTART;VALUE=DATE:20240126
DTEND;VALUE=DATE:20240127
DTSTAMP:20260421T074508
CREATED:20240215T184607Z
LAST-MODIFIED:20240215T184607Z
UID:2941-1706227200-1706313599@thediplomaticnetwork.com
SUMMARY:National Day: Commonwealth of Australia\, 2024
DESCRIPTION:
URL:https://thediplomaticnetwork.com/event/national-day-commonwealth-of-australia-2024/
CATEGORIES:National Days
ATTACH;FMTTYPE=image/svg+xml:https://thediplomaticnetwork.com/wp-content/uploads/2023/03/Commonwealth-of-Australia-National-Flag.svg
END:VEVENT
BEGIN:VEVENT
DTSTART;TZID=Asia/Shanghai:20240125T140000
DTEND;TZID=Asia/Shanghai:20240125T180000
DTSTAMP:20260421T074508
CREATED:20240104T055521Z
LAST-MODIFIED:20240104T055521Z
UID:2677-1706191200-1706205600@thediplomaticnetwork.com
SUMMARY:EU-Singapore Dialogue: Facilitating Green & Sustainable Investments in Southeast Asia via the Global Gateway
DESCRIPTION:As countries in Southeast Asia continue to grow\, it is estimated that large investments of approximately US$210 billion a year through to 2030 will be needed to build sustainable infrastructure. Infrastructure investments in ASEAN are currently driven by governments\, and there is a need for greater private sector involvement and multilateral institutions to help bridge the infrastructure development gap. The challenges ahead to address climate change will require massive investments into clean and renewable energy\, climate resilient and sustainable cities\, and make a compelling case for a regional\, integrated approach in sustainable investment. To ensure long-term sustainable impact\, there must be a common understanding of what defines sustainability and the relevant environmental and social factors to consider. \nIn this context\, the EU launched its Global Gateway initiative in 2021\, a contribution to narrowing the global investment gap in infrastructure worldwide. It aims to mobilise up to €300 billion of investment funding from the EU and its member states\, and focuses on the digital sector\, healthcare\, transport\, climate and energy\, and education and research. The Global Gateway’s priorities in ASEAN are the green transition and sustainable connectivity\, with the EU aiming to mobilise €10 billion in investments specifically for these purposes. \nThe European Fund for Sustainable Development Plus (EFSD+) is the main financial tool to mobilise investments under the Global Gateway\, and ensures worldwide coverage for blending\, guarantees and other financial operations. It also raises financial resources for sustainable development from the private sector for inclusive economic development. \nAs a highly-developed city-state\, Singapore has experience in funding infrastructure projects through private-public partnerships\, and as such is well-positioned as a hub for infrastructure financing. It has developed a robust infrastructure ecosystem\, bringing together developers\, master planners\, financiers\, professional services and other supporting services. Many Singapore companies (both private and government-linked) have world-renowned expertise in areas such as project structuring\, management\, financing and investment\, and have a good understanding of regional markets\, and thus are well-placed to work with partners like the EU to serve Asia’s infrastructure needs and unlock the region’s infrastructure potential. The government has also set up Infrastructure Asia (InfraAsia)\, to serve as a facilitation office in supporting Asia’s social and economic growth through infrastructure development. \nBeyond infrastructure\, there are several areas where Singapore and Team Europe could cooperate under the Global Gateway to engage with Southeast Asia\, for example\, to develop sustainable and liveable cities\, provide sustainable finance and promote sustainability standards\, invest in climate mitigation and adaptation and other green investments\, and to promote connectivity within the region. \nThis EU-Singapore Dialogue intends to present the Global Gateway approach and priorities under the Southeast Asia context\, provide the case for sustainable and responsible investments\, and explore the opportunities available for the private and institutional actors.
URL:https://thediplomaticnetwork.com/event/eu-singapore-dialogue-facilitating-green-sustainable-investments-in-southeast-asia-via-the-global-gateway/
LOCATION:Singapore
CATEGORIES:Chambers of Commerce,European Chamber of Commerce in Singapore
ATTACH;FMTTYPE=image/webp:https://thediplomaticnetwork.com/wp-content/uploads/2024/01/EV24-0125-Global-Gateway-Invitation_v3-2048x1152-1.webp
END:VEVENT
BEGIN:VEVENT
DTSTART;TZID=Asia/Shanghai:20240122T160000
DTEND;TZID=Asia/Shanghai:20240122T180000
DTSTAMP:20260421T074508
CREATED:20240104T055228Z
LAST-MODIFIED:20240104T055228Z
UID:2674-1705939200-1705946400@thediplomaticnetwork.com
SUMMARY:Economic Outlook 2024: Elections\, Wars and Soft Landing
DESCRIPTION:Can we expect 2024 to be as tumultuous as 2023? Join us for an exploration into the economic landscape of 2024\, where we will navigate the intersections of political events\, global conflicts\, and their increasing impact on the global economy. \nKey topics to be covered include the election dynamics in the US and Indonesia\, China’s economic recovery and the reverse course of interest rates. \nThis event offers a unique opportunity to gain insights from leading economists\, industry experts\, and thought leaders. \nJoin us on 22 January 2024\, from 4:00 PM to 6:00 PM\, featuring Carl van der Elst\, Chair of the Financial Services Committee\, Taimur Baig\, Managing Director and Chief Economist at DBS Bank and Hans Vriens\, Managing Partner at Vriens & Associates.
URL:https://thediplomaticnetwork.com/event/economic-outlook-2024-elections-wars-and-soft-landing/
LOCATION:Singapore
CATEGORIES:Chambers of Commerce,European Chamber of Commerce in Singapore
ATTACH;FMTTYPE=image/png:https://thediplomaticnetwork.com/wp-content/uploads/2024/01/EV23-0122-Economic-Outlook-2024-Elections-Wars-and-Soft-Landing.png
END:VEVENT
BEGIN:VEVENT
DTSTART;VALUE=DATE:20240121
DTEND;VALUE=DATE:20240127
DTSTAMP:20260421T074508
CREATED:20240115T060314Z
LAST-MODIFIED:20240115T060314Z
UID:2704-1705795200-1706313599@thediplomaticnetwork.com
SUMMARY:North Vietnam Classic
DESCRIPTION:“Don’t miss the chance to be part of golfing history in the making. Join us for the North Vietnam Classic and tee off amidst the beauty of Vietnam’s northern landscapes. \n\n\n\n\nEvent Highlights: \n\nPanoramic Landscapes: Immerse yourself in the natural beauty of North Vietnam as you navigate through courses with stunning views\, rolling hills\, and coastal panoramas.\nWorld-Class Courses: BRG Legend Hills\, Thanh Lanh Valley\, and FLC Halong are renowned for their challenging layouts\, impeccable maintenance\, and top-notch facilities.\nNetworking Opportunities: Connect with fellow golf enthusiasts\, professionals\, and sponsors in a relaxed and social atmosphere\, fostering camaraderie and new connections.\nAwards Ceremony: Celebrate your achievements at the grand awards ceremony\, where winners will be honored and memories shared.”
URL:https://thediplomaticnetwork.com/event/north-vietnam-classic/
LOCATION:Hanoi\, Vietnam
CATEGORIES:Golf
ATTACH;FMTTYPE=image/jpeg:https://thediplomaticnetwork.com/wp-content/uploads/2024/01/main-logo.jpg
END:VEVENT
BEGIN:VEVENT
DTSTART;VALUE=DATE:20240104
DTEND;VALUE=DATE:20240105
DTSTAMP:20260421T074508
CREATED:20240215T184606Z
LAST-MODIFIED:20240215T184606Z
UID:2940-1704326400-1704412799@thediplomaticnetwork.com
SUMMARY:National Day: Republic of the Union of Myanmar\, 2024
DESCRIPTION:
URL:https://thediplomaticnetwork.com/event/national-day-republic-of-the-union-of-myanmar-2024/
CATEGORIES:National Days
ATTACH;FMTTYPE=image/svg+xml:https://thediplomaticnetwork.com/wp-content/uploads/2023/03/Republic-of-the-Union-of-Myanmar-National-Flag.svg
END:VEVENT
END:VCALENDAR