BEGIN:VCALENDAR
VERSION:2.0
PRODID:-//The Diplomatic Network - ECPv6.15.20//NONSGML v1.0//EN
CALSCALE:GREGORIAN
METHOD:PUBLISH
X-WR-CALNAME:The Diplomatic Network
X-ORIGINAL-URL:https://thediplomaticnetwork.com
X-WR-CALDESC:Events for The Diplomatic Network
REFRESH-INTERVAL;VALUE=DURATION:PT1H
X-Robots-Tag:noindex
X-PUBLISHED-TTL:PT1H
BEGIN:VTIMEZONE
TZID:Asia/Shanghai
BEGIN:STANDARD
TZOFFSETFROM:+0800
TZOFFSETTO:+0800
TZNAME:CST
DTSTART:20230101T000000
END:STANDARD
END:VTIMEZONE
BEGIN:VTIMEZONE
TZID:Asia/Singapore
BEGIN:STANDARD
TZOFFSETFROM:+0800
TZOFFSETTO:+0800
TZNAME:+08
DTSTART:20230101T000000
END:STANDARD
END:VTIMEZONE
BEGIN:VEVENT
DTSTART;TZID=Asia/Shanghai:20240924T083000
DTEND;TZID=Asia/Shanghai:20240924T103000
DTSTAMP:20260420T064810
CREATED:20240910T045830Z
LAST-MODIFIED:20240910T045830Z
UID:4589-1727166600-1727173800@thediplomaticnetwork.com
SUMMARY:Tackling Asia's Nutrition Crisis: Insights & Strategies from the 2024 Global Food Policy & Child Nutrition Reports
DESCRIPTION:Malnutrition is a critical global issue that urgently needs attention\, with a focus on improving nutrition for vulnerable populations\, especially children in low- and middle-income countries. The urgency is underscored by alarming statistics: approximately 70% of the world’s malnourished children live in Asia\, making it the region with the highest concentration of childhood malnutrition globally. \nThe upcoming roundtable will offer a comprehensive summary of the key findings and recommendations from the 2024 IFPRI Global Food Policy Report and the 2024 UNICEF Child Nutrition Report. We aim to raise awareness and inspire action towards: \n\nImproving Diets: Strategies to make nutritious foods more desirable\, affordable\, accessible\, and available to all populations\, particularly children.\nAddressing Inequities: The need to tackle barriers to food access\, including poverty\, conflict\, and environmental crises\, which exacerbate malnutrition rates.\nPolicy Measures and Governance: The importance of comprehensive policy frameworks and governance structures that prioritise nutrition and food security.\nEarly Childhood Nutrition: Emphasising the critical role of nutrition in early childhood development\, which is essential for long-term health\, cognitive function\, and overall well-being.\n\n  \nProgramme \n08.30 am Registration Opens\n09.00 am Welcome Remarks by Ms Eva Vincetic\, Advocacy Manager at EuroCham (Singapore)\n09.05 am Opening Remarks by Ms Maria Angela Esquivel\, Co-Chair of EuroCham Sustainability Committee and Corporate Affairs Director at FrieslandCampina AMEA\n09.10 am Keynote presentation by Ms Alexis Chua\, Secretariat\,  APIYCNA\n09.40 am Roundtable discussion moderated by Ms Maria Angela Esquivel\n10.25 am Closing Remarks by the moderator\n10.30 am End of Event \nThe organisers reserve the right to change the programme content without giving prior notification or any reasons thereof.
URL:https://thediplomaticnetwork.com/event/tackling-asias-nutrition-crisis-insights-strategies-from-the-2024-global-food-policy-child-nutrition-reports/
LOCATION:Singapore
CATEGORIES:Chambers of Commerce,European Chamber of Commerce in Singapore
ATTACH;FMTTYPE=image/png:https://thediplomaticnetwork.com/wp-content/uploads/2024/09/AD24-0924-Tackling-Asias-Nutrition-Crisis-Insights-and-Strategies-from-the-2024-Global-Food-Policy-and-Child-Nutrition-Reports.png
END:VEVENT
BEGIN:VEVENT
DTSTART;TZID=Asia/Shanghai:20240925T140000
DTEND;TZID=Asia/Shanghai:20240925T160000
DTSTAMP:20260420T064810
CREATED:20240920T103212Z
LAST-MODIFIED:20240920T103316Z
UID:4756-1727272800-1727280000@thediplomaticnetwork.com
SUMMARY:South Africa Focus Week in Singapore
DESCRIPTION:Join the virtual event of the South Africa Focus Week in Singapore as we unpack how investing in innovation can help businesses stay ahead of the competition and adapt to economic pressures. This can include developing new products or services\, investing in technology\, or exploring new markets. Innovation can also help businesses become more efficient\, which can reduce costs and improve profitability.\n\n\n\nOur exciting speakers and panelists will share insights into how South Africa and Singapore can equip young people with future skills and knowledge to navigate the changing world of work\, the importance of agility\, and the Sustainable Development Goals connected to decent work. The colloquium will also build young people’s understanding of employment pathways\, skills\, innovations\, entrepreneurship opportunities\, and impacting systems change\, focusing on three economies – the green economy\, the care economy\, and the creative economy.
URL:https://thediplomaticnetwork.com/event/south-africa-focus-week-in-singapore/
LOCATION:Singapore
CATEGORIES:Other
ATTACH;FMTTYPE=image/jpeg:https://thediplomaticnetwork.com/wp-content/uploads/2024/09/Invitation-to-the-Future-of-Work-Webinar-25-September-2024.jpg
END:VEVENT
BEGIN:VEVENT
DTSTART;TZID=Asia/Shanghai:20240926T140000
DTEND;TZID=Asia/Shanghai:20240926T153000
DTSTAMP:20260420T064810
CREATED:20240827T051218Z
LAST-MODIFIED:20240827T051218Z
UID:4454-1727359200-1727364600@thediplomaticnetwork.com
SUMMARY:Riskful Thinking: Navigating the Politics of Economic Security
DESCRIPTION:De-risking has become a crucial strategy in the economic policy of key trade blocs\, aiming to reduce vulnerabilities and reliances from economic interdependence. As supply chains grow more interconnected and geopolitical tensions persist\, countries are adopting measures to enhance economic security by diversifying supply sources and strengthening domestic industries. \nThis shift impacts global trade dynamics and requires businesses to review their strategies and footprint to increase resilience and flexibility. While de-risking offers a path to greater stability\, it also presents challenges in balancing open trade relationships with securing national economic interests. This event will: \n\nSummarise and compare strategies and policies adopted by the European Union\, China\, and the United States to manage economic risks and strengthen their respective economic security\nDeep-dive into China’s risk management approach\nDiscuss implications for European businesses operating in China\nExplore strategic implications for Singapore’s economic and trade policy and European business stakeholders operating from regional HQ in Singapore
URL:https://thediplomaticnetwork.com/event/riskful-thinking-navigating-the-politics-of-economic-security/
LOCATION:Singapore
CATEGORIES:Chambers of Commerce,European Chamber of Commerce in Singapore
ATTACH;FMTTYPE=image/webp:https://thediplomaticnetwork.com/wp-content/uploads/2024/08/EV24-0926-Riskful-Thinking-Navigating-the-Politics-of-Economic-Security_finalv3.webp
END:VEVENT
BEGIN:VEVENT
DTSTART;VALUE=DATE:20240930
DTEND;VALUE=DATE:20241003
DTSTAMP:20260420T064810
CREATED:20240215T183355Z
LAST-MODIFIED:20240215T200628Z
UID:2926-1727654400-1727913599@thediplomaticnetwork.com
SUMMARY:Future Hospitality Summit World 2024
DESCRIPTION:
URL:https://thediplomaticnetwork.com/event/future-hospitality-summit-world-2024/
CATEGORIES:Travel
ATTACH;FMTTYPE=image/png:https://thediplomaticnetwork.com/wp-content/uploads/2024/02/fhs-logo-accent.png
END:VEVENT
BEGIN:VEVENT
DTSTART;VALUE=DATE:20241001
DTEND;VALUE=DATE:20241002
DTSTAMP:20260420T064810
CREATED:20240215T185011Z
LAST-MODIFIED:20240215T200224Z
UID:3002-1727740800-1727827199@thediplomaticnetwork.com
SUMMARY:National Day: People's Republic of China\, 2024
DESCRIPTION:
URL:https://thediplomaticnetwork.com/event/national-day-peoples-republic-of-china-2024/
CATEGORIES:National Days
ATTACH;FMTTYPE=image/svg+xml:https://thediplomaticnetwork.com/wp-content/uploads/2023/03/Peoples-Republic-of-China-National-Flag.svg
END:VEVENT
BEGIN:VEVENT
DTSTART;VALUE=DATE:20241001
DTEND;VALUE=DATE:20241002
DTSTAMP:20260420T064810
CREATED:20240215T185012Z
LAST-MODIFIED:20240215T185012Z
UID:3003-1727740800-1727827199@thediplomaticnetwork.com
SUMMARY:National Day: Federal Republic of Nigeria\, 2024
DESCRIPTION:
URL:https://thediplomaticnetwork.com/event/national-day-federal-republic-of-nigeria-2024/
CATEGORIES:National Days
ATTACH;FMTTYPE=image/svg+xml:https://thediplomaticnetwork.com/wp-content/uploads/2023/03/Federal-Republic-of-Nigeria-National-Flag.svg
END:VEVENT
BEGIN:VEVENT
DTSTART;VALUE=DATE:20241003
DTEND;VALUE=DATE:20241004
DTSTAMP:20260420T064810
CREATED:20240215T185013Z
LAST-MODIFIED:20240215T185013Z
UID:3004-1727913600-1727999999@thediplomaticnetwork.com
SUMMARY:National Day: Federal Republic of Germany\, 2024
DESCRIPTION:
URL:https://thediplomaticnetwork.com/event/national-day-federal-republic-of-germany-2024/
CATEGORIES:National Days
ATTACH;FMTTYPE=image/svg+xml:https://thediplomaticnetwork.com/wp-content/uploads/2023/03/Federal-Republic-of-Germany-National-Flag.svg
END:VEVENT
BEGIN:VEVENT
DTSTART;VALUE=DATE:20241003
DTEND;VALUE=DATE:20241004
DTSTAMP:20260420T064810
CREATED:20240215T185014Z
LAST-MODIFIED:20240215T185014Z
UID:3005-1727913600-1727999999@thediplomaticnetwork.com
SUMMARY:National Day: Republic of Korea\, 2024
DESCRIPTION:
URL:https://thediplomaticnetwork.com/event/national-day-republic-of-korea-2024/
CATEGORIES:National Days
ATTACH;FMTTYPE=image/svg+xml:https://thediplomaticnetwork.com/wp-content/uploads/2023/03/Republic-of-Korea-National-Flag.svg
END:VEVENT
BEGIN:VEVENT
DTSTART;VALUE=DATE:20241006
DTEND;VALUE=DATE:20241012
DTSTAMP:20260420T064810
CREATED:20240304T114310Z
LAST-MODIFIED:20240304T114310Z
UID:3165-1728172800-1728691199@thediplomaticnetwork.com
SUMMARY:44th ASEAN Summit
DESCRIPTION:
URL:https://thediplomaticnetwork.com/event/44th-asean-summit/
CATEGORIES:ASEAN
ATTACH;FMTTYPE=image/png:https://thediplomaticnetwork.com/wp-content/uploads/2024/03/2.Asean-LAO-PDR-2024-Secondary-Configuration@4x.png
END:VEVENT
BEGIN:VEVENT
DTSTART;VALUE=DATE:20241006
DTEND;VALUE=DATE:20241012
DTSTAMP:20260420T064810
CREATED:20240304T114315Z
LAST-MODIFIED:20240304T114315Z
UID:3166-1728172800-1728691199@thediplomaticnetwork.com
SUMMARY:45th ASEAN Summit
DESCRIPTION:
URL:https://thediplomaticnetwork.com/event/45th-asean-summit/
CATEGORIES:ASEAN
ATTACH;FMTTYPE=image/png:https://thediplomaticnetwork.com/wp-content/uploads/2024/03/2.Asean-LAO-PDR-2024-Secondary-Configuration@4x.png
END:VEVENT
BEGIN:VEVENT
DTSTART;VALUE=DATE:20241006
DTEND;VALUE=DATE:20241012
DTSTAMP:20260420T064810
CREATED:20240304T114343Z
LAST-MODIFIED:20240304T114343Z
UID:3171-1728172800-1728691199@thediplomaticnetwork.com
SUMMARY:19th East Asia Summit
DESCRIPTION:
URL:https://thediplomaticnetwork.com/event/19th-east-asia-summit/
CATEGORIES:ASEAN
ATTACH;FMTTYPE=image/png:https://thediplomaticnetwork.com/wp-content/uploads/2024/03/2.Asean-LAO-PDR-2024-Secondary-Configuration@4x.png
END:VEVENT
BEGIN:VEVENT
DTSTART;VALUE=DATE:20241009
DTEND;VALUE=DATE:20241014
DTSTAMP:20260420T064810
CREATED:20240215T183356Z
LAST-MODIFIED:20240215T183356Z
UID:2927-1728432000-1728863999@thediplomaticnetwork.com
SUMMARY:Outbound Travel Roadshow Southeast Asia 2024
DESCRIPTION:
URL:https://thediplomaticnetwork.com/event/outbound-travel-roadshow-southeast-asia-2024/
CATEGORIES:Travel
ATTACH;FMTTYPE=image/png:https://thediplomaticnetwork.com/wp-content/uploads/2024/02/OTR_Logo.png
END:VEVENT
BEGIN:VEVENT
DTSTART;VALUE=DATE:20241012
DTEND;VALUE=DATE:20241013
DTSTAMP:20260420T064810
CREATED:20240215T185015Z
LAST-MODIFIED:20240215T185015Z
UID:3006-1728691200-1728777599@thediplomaticnetwork.com
SUMMARY:National Day: Kingdom of Spain\, 2024
DESCRIPTION:
URL:https://thediplomaticnetwork.com/event/national-day-kingdom-of-spain-2024/
CATEGORIES:National Days
ATTACH;FMTTYPE=image/svg+xml:https://thediplomaticnetwork.com/wp-content/uploads/2023/03/Kingdom-of-Spain-National-Flag.svg
END:VEVENT
BEGIN:VEVENT
DTSTART;VALUE=DATE:20241020
DTEND;VALUE=DATE:20241024
DTSTAMP:20260420T064810
CREATED:20240215T183357Z
LAST-MODIFIED:20240215T183357Z
UID:2928-1729382400-1729727999@thediplomaticnetwork.com
SUMMARY:ICCA 63rd Annual Congress
DESCRIPTION:
URL:https://thediplomaticnetwork.com/event/icca-63rd-annual-congress/
CATEGORIES:Travel
ATTACH;FMTTYPE=image/svg+xml:https://thediplomaticnetwork.com/wp-content/uploads/2024/02/ICCA_Logo.svg
END:VEVENT
BEGIN:VEVENT
DTSTART;TZID=Asia/Shanghai:20241021T093000
DTEND;TZID=Asia/Shanghai:20241021T113000
DTSTAMP:20260420T064810
CREATED:20241010T074944Z
LAST-MODIFIED:20241010T074944Z
UID:4908-1729503000-1729510200@thediplomaticnetwork.com
SUMMARY:AI: Beyond the Buzz Report Launch
DESCRIPTION:EuroCham is excited to announce the launch of its AI report which compiles insights and key findings gathered from the many events it has hosted under its inaugural AI Programme in 2024. The report not only features contributions from industry experts but also includes chapters from the EU Delegation\, results and recommendations of an AI survey\, AI regulations\, frameworks\, their differences and similarities and valuable messages from key stakeholders. \nThis report serves as a launchpad for the exciting journey ahead\, setting the stage for future developments and initiatives in 2025 and beyond. We encourage readers to stay engaged as we continue to drive forward the conversation around AI\, with more updates and initiatives to come. \nThis publication is not just a conclusion of the programme—it marks the beginning of what’s next. \n  \nAbout the AI Report\nThe AI Report is a comprehensive review of EuroCham’s AI programme and an insightful analysis exploring the Depths of AI. “AI: Beyond the Buzz” refers to looking past the hype and exaggerated claims surrounding AI to focus on its real-world applications\, practical uses\, and genuine impact. It suggests moving away from the surface-level excitement and digging deeper into how AI is truly transforming industries and solving real problems. \n  \nProgramme \n09.30 am Registration and Networking\n10.00 am Welcome Address by Mr Jens Rübbert\, President\, European Chamber of Commerce\n10.05 am Opening Address by EU Delegation\n10.10 am EuroCham’s AI Programme Video\n10.15 am Keynote Address by Dr Janil Puthucheary\, Senior Minister of State\, MDDI\n10.25 am Launch of the AI Report with Dr Janil Puthucheary\, Senior Minister of State\, MDDI\n10.30 am Fireside Chat by Dr Janil Puthucheary\, Senior Minister of State\, MDDI\, moderated by Dr Lovneesh Chanana\, Sr. Vice President and Regional Head for Government Affairs\, SAP\n10.50 am Live Q&A\n11:05 am Closing Remarks by Ms Nele Cornelis\, Executive Director\, European Chamber of Commerce\n11:10 am Reception\n11:30 pm End of Event \nLight refreshments will be served.\nThe organisers reserve the right to change the programme content without giving prior notification or any reasons thereof.
URL:https://thediplomaticnetwork.com/event/ai-beyond-the-buzz-report-launch/
LOCATION:Singapore
CATEGORIES:Chambers of Commerce,European Chamber of Commerce in Singapore
ATTACH;FMTTYPE=image/webp:https://thediplomaticnetwork.com/wp-content/uploads/2024/10/EV24-1021-AI-Beyond-the-Buzz-Report-Launch.webp
END:VEVENT
BEGIN:VEVENT
DTSTART;VALUE=DATE:20241022
DTEND;VALUE=DATE:20241026
DTSTAMP:20260420T064810
CREATED:20240215T183358Z
LAST-MODIFIED:20240215T183358Z
UID:2929-1729555200-1729900799@thediplomaticnetwork.com
SUMMARY:Food & Hotel Asia HoRECA
DESCRIPTION:
URL:https://thediplomaticnetwork.com/event/food-hotel-asia-horeca/
CATEGORIES:Travel
ATTACH;FMTTYPE=image/png:https://thediplomaticnetwork.com/wp-content/uploads/2024/02/FHA_HoReCa_Logo.png
END:VEVENT
BEGIN:VEVENT
DTSTART;VALUE=DATE:20241023
DTEND;VALUE=DATE:20241024
DTSTAMP:20260420T064810
CREATED:20240215T185026Z
LAST-MODIFIED:20240215T185026Z
UID:3007-1729641600-1729727999@thediplomaticnetwork.com
SUMMARY:National Day: Republic of Hungary\, 2024
DESCRIPTION:
URL:https://thediplomaticnetwork.com/event/national-day-republic-of-hungary-2024/
CATEGORIES:National Days
ATTACH;FMTTYPE=image/svg+xml:https://thediplomaticnetwork.com/wp-content/uploads/2023/03/Republic-of-Hungary-National-Flag.svg
END:VEVENT
BEGIN:VEVENT
DTSTART;VALUE=DATE:20241023
DTEND;VALUE=DATE:20241025
DTSTAMP:20260420T064810
CREATED:20240215T183558Z
LAST-MODIFIED:20240215T183558Z
UID:2930-1729641600-1729814399@thediplomaticnetwork.com
SUMMARY:ITB Asia/MICE Show Asia
DESCRIPTION:
URL:https://thediplomaticnetwork.com/event/itb-asia-mice-show-asia/
CATEGORIES:Travel
ATTACH;FMTTYPE=image/png:https://thediplomaticnetwork.com/wp-content/uploads/2024/02/ITB_Asia_Logo-removebg-preview.png
END:VEVENT
BEGIN:VEVENT
DTSTART;VALUE=DATE:20241026
DTEND;VALUE=DATE:20241027
DTSTAMP:20260420T064810
CREATED:20240215T185027Z
LAST-MODIFIED:20240215T185027Z
UID:3008-1729900800-1729987199@thediplomaticnetwork.com
SUMMARY:National Day: Republic of Austria\, 2024
DESCRIPTION:
URL:https://thediplomaticnetwork.com/event/national-day-republic-of-austria-2024/
CATEGORIES:National Days
ATTACH;FMTTYPE=image/svg+xml:https://thediplomaticnetwork.com/wp-content/uploads/2023/03/Republic-of-Austria-National-Flag.svg
END:VEVENT
BEGIN:VEVENT
DTSTART;VALUE=DATE:20241028
DTEND;VALUE=DATE:20241029
DTSTAMP:20260420T064810
CREATED:20240215T185028Z
LAST-MODIFIED:20240215T185028Z
UID:3009-1730073600-1730159999@thediplomaticnetwork.com
SUMMARY:National Day: Czech Republic\, 2024
DESCRIPTION:
URL:https://thediplomaticnetwork.com/event/national-day-czech-republic-2024/
CATEGORIES:National Days
ATTACH;FMTTYPE=image/svg+xml:https://thediplomaticnetwork.com/wp-content/uploads/2023/03/Czech-Republic-National-Flag.svg
END:VEVENT
BEGIN:VEVENT
DTSTART;VALUE=DATE:20241028
DTEND;VALUE=DATE:20241101
DTSTAMP:20260420T064810
CREATED:20240304T114422Z
LAST-MODIFIED:20240304T114422Z
UID:3178-1730073600-1730419199@thediplomaticnetwork.com
SUMMARY:28th ASEAN Labour Ministers Meeting
DESCRIPTION:
URL:https://thediplomaticnetwork.com/event/28th-asean-labour-ministers-meeting/
CATEGORIES:ASEAN
ATTACH;FMTTYPE=image/png:https://thediplomaticnetwork.com/wp-content/uploads/2024/03/2.Asean-LAO-PDR-2024-Secondary-Configuration@4x.png
END:VEVENT
BEGIN:VEVENT
DTSTART;VALUE=DATE:20241029
DTEND;VALUE=DATE:20241030
DTSTAMP:20260420T064810
CREATED:20240215T185029Z
LAST-MODIFIED:20240215T185029Z
UID:3010-1730160000-1730246399@thediplomaticnetwork.com
SUMMARY:National Day: Republic of Turkey\, 2024
DESCRIPTION:
URL:https://thediplomaticnetwork.com/event/national-day-republic-of-turkey-2024/
CATEGORIES:National Days
ATTACH;FMTTYPE=image/svg+xml:https://thediplomaticnetwork.com/wp-content/uploads/2023/03/Republic-of-Turkey-National-Flag.svg
END:VEVENT
BEGIN:VEVENT
DTSTART;VALUE=DATE:20241029
DTEND;VALUE=DATE:20241101
DTSTAMP:20260420T064810
CREATED:20240215T183559Z
LAST-MODIFIED:20240215T183559Z
UID:2931-1730160000-1730419199@thediplomaticnetwork.com
SUMMARY:Air Expo Abu Dhabi
DESCRIPTION:
URL:https://thediplomaticnetwork.com/event/air-expo-abu-dhabi/
CATEGORIES:Travel
ATTACH;FMTTYPE=image/png:https://thediplomaticnetwork.com/wp-content/uploads/2024/02/AirExpo.png
END:VEVENT
BEGIN:VEVENT
DTSTART;TZID=Asia/Shanghai:20241030T120000
DTEND;TZID=Asia/Shanghai:20241030T130000
DTSTAMP:20260420T064810
CREATED:20241015T065014Z
LAST-MODIFIED:20241015T065014Z
UID:4926-1730289600-1730293200@thediplomaticnetwork.com
SUMMARY:Navigating AI Innovation: Opportunities & Impact for Europe's Future
DESCRIPTION:Digital transformation is reshaping industries worldwide\, enhancing productivity\, refining decision-making\, and opening new avenues for growth. This panel will explore how Europe is advancing its digital innovation landscape while balancing regulatory demands\, creating both opportunities and challenges for businesses. \nThe discussion will examine Europe’s pioneering landscape—such as the EU AI Act—and contrast it with Singapore’s adaptable\, non-binding guidelines. Through this comparison\, the panel will illustrate how different governance models influence innovation\, investment\, and international competitiveness. \nOur expert speakers will offer insights into digitalisation’s impact on business strategy\, operational efficiency\, and cross-border cooperation. They will also address key challenges\, including ethics\, compliance\, and data security\, which are essential for companies looking to stay at the forefront of digital change. Attendees will gain valuable perspectives on how businesses can leverage digital tools for sustainable growth while staying aligned with regulatory developments in Europe and Asia.
URL:https://thediplomaticnetwork.com/event/navigating-ai-innovation-opportunities-impact-for-europes-future/
LOCATION:Singapore
CATEGORIES:Chambers of Commerce,European Chamber of Commerce in Singapore
ATTACH;FMTTYPE=image/webp:https://thediplomaticnetwork.com/wp-content/uploads/2024/10/EV24-1030-Navigating-AI-Innovation-Opportunities-and-Impact-for-Europes-Future-3.webp
END:VEVENT
BEGIN:VEVENT
DTSTART;VALUE=DATE:20241103
DTEND;VALUE=DATE:20241104
DTSTAMP:20260420T064810
CREATED:20240215T185030Z
LAST-MODIFIED:20240215T200642Z
UID:3011-1730592000-1730678399@thediplomaticnetwork.com
SUMMARY:National Day: Micronesia\, Federated  States of \, 2024
DESCRIPTION:
URL:https://thediplomaticnetwork.com/event/national-day-micronesia-federated-states-of-2024/
CATEGORIES:National Days
ATTACH;FMTTYPE=image/svg+xml:https://thediplomaticnetwork.com/wp-content/uploads/2023/03/Micronesia-Federated-States-of-National-Flag.svg
END:VEVENT
BEGIN:VEVENT
DTSTART;VALUE=DATE:20241103
DTEND;VALUE=DATE:20241104
DTSTAMP:20260420T064810
CREATED:20240215T185203Z
LAST-MODIFIED:20240215T185203Z
UID:3012-1730592000-1730678399@thediplomaticnetwork.com
SUMMARY:National Day: Republic of Panama\, 2024
DESCRIPTION:
URL:https://thediplomaticnetwork.com/event/national-day-republic-of-panama-2024/
CATEGORIES:National Days
ATTACH;FMTTYPE=image/svg+xml:https://thediplomaticnetwork.com/wp-content/uploads/2023/03/Republic-of-Panama-National-Flag.svg
END:VEVENT
BEGIN:VEVENT
DTSTART;VALUE=DATE:20241105
DTEND;VALUE=DATE:20241108
DTSTAMP:20260420T064810
CREATED:20240215T183600Z
LAST-MODIFIED:20240215T183600Z
UID:2932-1730764800-1731023999@thediplomaticnetwork.com
SUMMARY:WTM London
DESCRIPTION:
URL:https://thediplomaticnetwork.com/event/wtm-london/
CATEGORIES:Travel
ATTACH;FMTTYPE=image/png:https://thediplomaticnetwork.com/wp-content/uploads/2024/02/wtm-london-black.png
END:VEVENT
BEGIN:VEVENT
DTSTART;VALUE=DATE:20241109
DTEND;VALUE=DATE:20241110
DTSTAMP:20260420T064810
CREATED:20240215T185204Z
LAST-MODIFIED:20240215T185204Z
UID:3013-1731110400-1731196799@thediplomaticnetwork.com
SUMMARY:National Day: Kingdom of Cambodia\, 2024
DESCRIPTION:
URL:https://thediplomaticnetwork.com/event/national-day-kingdom-of-cambodia-2024/
CATEGORIES:National Days
ATTACH;FMTTYPE=image/svg+xml:https://thediplomaticnetwork.com/wp-content/uploads/2023/03/Kingdom-of-Cambodia-National-Flag.svg
END:VEVENT
BEGIN:VEVENT
DTSTART;VALUE=DATE:20241111
DTEND;VALUE=DATE:20241112
DTSTAMP:20260420T064810
CREATED:20240215T185206Z
LAST-MODIFIED:20240215T185206Z
UID:3014-1731283200-1731369599@thediplomaticnetwork.com
SUMMARY:National Day: Republic of Angola\, 2024
DESCRIPTION:
URL:https://thediplomaticnetwork.com/event/national-day-republic-of-angola-2024/
CATEGORIES:National Days
ATTACH;FMTTYPE=image/svg+xml:https://thediplomaticnetwork.com/wp-content/uploads/2023/03/Republic-of-Angola-National-Flag.svg
END:VEVENT
BEGIN:VEVENT
DTSTART;TZID=Asia/Shanghai:20241115T150000
DTEND;TZID=Asia/Shanghai:20241115T180000
DTSTAMP:20260420T064810
CREATED:20241010T074458Z
LAST-MODIFIED:20241010T074458Z
UID:4904-1731682800-1731693600@thediplomaticnetwork.com
SUMMARY:Bridging Continents: Agricultural Trade Between South Africa & Southeast Asia
DESCRIPTION:Join the Agri and Commodities Subcommittee of the South African Chamber of Commerce Singapore for an engaging event focused on enhancing real agricultural trade opportunities between South Africa and Singapore. This in-person gathering in Singapore will explore opportunities within South Africa’s dynamic agricultural sector and encourage knowledge exchange between Singaporean and South African agricultural businesses. \n\nThis event is perfect for individuals and companies in Singapore looking to understand the South African agricultural opportunity landscape and meet face-to-face with individuals and companies with deep connections and know-how of this sector in South Africa. \n\nDue to the nature and value of the event\, this is a paid ticketed event (Reduced for Members) \n\nYour ticket includes a 5 item tea selection\, with a selected beverage and one glass of wine per person \n\nThe event will feature a panel discussion with industry experts\, offering insights into the latest trends\, challenges\, and growth potential in agricultural trade. Attendees will also have the chance to network and explore potential partnerships aimed at fostering deeper trade relations. \n\nKey Objectives: \n\nRaise awareness of investment and business opportunities in South Africa’s agriculture sector. Understanding the current trade focuses between Singapore and South Africa and trade volumes. Bring to the surface the gaps and possible extended trade opportunities big and small.\nUnderstand how South Africa can be an answer to the food diversification strategy in Singapore and the broader SEA.\nProvide a platform for high-value face-to-face networking and exploring real business opportunities.\nEngage key stakeholders from both countries to strengthen trade relations and collaboration in the agricultural field.\nNext Steps – how do we leverage the Chamber and its extensive network in South Africa to drive trade.\n\nAgenda: \n3:00 PM – Registration and Welcome Drinks \n3:30 PM – Opening Remarks by Moderator – Anesan Naidoo \n3:45 PM – Panel Discussion: “Opportunities for Collaboration Between Singapore and South Africa in Agriculture” – Pradeepto Biswas\, ToonLee Ng \n4:30 PM – Q&A session \n4:45PM – Closing remarks\, networking with food and drinks \n6:00PM – End of event
URL:https://thediplomaticnetwork.com/event/bridging-continents-agricultural-trade-between-south-africa-southeast-asia/
LOCATION:Singapore
CATEGORIES:Chambers of Commerce,South African Chamber of Commerce Singapore
ATTACH;FMTTYPE=image/jpeg:https://thediplomaticnetwork.com/wp-content/uploads/2024/10/Bridging-Continents-Brochure.jpg
END:VEVENT
END:VCALENDAR