BEGIN:VCALENDAR
VERSION:2.0
PRODID:-//The Diplomatic Network - ECPv6.15.20//NONSGML v1.0//EN
CALSCALE:GREGORIAN
METHOD:PUBLISH
X-WR-CALNAME:The Diplomatic Network
X-ORIGINAL-URL:https://thediplomaticnetwork.com
X-WR-CALDESC:Events for The Diplomatic Network
REFRESH-INTERVAL;VALUE=DURATION:PT1H
X-Robots-Tag:noindex
X-PUBLISHED-TTL:PT1H
BEGIN:VTIMEZONE
TZID:Asia/Singapore
BEGIN:STANDARD
TZOFFSETFROM:+0800
TZOFFSETTO:+0800
TZNAME:+08
DTSTART:20240101T000000
END:STANDARD
END:VTIMEZONE
BEGIN:VTIMEZONE
TZID:Asia/Shanghai
BEGIN:STANDARD
TZOFFSETFROM:+0800
TZOFFSETTO:+0800
TZNAME:CST
DTSTART:20240101T000000
END:STANDARD
END:VTIMEZONE
BEGIN:VEVENT
DTSTART;VALUE=DATE:20250423
DTEND;VALUE=DATE:20250424
DTSTAMP:20260420T001951
CREATED:20250209T210939Z
LAST-MODIFIED:20250209T210939Z
UID:5452-1745366400-1745452799@thediplomaticnetwork.com
SUMMARY:National Day: United Kingdom\, 2025
DESCRIPTION:
URL:https://thediplomaticnetwork.com/event/national-day-united-kingdom-2025/
CATEGORIES:National Days
ATTACH;FMTTYPE=image/svg+xml:https://thediplomaticnetwork.com/wp-content/uploads/2023/03/United-Kingdom-National-Flag.svg
END:VEVENT
BEGIN:VEVENT
DTSTART;VALUE=DATE:20250427
DTEND;VALUE=DATE:20250428
DTSTAMP:20260420T001951
CREATED:20250209T210940Z
LAST-MODIFIED:20250209T210940Z
UID:5453-1745712000-1745798399@thediplomaticnetwork.com
SUMMARY:National Day: Kingdom of the Netherlands\, 2025
DESCRIPTION:
URL:https://thediplomaticnetwork.com/event/national-day-kingdom-of-the-netherlands-2025/
CATEGORIES:National Days
ATTACH;FMTTYPE=image/svg+xml:https://thediplomaticnetwork.com/wp-content/uploads/2023/03/Kingdom-of-the-Netherlands-National-Flag.svg
END:VEVENT
BEGIN:VEVENT
DTSTART;VALUE=DATE:20250427
DTEND;VALUE=DATE:20250428
DTSTAMP:20260420T001951
CREATED:20250209T210941Z
LAST-MODIFIED:20250209T210941Z
UID:5454-1745712000-1745798399@thediplomaticnetwork.com
SUMMARY:National Day: Republic of South Africa\, 2025
DESCRIPTION:
URL:https://thediplomaticnetwork.com/event/national-day-republic-of-south-africa-2025/
CATEGORIES:National Days
ATTACH;FMTTYPE=image/svg+xml:https://thediplomaticnetwork.com/wp-content/uploads/2023/03/Republic-of-South-Africa-National-Flag.svg
END:VEVENT
BEGIN:VEVENT
DTSTART;TZID=Asia/Shanghai:20250428T153000
DTEND;TZID=Asia/Shanghai:20250428T173000
DTSTAMP:20260420T001951
CREATED:20250317T045517Z
LAST-MODIFIED:20250317T045517Z
UID:5700-1745854200-1745861400@thediplomaticnetwork.com
SUMMARY:From Commitment to Action: Leveraging Energy Attribute Certificates For Effective Scope 2 Emission Reductions
DESCRIPTION:As businesses across the globe aim to achieve ambitious sustainability goals\, Energy Attribute Certificates (EACs) have emerged as a powerful tool to drive decarbonisation and accelerate renewable energy adoption. This event will explore the market dynamics\, strategic applications\, and policy frameworks surrounding EACs. \nExperts from sustainability\, procurement\, supply chain and business leaders will benefit from joining this event. It aims to: \n\nEducate Corporates: Provide participants with a comprehensive understanding of EACs and their significance in corporate decarbonisation efforts.\nExplore Market Trends: Share the latest developments in the EAC market\, including regional trends and global innovations.\nExplore Corporate Strategies: Showcase real-world examples and corporate strategies for using EACs to meet renewable energy and emissions reduction targets.
URL:https://thediplomaticnetwork.com/event/from-commitment-to-action-leveraging-energy-attribute-certificates-for-effective-scope-2-emission-reductions/
LOCATION:Singapore
CATEGORIES:Chambers of Commerce,European Chamber of Commerce in Singapore
ATTACH;FMTTYPE=image/png:https://thediplomaticnetwork.com/wp-content/uploads/2025/03/EV25-0428-From-Commitment-to-Action-Leveraging-Energy-Attribute-Certificates-EACs-for-Effective-Scope-2-Emission-Reductions.png
END:VEVENT
BEGIN:VEVENT
DTSTART;TZID=Asia/Shanghai:20250430T160000
DTEND;TZID=Asia/Shanghai:20250430T180000
DTSTAMP:20260420T001951
CREATED:20250319T060129Z
LAST-MODIFIED:20250319T060129Z
UID:5707-1746028800-1746036000@thediplomaticnetwork.com
SUMMARY:Networking Evening: Celebrating 60 Years of Singapore's Success Hosted by EuroCham and SCCCI
DESCRIPTION:Join the Singapore Chinese Chamber of Commerce and Industry (SCCCI) and EuroCham for a special networking event celebrating Singapore’s 60th Anniversary\, unity\, collaboration\, and growth. Hosted by SHEIN\, this evening will bring together the European and Chinese business community\, Singaporean stakeholders and NBGs.
URL:https://thediplomaticnetwork.com/event/networking-evening-celebrating-60-years-of-singapores-success-hosted-by-eurocham-and-sccci/
LOCATION:Singapore
CATEGORIES:Chambers of Commerce,European Chamber of Commerce in Singapore
ATTACH;FMTTYPE=image/webp:https://thediplomaticnetwork.com/wp-content/uploads/2025/03/EV25-3004-Networking-Series-3.webp
END:VEVENT
BEGIN:VEVENT
DTSTART;VALUE=DATE:20250503
DTEND;VALUE=DATE:20250504
DTSTAMP:20260420T001951
CREATED:20250209T210943Z
LAST-MODIFIED:20250209T210943Z
UID:5455-1746230400-1746316799@thediplomaticnetwork.com
SUMMARY:National Day: Republic of Poland\, 2025
DESCRIPTION:
URL:https://thediplomaticnetwork.com/event/national-day-republic-of-poland-2025/
CATEGORIES:National Days
ATTACH;FMTTYPE=image/svg+xml:https://thediplomaticnetwork.com/wp-content/uploads/2023/03/Republic-of-Poland-National-Flag.svg
END:VEVENT
BEGIN:VEVENT
DTSTART;VALUE=DATE:20250514
DTEND;VALUE=DATE:20250515
DTSTAMP:20260420T001951
CREATED:20250209T210944Z
LAST-MODIFIED:20250209T210944Z
UID:5456-1747180800-1747267199@thediplomaticnetwork.com
SUMMARY:National Day: State of Israel\, 2025
DESCRIPTION:
URL:https://thediplomaticnetwork.com/event/national-day-state-of-israel-2025/
CATEGORIES:National Days
ATTACH;FMTTYPE=image/svg+xml:https://thediplomaticnetwork.com/wp-content/uploads/2023/03/State-of-Israel-National-Flag.svg
END:VEVENT
BEGIN:VEVENT
DTSTART;VALUE=DATE:20250517
DTEND;VALUE=DATE:20250518
DTSTAMP:20260420T001951
CREATED:20250209T210951Z
LAST-MODIFIED:20250209T210951Z
UID:5457-1747440000-1747526399@thediplomaticnetwork.com
SUMMARY:National Day: Kingdom of Norway\, 2025
DESCRIPTION:
URL:https://thediplomaticnetwork.com/event/national-day-kingdom-of-norway-2025/
CATEGORIES:National Days
ATTACH;FMTTYPE=image/svg+xml:https://thediplomaticnetwork.com/wp-content/uploads/2023/03/Kingdom-of-Norway-National-Flag.svg
END:VEVENT
BEGIN:VEVENT
DTSTART;VALUE=DATE:20250520
DTEND;VALUE=DATE:20250521
DTSTAMP:20260420T001951
CREATED:20250209T210952Z
LAST-MODIFIED:20250209T210952Z
UID:5458-1747699200-1747785599@thediplomaticnetwork.com
SUMMARY:National Day: Democratic Republic of TimorLeste\, 2025
DESCRIPTION:
URL:https://thediplomaticnetwork.com/event/national-day-democratic-republic-of-timorleste-2025/
CATEGORIES:National Days
ATTACH;FMTTYPE=image/svg+xml:https://thediplomaticnetwork.com/wp-content/uploads/2023/03/Democratic-Republic-of-TimorLeste-National-Flag.svg
END:VEVENT
BEGIN:VEVENT
DTSTART;VALUE=DATE:20250525
DTEND;VALUE=DATE:20250526
DTSTAMP:20260420T001951
CREATED:20250209T210953Z
LAST-MODIFIED:20250209T210953Z
UID:5459-1748131200-1748217599@thediplomaticnetwork.com
SUMMARY:National Day: Republic of Argentina\, 2025
DESCRIPTION:
URL:https://thediplomaticnetwork.com/event/national-day-republic-of-argentina-2025/
CATEGORIES:National Days
ATTACH;FMTTYPE=image/svg+xml:https://thediplomaticnetwork.com/wp-content/uploads/2023/03/Republic-of-Argentina-National-Flag.svg
END:VEVENT
BEGIN:VEVENT
DTSTART;VALUE=DATE:20250525
DTEND;VALUE=DATE:20250526
DTSTAMP:20260420T001951
CREATED:20250209T210954Z
LAST-MODIFIED:20250209T210954Z
UID:5460-1748131200-1748217599@thediplomaticnetwork.com
SUMMARY:National Day: Hashemite Kingdom of Jordan\, 2025
DESCRIPTION:
URL:https://thediplomaticnetwork.com/event/national-day-hashemite-kingdom-of-jordan-2025/
CATEGORIES:National Days
ATTACH;FMTTYPE=image/svg+xml:https://thediplomaticnetwork.com/wp-content/uploads/2023/03/Hashemite-Kingdom-of-Jordan-National-Flag.svg
END:VEVENT
BEGIN:VEVENT
DTSTART;VALUE=DATE:20250602
DTEND;VALUE=DATE:20250603
DTSTAMP:20260420T001951
CREATED:20250209T210956Z
LAST-MODIFIED:20250209T210956Z
UID:5461-1748822400-1748908799@thediplomaticnetwork.com
SUMMARY:National Day: Republic of Italy\, 2025
DESCRIPTION:
URL:https://thediplomaticnetwork.com/event/national-day-republic-of-italy-2025/
CATEGORIES:National Days
ATTACH;FMTTYPE=image/svg+xml:https://thediplomaticnetwork.com/wp-content/uploads/2023/03/Republic-of-Italy-National-Flag.svg
END:VEVENT
BEGIN:VEVENT
DTSTART;VALUE=DATE:20250605
DTEND;VALUE=DATE:20250606
DTSTAMP:20260420T001951
CREATED:20250209T211007Z
LAST-MODIFIED:20250209T211007Z
UID:5462-1749081600-1749167999@thediplomaticnetwork.com
SUMMARY:National Day: Kingdom of Denmark\, 2025
DESCRIPTION:
URL:https://thediplomaticnetwork.com/event/national-day-kingdom-of-denmark-2025/
CATEGORIES:National Days
ATTACH;FMTTYPE=image/svg+xml:https://thediplomaticnetwork.com/wp-content/uploads/2023/03/Kingdom-of-Denmark-National-Flag.svg
END:VEVENT
BEGIN:VEVENT
DTSTART;VALUE=DATE:20250606
DTEND;VALUE=DATE:20250607
DTSTAMP:20260420T001951
CREATED:20250209T211009Z
LAST-MODIFIED:20250209T211009Z
UID:5463-1749168000-1749254399@thediplomaticnetwork.com
SUMMARY:National Day: Sweden\, 2025
DESCRIPTION:
URL:https://thediplomaticnetwork.com/event/national-day-sweden-2025/
CATEGORIES:National Days
ATTACH;FMTTYPE=image/svg+xml:https://thediplomaticnetwork.com/wp-content/uploads/2023/03/Sweden-National-Flag.svg
END:VEVENT
BEGIN:VEVENT
DTSTART;VALUE=DATE:20250610
DTEND;VALUE=DATE:20250611
DTSTAMP:20260420T001951
CREATED:20250209T211010Z
LAST-MODIFIED:20250209T211010Z
UID:5464-1749513600-1749599999@thediplomaticnetwork.com
SUMMARY:National Day: Portuguese Republic\, 2025
DESCRIPTION:
URL:https://thediplomaticnetwork.com/event/national-day-portuguese-republic-2025/
CATEGORIES:National Days
ATTACH;FMTTYPE=image/svg+xml:https://thediplomaticnetwork.com/wp-content/uploads/2023/03/Portuguese-Republic-National-Flag.svg
END:VEVENT
BEGIN:VEVENT
DTSTART;VALUE=DATE:20250612
DTEND;VALUE=DATE:20250613
DTSTAMP:20260420T001951
CREATED:20250209T211011Z
LAST-MODIFIED:20250209T211011Z
UID:5465-1749686400-1749772799@thediplomaticnetwork.com
SUMMARY:National Day: Republic of the Philippines\, 2025
DESCRIPTION:
URL:https://thediplomaticnetwork.com/event/national-day-republic-of-the-philippines-2025/
CATEGORIES:National Days
ATTACH;FMTTYPE=image/svg+xml:https://thediplomaticnetwork.com/wp-content/uploads/2023/03/Republic-of-the-Philippines-National-Flag.svg
END:VEVENT
BEGIN:VEVENT
DTSTART;VALUE=DATE:20250612
DTEND;VALUE=DATE:20250613
DTSTAMP:20260420T001951
CREATED:20250209T211012Z
LAST-MODIFIED:20250209T211012Z
UID:5466-1749686400-1749772799@thediplomaticnetwork.com
SUMMARY:National Day: Russian Federation\, 2025
DESCRIPTION:
URL:https://thediplomaticnetwork.com/event/national-day-russian-federation-2025/
CATEGORIES:National Days
ATTACH;FMTTYPE=image/svg+xml:https://thediplomaticnetwork.com/wp-content/uploads/2023/03/Russian-Federation-National-Flag.svg
END:VEVENT
BEGIN:VEVENT
DTSTART;VALUE=DATE:20250701
DTEND;VALUE=DATE:20250702
DTSTAMP:20260420T001951
CREATED:20250209T211022Z
LAST-MODIFIED:20250209T211022Z
UID:5467-1751328000-1751414399@thediplomaticnetwork.com
SUMMARY:National Day: Dominion of Canada\, 2025
DESCRIPTION:
URL:https://thediplomaticnetwork.com/event/national-day-dominion-of-canada-2025/
CATEGORIES:National Days
ATTACH;FMTTYPE=image/svg+xml:https://thediplomaticnetwork.com/wp-content/uploads/2023/03/Dominion-of-Canada-National-Flag.svg
END:VEVENT
BEGIN:VEVENT
DTSTART;VALUE=DATE:20250704
DTEND;VALUE=DATE:20250705
DTSTAMP:20260420T001951
CREATED:20250209T211023Z
LAST-MODIFIED:20250209T211023Z
UID:5468-1751587200-1751673599@thediplomaticnetwork.com
SUMMARY:National Day: Republic of Rwanda\, 2025
DESCRIPTION:
URL:https://thediplomaticnetwork.com/event/national-day-republic-of-rwanda-2025/
CATEGORIES:National Days
ATTACH;FMTTYPE=image/svg+xml:https://thediplomaticnetwork.com/wp-content/uploads/2023/03/Republic-of-Rwanda-National-Flag.svg
END:VEVENT
BEGIN:VEVENT
DTSTART;VALUE=DATE:20250704
DTEND;VALUE=DATE:20250705
DTSTAMP:20260420T001951
CREATED:20250209T211025Z
LAST-MODIFIED:20250209T211025Z
UID:5469-1751587200-1751673599@thediplomaticnetwork.com
SUMMARY:National Day: United States of America\, 2025
DESCRIPTION:
URL:https://thediplomaticnetwork.com/event/national-day-united-states-of-america-2025/
CATEGORIES:National Days
ATTACH;FMTTYPE=image/svg+xml:https://thediplomaticnetwork.com/wp-content/uploads/2023/03/United-States-of-America-National-Flag.svg
END:VEVENT
BEGIN:VEVENT
DTSTART;VALUE=DATE:20250705
DTEND;VALUE=DATE:20250706
DTSTAMP:20260420T001951
CREATED:20250209T211026Z
LAST-MODIFIED:20250209T211026Z
UID:5470-1751673600-1751759999@thediplomaticnetwork.com
SUMMARY:National Day: Bolivarian Republic of Venezuela\, 2025
DESCRIPTION:
URL:https://thediplomaticnetwork.com/event/national-day-bolivarian-republic-of-venezuela-2025/
CATEGORIES:National Days
ATTACH;FMTTYPE=image/svg+xml:https://thediplomaticnetwork.com/wp-content/uploads/2023/03/Bolivarian-Republic-of-Venezuela-National-Flag.svg
END:VEVENT
BEGIN:VEVENT
DTSTART;VALUE=DATE:20250711
DTEND;VALUE=DATE:20250712
DTSTAMP:20260420T001951
CREATED:20250209T211027Z
LAST-MODIFIED:20250209T211027Z
UID:5471-1752192000-1752278399@thediplomaticnetwork.com
SUMMARY:National Day: Mongolia\, 2025
DESCRIPTION:
URL:https://thediplomaticnetwork.com/event/national-day-mongolia-2025/
CATEGORIES:National Days
END:VEVENT
BEGIN:VEVENT
DTSTART;VALUE=DATE:20250714
DTEND;VALUE=DATE:20250715
DTSTAMP:20260420T001951
CREATED:20250209T211037Z
LAST-MODIFIED:20250209T211037Z
UID:5472-1752451200-1752537599@thediplomaticnetwork.com
SUMMARY:National Day: French Republic\, 2025
DESCRIPTION:
URL:https://thediplomaticnetwork.com/event/national-day-french-republic-2025/
CATEGORIES:National Days
ATTACH;FMTTYPE=image/svg+xml:https://thediplomaticnetwork.com/wp-content/uploads/2023/03/French-Republic-National-Flag.svg
END:VEVENT
BEGIN:VEVENT
DTSTART;VALUE=DATE:20250720
DTEND;VALUE=DATE:20250721
DTSTAMP:20260420T001951
CREATED:20250209T211039Z
LAST-MODIFIED:20250209T211039Z
UID:5473-1752969600-1753055999@thediplomaticnetwork.com
SUMMARY:National Day: Republic of Colombia\, 2025
DESCRIPTION:
URL:https://thediplomaticnetwork.com/event/national-day-republic-of-colombia-2025/
CATEGORIES:National Days
ATTACH;FMTTYPE=image/svg+xml:https://thediplomaticnetwork.com/wp-content/uploads/2023/03/Republic-of-Colombia-National-Flag.svg
END:VEVENT
BEGIN:VEVENT
DTSTART;VALUE=DATE:20250721
DTEND;VALUE=DATE:20250722
DTSTAMP:20260420T001951
CREATED:20250209T211126Z
LAST-MODIFIED:20250209T211126Z
UID:5475-1753056000-1753142399@thediplomaticnetwork.com
SUMMARY:National Day: Kingdom of Belgium\, 2025
DESCRIPTION:
URL:https://thediplomaticnetwork.com/event/national-day-kingdom-of-belgium-2025/
CATEGORIES:National Days
ATTACH;FMTTYPE=image/svg+xml:https://thediplomaticnetwork.com/wp-content/uploads/2023/03/Kingdom-of-Belgium-National-Flag.svg
END:VEVENT
BEGIN:VEVENT
DTSTART;VALUE=DATE:20250723
DTEND;VALUE=DATE:20250724
DTSTAMP:20260420T001951
CREATED:20250209T211127Z
LAST-MODIFIED:20250209T211127Z
UID:5476-1753228800-1753315199@thediplomaticnetwork.com
SUMMARY:National Day: Arab Republic of Egypt\, 2025
DESCRIPTION:
URL:https://thediplomaticnetwork.com/event/national-day-arab-republic-of-egypt-2025/
CATEGORIES:National Days
ATTACH;FMTTYPE=image/svg+xml:https://thediplomaticnetwork.com/wp-content/uploads/2023/03/Arab-Republic-of-Egypt-National-Flag.svg
END:VEVENT
BEGIN:VEVENT
DTSTART;VALUE=DATE:20250726
DTEND;VALUE=DATE:20250727
DTSTAMP:20260420T001951
CREATED:20250209T211128Z
LAST-MODIFIED:20250209T211128Z
UID:5477-1753488000-1753574399@thediplomaticnetwork.com
SUMMARY:National Day: Republic of Maldives\, 2025
DESCRIPTION:
URL:https://thediplomaticnetwork.com/event/national-day-republic-of-maldives-2025/
CATEGORIES:National Days
ATTACH;FMTTYPE=image/svg+xml:https://thediplomaticnetwork.com/wp-content/uploads/2023/03/Republic-of-Maldives-National-Flag.svg
END:VEVENT
BEGIN:VEVENT
DTSTART;VALUE=DATE:20250728
DTEND;VALUE=DATE:20250729
DTSTAMP:20260420T001951
CREATED:20250209T211130Z
LAST-MODIFIED:20250209T211130Z
UID:5478-1753660800-1753747199@thediplomaticnetwork.com
SUMMARY:National Day: Republic of Peru\, 2025
DESCRIPTION:
URL:https://thediplomaticnetwork.com/event/national-day-republic-of-peru-2025/
CATEGORIES:National Days
ATTACH;FMTTYPE=image/svg+xml:https://thediplomaticnetwork.com/wp-content/uploads/2023/03/Republic-of-Peru-National-Flag.svg
END:VEVENT
BEGIN:VEVENT
DTSTART;VALUE=DATE:20250801
DTEND;VALUE=DATE:20250802
DTSTAMP:20260420T001951
CREATED:20250209T211131Z
LAST-MODIFIED:20250209T211131Z
UID:5479-1754006400-1754092799@thediplomaticnetwork.com
SUMMARY:National Day: Swiss Confederation\, 2025
DESCRIPTION:
URL:https://thediplomaticnetwork.com/event/national-day-swiss-confederation-2025/
CATEGORIES:National Days
ATTACH;FMTTYPE=image/svg+xml:https://thediplomaticnetwork.com/wp-content/uploads/2023/03/Swiss-Confederation-National-Flag.svg
END:VEVENT
BEGIN:VEVENT
DTSTART;VALUE=DATE:20250817
DTEND;VALUE=DATE:20250818
DTSTAMP:20260420T001951
CREATED:20250209T211136Z
LAST-MODIFIED:20250209T211136Z
UID:5480-1755388800-1755475199@thediplomaticnetwork.com
SUMMARY:National Day: Republic of Indonesia\, 2025
DESCRIPTION:
URL:https://thediplomaticnetwork.com/event/national-day-republic-of-indonesia-2025/
CATEGORIES:National Days
ATTACH;FMTTYPE=image/svg+xml:https://thediplomaticnetwork.com/wp-content/uploads/2023/03/Republic-of-Indonesia-National-Flag.svg
END:VEVENT
END:VCALENDAR