BEGIN:VCALENDAR
VERSION:2.0
PRODID:-//The Diplomatic Network - ECPv6.15.20//NONSGML v1.0//EN
CALSCALE:GREGORIAN
METHOD:PUBLISH
X-WR-CALNAME:The Diplomatic Network
X-ORIGINAL-URL:https://thediplomaticnetwork.com
X-WR-CALDESC:Events for The Diplomatic Network
REFRESH-INTERVAL;VALUE=DURATION:PT1H
X-Robots-Tag:noindex
X-PUBLISHED-TTL:PT1H
BEGIN:VTIMEZONE
TZID:Asia/Shanghai
BEGIN:STANDARD
TZOFFSETFROM:+0800
TZOFFSETTO:+0800
TZNAME:CST
DTSTART:20230101T000000
END:STANDARD
END:VTIMEZONE
BEGIN:VTIMEZONE
TZID:Asia/Singapore
BEGIN:STANDARD
TZOFFSETFROM:+0800
TZOFFSETTO:+0800
TZNAME:+08
DTSTART:20230101T000000
END:STANDARD
END:VTIMEZONE
BEGIN:VEVENT
DTSTART;TZID=Asia/Shanghai:20240510T180000
DTEND;TZID=Asia/Shanghai:20240510T210000
DTSTAMP:20260420T154011
CREATED:20240507T065037Z
LAST-MODIFIED:20240507T065037Z
UID:3591-1715364000-1715374800@thediplomaticnetwork.com
SUMMARY:After Work Drinks with SACham and SAISG
DESCRIPTION:Join the SAChamber and SAISG for a relaxed after-work drinks evening at the Penny Black Pub\, where you can connect with fellow South Africans living in Singapore\, as well as network with members of the local business community. \nIt’s an opportunity to unwind\, enjoy good company\, and foster new connections in a friendly atmosphere. Whether you’re new to Singapore or a long-time resident\, come mingle over drinks and share stories and experiences with like-minded individuals.
URL:https://thediplomaticnetwork.com/event/after-work-drinks-with-sacham-and-saisg/
LOCATION:Singapore
CATEGORIES:Chambers of Commerce,South African Chamber of Commerce Singapore
ATTACH;FMTTYPE=image/png:https://thediplomaticnetwork.com/wp-content/uploads/2024/05/sacham-sg.png
END:VEVENT
BEGIN:VEVENT
DTSTART;VALUE=DATE:20240509
DTEND;VALUE=DATE:20240511
DTSTAMP:20260420T154011
CREATED:20240215T183014Z
LAST-MODIFIED:20240215T183014Z
UID:2910-1715212800-1715385599@thediplomaticnetwork.com
SUMMARY:Seoul International Travel Fair (KOTFA)
DESCRIPTION:
URL:https://thediplomaticnetwork.com/event/seoul-international-travel-fair-kotfa/
CATEGORIES:Travel
ATTACH;FMTTYPE=image/png:https://thediplomaticnetwork.com/wp-content/uploads/2024/02/SITF_Logo.png
END:VEVENT
BEGIN:VEVENT
DTSTART;VALUE=DATE:20240508
DTEND;VALUE=DATE:20240511
DTSTAMP:20260420T154011
CREATED:20240215T182910Z
LAST-MODIFIED:20240215T192805Z
UID:2909-1715126400-1715385599@thediplomaticnetwork.com
SUMMARY:TRENZ 2024
DESCRIPTION:
URL:https://thediplomaticnetwork.com/event/trenz-2024/
CATEGORIES:Travel
ATTACH;FMTTYPE=image/png:https://thediplomaticnetwork.com/wp-content/uploads/2024/02/Trenz_Logo.png
END:VEVENT
BEGIN:VEVENT
DTSTART;TZID=Asia/Shanghai:20240507T090000
DTEND;TZID=Asia/Shanghai:20240507T230000
DTSTAMP:20260420T154011
CREATED:20240416T065721Z
LAST-MODIFIED:20240416T065721Z
UID:3494-1715072400-1715122800@thediplomaticnetwork.com
SUMMARY:Sustainable Solutions Shaping the Construction Industry
DESCRIPTION:In line with Singapore’s pledge to achieve net-zero emissions\, the construction and materials sector is stepping up to play its part. \nThe objective of this panel discussion is to facilitate a collaborative dialogue on practical solutions and innovative approaches to advance sustainable construction practices\, aligning with Singapore’s broader sustainability goals. \nThe recent regulation from SGX recommends that climate reporting should be mandatory for all large companies. If implemented\, these will have an impact across the extensive supply chain that constitutes the built environment sector. \nTo discuss these issues and share her views on ESG reporting in the built environment sector\, we are privileged to have Ms Esther An\, Chief Sustainability Officer of City Developments Limited (CDL) and Committee Chair of the Singapore Reporting Advisory Council (SRAC). Ms An will elucidate CDL’s steadfast commitment to environmental sustainability\, as evidenced by its annual publication of the Integrated Sustainability Report. She will also share the implications that regulations are expected to have for the built environment sector and its supply chain. \nThe exchange of perspectives will also touch upon what general contractors and other industry participants are currently doing in the field of sustainability.
URL:https://thediplomaticnetwork.com/event/sustainable-solutions-shaping-the-construction-industry/
LOCATION:Singapore
CATEGORIES:Chambers of Commerce,European Chamber of Commerce in Singapore
ATTACH;FMTTYPE=image/png:https://thediplomaticnetwork.com/wp-content/uploads/2024/04/EV24-0507-Sustainable-Solutions-Shaping-the-Construction-Industry.png
END:VEVENT
BEGIN:VEVENT
DTSTART;VALUE=DATE:20240506
DTEND;VALUE=DATE:20240510
DTSTAMP:20260420T154011
CREATED:20240215T182909Z
LAST-MODIFIED:20240215T182909Z
UID:2908-1714953600-1715299199@thediplomaticnetwork.com
SUMMARY:Arabian Travel Market 2024
DESCRIPTION:
URL:https://thediplomaticnetwork.com/event/arabian-travel-market-2024/
CATEGORIES:Travel
ATTACH;FMTTYPE=image/png:https://thediplomaticnetwork.com/wp-content/uploads/2024/02/atm-2024-Logo.png
END:VEVENT
BEGIN:VEVENT
DTSTART;TZID=Asia/Shanghai:20240503T080000
DTEND;TZID=Asia/Shanghai:20240503T170000
DTSTAMP:20260420T154011
CREATED:20240405T055213Z
LAST-MODIFIED:20240405T055213Z
UID:3434-1714723200-1714755600@thediplomaticnetwork.com
SUMMARY:Key Takeaways from the Budget 2024 and the Opportunities of the New Refundable Investment Credit (RIC)
DESCRIPTION:Deputy Prime Minister and Finance Minister\, Mr Lawrence Wong\, delivered his third Budget speech on 16 February 2024. The Minister started with outlining the mixed economic outlook arising from continued geopolitical contestations and the need to act swiftly to combat climate change. Moreover\, national economic growth in the past year was very modest\, at 1\,1%. Amidst all these challenges\, the Minister announced high ambitions to strengthen the nation and unveiled the many initiatives that will drive a resilient and thriving economy. \nJoin us at this post-budget discussion with EDB and Deloitte to discover a wealth of opportunities available for your businesses as we delve into: \n\n\nRefundable Investment Credit (RIC)\, a tax credit supporting high-value and substantive economic activities\, including the setting up or expansion of manufacturing facilities\, new innovation\, R&D and activities in support of the green transition\nInitiatives that support economic growth and competitiveness (e.g. RIE2025\, National AI Strategy 2.0.\, National Productivity Fund (NPF)…)\nInitiatives that support sustainable development (e.g. Future Energy Fund\, Energy Efficiency Grant\, Sustainability Reporting Grant and Programme…)
URL:https://thediplomaticnetwork.com/event/key-takeaways-from-the-budget-2024-and-the-opportunities-of-the-new-refundable-investment-credit-ric/
LOCATION:Singapore
CATEGORIES:Chambers of Commerce,European Chamber of Commerce in Singapore
ATTACH;FMTTYPE=image/png:https://thediplomaticnetwork.com/wp-content/uploads/2024/04/EV24-0411-Decarbonisation-of-Supply-Chain-Tour-of-the-DHL-Innovation-Center-3.png
END:VEVENT
BEGIN:VEVENT
DTSTART;VALUE=DATE:20240503
DTEND;VALUE=DATE:20240508
DTSTAMP:20260420T154011
CREATED:20240215T182908Z
LAST-MODIFIED:20240215T192906Z
UID:2907-1714694400-1715126399@thediplomaticnetwork.com
SUMMARY:International POW WOW 2024 (IPW)
DESCRIPTION:
URL:https://thediplomaticnetwork.com/event/international-pow-wow-2024-ipw/
CATEGORIES:Travel
ATTACH;FMTTYPE=image/png:https://thediplomaticnetwork.com/wp-content/uploads/2024/02/IPW2024_LosAngeles-Logo.png
END:VEVENT
BEGIN:VEVENT
DTSTART;VALUE=DATE:20240503
DTEND;VALUE=DATE:20240504
DTSTAMP:20260420T154011
CREATED:20240215T184651Z
LAST-MODIFIED:20240215T184651Z
UID:2957-1714694400-1714780799@thediplomaticnetwork.com
SUMMARY:National Day: Republic of Poland\, 2024
DESCRIPTION:
URL:https://thediplomaticnetwork.com/event/national-day-republic-of-poland-2024/
CATEGORIES:National Days
ATTACH;FMTTYPE=image/svg+xml:https://thediplomaticnetwork.com/wp-content/uploads/2023/03/Republic-of-Poland-National-Flag.svg
END:VEVENT
BEGIN:VEVENT
DTSTART;VALUE=DATE:20240429
DTEND;VALUE=DATE:20240502
DTSTAMP:20260420T154011
CREATED:20240215T182907Z
LAST-MODIFIED:20240215T193200Z
UID:2906-1714348800-1714607999@thediplomaticnetwork.com
SUMMARY:Future Hospitality Summit
DESCRIPTION:
URL:https://thediplomaticnetwork.com/event/future-hospitality-summit/
CATEGORIES:Travel
ATTACH;FMTTYPE=image/png:https://thediplomaticnetwork.com/wp-content/uploads/2024/02/fhs-logo-accent.png
END:VEVENT
BEGIN:VEVENT
DTSTART;VALUE=DATE:20240427
DTEND;VALUE=DATE:20240428
DTSTAMP:20260420T154011
CREATED:20240215T184650Z
LAST-MODIFIED:20240215T184650Z
UID:2956-1714176000-1714262399@thediplomaticnetwork.com
SUMMARY:National Day: Republic of South Africa\, 2024
DESCRIPTION:
URL:https://thediplomaticnetwork.com/event/national-day-republic-of-south-africa-2024/
CATEGORIES:National Days
ATTACH;FMTTYPE=image/svg+xml:https://thediplomaticnetwork.com/wp-content/uploads/2023/03/Republic-of-South-Africa-National-Flag.svg
END:VEVENT
BEGIN:VEVENT
DTSTART;VALUE=DATE:20240427
DTEND;VALUE=DATE:20240428
DTSTAMP:20260420T154011
CREATED:20240215T184649Z
LAST-MODIFIED:20240215T184649Z
UID:2955-1714176000-1714262399@thediplomaticnetwork.com
SUMMARY:National Day: Kingdom of the Netherlands\, 2024
DESCRIPTION:
URL:https://thediplomaticnetwork.com/event/national-day-kingdom-of-the-netherlands-2024/
CATEGORIES:National Days
ATTACH;FMTTYPE=image/svg+xml:https://thediplomaticnetwork.com/wp-content/uploads/2023/03/Kingdom-of-the-Netherlands-National-Flag.svg
END:VEVENT
BEGIN:VEVENT
DTSTART;VALUE=DATE:20240425
DTEND;VALUE=DATE:20240426
DTSTAMP:20260420T154011
CREATED:20240215T182906Z
LAST-MODIFIED:20240215T195430Z
UID:2905-1714003200-1714089599@thediplomaticnetwork.com
SUMMARY:CTC Corporate Travel Summit Asia (CAPA)
DESCRIPTION:
URL:https://thediplomaticnetwork.com/event/ctc-corporate-travel-summit-asia-capa/
CATEGORIES:Travel
ATTACH;FMTTYPE=image/png:https://thediplomaticnetwork.com/wp-content/uploads/2024/02/V5yggtU7TV2CW1TxChOr_CTC_ASIA_AWARDS.png
END:VEVENT
BEGIN:VEVENT
DTSTART;VALUE=DATE:20240423
DTEND;VALUE=DATE:20240427
DTSTAMP:20260420T154011
CREATED:20240215T182856Z
LAST-MODIFIED:20240215T182856Z
UID:2904-1713830400-1714175999@thediplomaticnetwork.com
SUMMARY:FHA Food & Beverage
DESCRIPTION:
URL:https://thediplomaticnetwork.com/event/fha-food-beverage/
CATEGORIES:Travel
ATTACH;FMTTYPE=image/png:https://thediplomaticnetwork.com/wp-content/uploads/2024/02/FHFB2024_Logo.png
END:VEVENT
BEGIN:VEVENT
DTSTART;VALUE=DATE:20240421
DTEND;VALUE=DATE:20240422
DTSTAMP:20260420T154011
CREATED:20240215T184648Z
LAST-MODIFIED:20240215T184648Z
UID:2954-1713657600-1713743999@thediplomaticnetwork.com
SUMMARY:National Day: United Kingdom\, 2024
DESCRIPTION:
URL:https://thediplomaticnetwork.com/event/national-day-united-kingdom-2024/
CATEGORIES:National Days
ATTACH;FMTTYPE=image/svg+xml:https://thediplomaticnetwork.com/wp-content/uploads/2023/03/United-Kingdom-National-Flag.svg
END:VEVENT
BEGIN:VEVENT
DTSTART;TZID=Asia/Shanghai:20240419T140000
DTEND;TZID=Asia/Shanghai:20240419T170000
DTSTAMP:20260420T154011
CREATED:20240408T060839Z
LAST-MODIFIED:20240408T060839Z
UID:3444-1713535200-1713546000@thediplomaticnetwork.com
SUMMARY:B2B Matchmaking Event: Connecting South African and African Delegates in Singapore
DESCRIPTION:Join South African Chamber of Commerce Singapore for an exclusive B2B matchmaking event tailored for delegates arriving in Singapore from South Africa and Africa for our members from Fixing Each Other’s Crown. \nThis event serves as a unique platform for fostering business collaborations and partnerships across diverse industries. Hosted at the prestigious Signature at Asia Square\, this event promises unparalleled networking opportunities in a sophisticated setting.
URL:https://thediplomaticnetwork.com/event/b2b-matchmaking-event-connecting-south-african-and-african-delegates-in-singapore/
LOCATION:Singapore
CATEGORIES:Chambers of Commerce,South African Chamber of Commerce Singapore
ATTACH;FMTTYPE=image/png:https://thediplomaticnetwork.com/wp-content/uploads/2024/04/sacham-sg.png
END:VEVENT
BEGIN:VEVENT
DTSTART;TZID=Asia/Shanghai:20240418T083000
DTEND;TZID=Asia/Shanghai:20240418T103000
DTSTAMP:20260420T154011
CREATED:20240322T060232Z
LAST-MODIFIED:20240322T060232Z
UID:3361-1713429000-1713436200@thediplomaticnetwork.com
SUMMARY:The Energy Transition in Singapore – Way Forward & Financing a More Sustainable Power Sector
DESCRIPTION:The power sector in Singapore accounts for about 40% of the country’s carbon emissions. In light of Singapore’s 2050 Net Zero Target\, reducing the power sector’s emissions will be critical to achieve this goal. However\, this does not come without challenges. Singapore will still need to maintain a secure\, reliable and sustainable power system in an increasingly unpredictable geopolitical environment. Additionally\, mobilising around $3.5 trillion a year of capital investment to achieve a net-zero economy between now and 2050 won’t come without its risks.
URL:https://thediplomaticnetwork.com/event/the-energy-transition-in-singapore-way-forward-financing-a-more-sustainable-power-sector/
LOCATION:Singapore
CATEGORIES:Chambers of Commerce,European Chamber of Commerce in Singapore
ATTACH;FMTTYPE=image/png:https://thediplomaticnetwork.com/wp-content/uploads/2024/03/EV24-0418-The-Energy-Transition-in-Singapore-–-Way-Forward-and-Financing-a-More-Sustainable-Power-Sector-1.png
END:VEVENT
BEGIN:VEVENT
DTSTART;TZID=Asia/Shanghai:20240418T080000
DTEND;TZID=Asia/Shanghai:20240418T160000
DTSTAMP:20260420T154011
CREATED:20240408T060432Z
LAST-MODIFIED:20240408T060953Z
UID:3442-1713427200-1713456000@thediplomaticnetwork.com
SUMMARY:Diversity in Action: Women Driving Change
DESCRIPTION:The South African Chamber of Commerce Singapore proudly announces “Diversity in Action: Women Driving Change”\, a dynamic event tailored for its members in South Africa\, Fixing Each Other’s Crown. This initiative\, spearheaded by the women-run NGO\, aims to foster collaboration and empowerment among professionals from South Africa and across Africa\, bringing together a diverse delegation to Singapore. \nThe event will host delegates from various sectors including real estate\, finance\, agriculture and commodities\, renewable energy\, tech\, construction\, and cleaning\, representing the rich tapestry of business endeavors within the African continent.
URL:https://thediplomaticnetwork.com/event/diversity-in-action-women-driving-change/
LOCATION:Singapore
CATEGORIES:Chambers of Commerce,South African Chamber of Commerce Singapore
ATTACH;FMTTYPE=image/png:https://thediplomaticnetwork.com/wp-content/uploads/2024/04/sacham-sg.png
END:VEVENT
BEGIN:VEVENT
DTSTART;VALUE=DATE:20240418
DTEND;VALUE=DATE:20240419
DTSTAMP:20260420T154011
CREATED:20240215T184630Z
LAST-MODIFIED:20240215T184630Z
UID:2953-1713398400-1713484799@thediplomaticnetwork.com
SUMMARY:National Day: Republic of Zimbabwe\, 2024
DESCRIPTION:
URL:https://thediplomaticnetwork.com/event/national-day-republic-of-zimbabwe-2024/
CATEGORIES:National Days
ATTACH;FMTTYPE=image/svg+xml:https://thediplomaticnetwork.com/wp-content/uploads/2023/03/Republic-of-Zimbabwe-National-Flag.svg
END:VEVENT
BEGIN:VEVENT
DTSTART;TZID=Asia/Shanghai:20240417T083000
DTEND;TZID=Asia/Shanghai:20240417T230000
DTSTAMP:20260420T154011
CREATED:20240403T012809Z
LAST-MODIFIED:20240403T012847Z
UID:3426-1713342600-1713394800@thediplomaticnetwork.com
SUMMARY:Corporate Philanthropy: Embracing Needs-based Initiatives for Lasting Impact
DESCRIPTION:Corporate philanthropy can be significant in fostering positive societal change. It’s important for corporations to acknowledge the diverse needs present in our communities and tailor their contributions accordingly\, rather than merely following trends. This can prevent certain causes from being overly funded at the expense of others\, ensuring a fairer distribution of resources and combating inequalities. \nOur panel discussion aims to shed light on the importance of aligning corporate giving with societal needs\, urging companies to actively engage in addressing pressing issues. By adopting a needs-based approach to philanthropy\, businesses not only fulfill their social responsibility but also open doors to various benefits and opportunities. \nDuring our upcoming event\, participants will delve into the advantages and opportunities that arise when businesses prioritise support for critical social initiatives. \nJoin us in exploring how corporations can make a meaningful impact by addressing the urgent needs of our communities.
URL:https://thediplomaticnetwork.com/event/corporate-philanthropy-embracing-needs-based-initiatives-for-lasting-impact/
CATEGORIES:Chambers of Commerce,European Chamber of Commerce in Singapore
ATTACH;FMTTYPE=image/webp:https://thediplomaticnetwork.com/wp-content/uploads/2024/04/EV24-0417-Corporate-Philanthropy-Embracing-Needs-Based-Initiatives-for-Lasting-Impact-1.webp
END:VEVENT
BEGIN:VEVENT
DTSTART;VALUE=DATE:20240417
DTEND;VALUE=DATE:20240419
DTSTAMP:20260420T154011
CREATED:20240215T182855Z
LAST-MODIFIED:20240215T191214Z
UID:2903-1713312000-1713484799@thediplomaticnetwork.com
SUMMARY:The Meeting Show Asia Pacific
DESCRIPTION:
URL:https://thediplomaticnetwork.com/event/the-meeting-show-asia-pacific/
CATEGORIES:Travel
ATTACH;FMTTYPE=image/png:https://thediplomaticnetwork.com/wp-content/uploads/2024/02/TMS_Logo.png
END:VEVENT
BEGIN:VEVENT
DTSTART;TZID=Asia/Shanghai:20240416T090000
DTEND;TZID=Asia/Shanghai:20240416T110000
DTSTAMP:20260420T154011
CREATED:20240327T061226Z
LAST-MODIFIED:20240327T061226Z
UID:3403-1713258000-1713265200@thediplomaticnetwork.com
SUMMARY:Embedding Reduction of E-Waste in the Manufacturing Process: Harvesting for Reuse
DESCRIPTION:The escalating annual generation of waste electrical and electronic equipment (e-waste) in the European Union (EU) and Singapore has emerged as a critical concern\, representing one of the fastest-growing waste streams. This category encompasses a diverse array of devices\, ranging from mobile phones\, computers\, and televisions to medical devices and photovoltaic panels. \nE-waste\, characterised by a complex mixture of materials\, including hazardous substances\, poses substantial environmental and health risks. Furthermore\, contemporary electronics harbour rare and expensive resources\, including critical raw materials\, which could be salvaged through efficient recycling and re-use practices. \nThis panel discussion seeks to underscore the urgency of enhancing the collection\, treatment\, and recycling of electrical and electronic equipment at the end of their life cycle\, aligning with the overarching goal of transitioning towards a circular economy. \nIn Singapore\, the National Environment Agency (NEA) enforces e-waste management guided by the Resource Sustainability Act (RSA). ALBA E-waste Smart Recycling Pte Ltd is the designated Producer Responsibility Scheme (PRS) Operator\, overseeing consumer Electronic and Electrical Equipment (EEE) waste. Regulations such as the Waste Electrical and Electronic Equipment Directive (WEEE Directive)\, also in the EU\, mandate the separate collection and proper treatment of e-waste\, prescribing targets for its collection\, recovery\, and recycling. \nDuring this event\, participants will gain insights into e-waste management regulations from Singapore’s leading authorities in the field. The event offers a unique platform for attendees to hear firsthand from companies actively addressing the e-waste challenge. Furthermore\, it serves as a forum to explore opportunities and strategies for increasing proper disposal practices.
URL:https://thediplomaticnetwork.com/event/embedding-reduction-of-e-waste-in-the-manufacturing-process-harvesting-for-reuse/
LOCATION:Singapore
CATEGORIES:Chambers of Commerce,European Chamber of Commerce in Singapore
ATTACH;FMTTYPE=image/webp:https://thediplomaticnetwork.com/wp-content/uploads/2024/03/EV24-0416-Embedding-Reduction-of-e-Waste-in-the-Manufacturing-Process-Harvesting-for-reuse-2.webp
END:VEVENT
BEGIN:VEVENT
DTSTART;TZID=Asia/Shanghai:20240411T083000
DTEND;TZID=Asia/Shanghai:20240411T120000
DTSTAMP:20260420T154011
CREATED:20240327T060920Z
LAST-MODIFIED:20240327T060920Z
UID:3400-1712824200-1712836800@thediplomaticnetwork.com
SUMMARY:Decarbonisation of Supply Chain & Tour of the DHL Innovation Center
DESCRIPTION:The maritime\, aviation and logistics industries represent the backbone of global trade. Together they account for more than 20% of global greenhouse gas (GHG) emissions and are therefore facing pressing challenges related to sustainability all along their supply chains. This event aims to bring together industry leaders and experts to discuss and strategise ways to accelerate the adoption of green fuels and sustainable practices in supply chains\, especially the challenging area of Scope 3 emissions\, which constitutes a significant proportion of a company’s carbon footprint but often remains unaddressed due to its complex\, interconnected nature.
URL:https://thediplomaticnetwork.com/event/decarbonisation-of-supply-chain-tour-of-the-dhl-innovation-center/
LOCATION:Singapore
CATEGORIES:Chambers of Commerce,European Chamber of Commerce in Singapore
ATTACH;FMTTYPE=image/png:https://thediplomaticnetwork.com/wp-content/uploads/2024/03/EV24-0411-Decarbonisation-of-Supply-Chain-Tour-of-the-DHL-Innovation-Center-3.png
END:VEVENT
BEGIN:VEVENT
DTSTART;TZID=Asia/Shanghai:20240402T090000
DTEND;TZID=Asia/Shanghai:20240402T113000
DTSTAMP:20260420T154011
CREATED:20240312T064436Z
LAST-MODIFIED:20240312T064436Z
UID:3190-1712048400-1712057400@thediplomaticnetwork.com
SUMMARY:Pioneering AI Governance: Unveiling Singapore's Model Framework
DESCRIPTION:A novel governance framework for generative artificial intelligence (AI) has been introduced by Singapore\, with an invitation for international feedback. The Model AI Governance Framework for Generative AI (MGF-GenAI) extends beyond the 2019 framework\, which focused solely on traditional AI\, reflecting the evolving landscape of generative AI. \nThe collaborative effort between the AI Verify Foundation and the Infocomm Media Development Authority (IMDA) underscores Singapore’s commitment to contributing significantly to the global discourse surrounding AI governance. \nMinister for Communications and Information\, Josephine Teo emphasised the need for a global perspective\, stating that AI governance transcends national boundaries. The launch of the updated framework at the World Economic Forum in Davos\, Switzerland\, signifies Singapore’s commitment to fostering international collaboration and enrichment of the ongoing global conversation on AI governance. \nThe MGF-GenAI is anticipated to be finalized by mid-2024. \nThis sharing session aims to elucidate Singapore’s pioneering framework\, offering clarity on its innovative approach and providing insights into the direction of progress. \nBesides the proposed Model AI Governance Framework for Generative AI\, Lee Wan Sie will also share on AI Verify – IMDA’s governance testing framework and software toolkit.
URL:https://thediplomaticnetwork.com/event/pioneering-ai-governance-unveiling-singapores-model-framework/
LOCATION:Singapore
CATEGORIES:Chambers of Commerce,European Chamber of Commerce in Singapore
ATTACH;FMTTYPE=image/webp:https://thediplomaticnetwork.com/wp-content/uploads/2024/03/EV24-0402-Pioneering-AI-Governance-Unveiling-Singapores-Model-Framework.webp
END:VEVENT
BEGIN:VEVENT
DTSTART;VALUE=DATE:20240402
DTEND;VALUE=DATE:20240406
DTSTAMP:20260420T154011
CREATED:20240304T114356Z
LAST-MODIFIED:20240304T114356Z
UID:3174-1712016000-1712361599@thediplomaticnetwork.com
SUMMARY:ASEAN Finance Ministers’ Meeting
DESCRIPTION:
URL:https://thediplomaticnetwork.com/event/asean-finance-ministers-meeting/
CATEGORIES:ASEAN
ATTACH;FMTTYPE=image/png:https://thediplomaticnetwork.com/wp-content/uploads/2024/03/2.Asean-LAO-PDR-2024-Secondary-Configuration@4x.png
END:VEVENT
BEGIN:VEVENT
DTSTART;VALUE=DATE:20240326
DTEND;VALUE=DATE:20240329
DTSTAMP:20260420T154011
CREATED:20240215T182854Z
LAST-MODIFIED:20240215T182854Z
UID:2902-1711411200-1711670399@thediplomaticnetwork.com
SUMMARY:IT&CM China & CTW
DESCRIPTION:
URL:https://thediplomaticnetwork.com/event/itcm-china-ctw/
CATEGORIES:Travel
ATTACH;FMTTYPE=image/png:https://thediplomaticnetwork.com/wp-content/uploads/2024/02/itcmc-Logo.png
END:VEVENT
BEGIN:VEVENT
DTSTART;VALUE=DATE:20240326
DTEND;VALUE=DATE:20240327
DTSTAMP:20260420T154011
CREATED:20240215T184629Z
LAST-MODIFIED:20240215T200554Z
UID:2952-1711411200-1711497599@thediplomaticnetwork.com
SUMMARY:National Day: People's Republic of Bangladesh\, 2024
DESCRIPTION:
URL:https://thediplomaticnetwork.com/event/national-day-peoples-republic-of-bangladesh-2024/
CATEGORIES:National Days
ATTACH;FMTTYPE=image/svg+xml:https://thediplomaticnetwork.com/wp-content/uploads/2023/03/Peoples-Republic-of-Bangladesh-National-Flag.svg
END:VEVENT
BEGIN:VEVENT
DTSTART;VALUE=DATE:20240325
DTEND;VALUE=DATE:20240328
DTSTAMP:20260420T154011
CREATED:20240215T182853Z
LAST-MODIFIED:20240215T182853Z
UID:2901-1711324800-1711583999@thediplomaticnetwork.com
SUMMARY:IBTM Arabia
DESCRIPTION:
URL:https://thediplomaticnetwork.com/event/ibtm-arabia/
CATEGORIES:Travel
ATTACH;FMTTYPE=image/png:https://thediplomaticnetwork.com/wp-content/uploads/2024/02/ibtm-arabia_Logo.png
END:VEVENT
BEGIN:VEVENT
DTSTART;VALUE=DATE:20240325
DTEND;VALUE=DATE:20240326
DTSTAMP:20260420T154011
CREATED:20240215T184628Z
LAST-MODIFIED:20240215T200538Z
UID:2951-1711324800-1711411199@thediplomaticnetwork.com
SUMMARY:National Day: Hellenic Republic (Greece)\, 2024
DESCRIPTION:
URL:https://thediplomaticnetwork.com/event/national-day-hellenic-republic-greece-2024/
CATEGORIES:National Days
ATTACH;FMTTYPE=image/svg+xml:https://thediplomaticnetwork.com/wp-content/uploads/2023/03/Hellenic-Republic-Greece-National-Flag.svg
END:VEVENT
BEGIN:VEVENT
DTSTART;VALUE=DATE:20240324
DTEND;VALUE=DATE:20240330
DTSTAMP:20260420T154011
CREATED:20230904T030747Z
LAST-MODIFIED:20230904T030747Z
UID:1976-1711238400-1711756799@thediplomaticnetwork.com
SUMMARY:Amari Hua Hin Skins Golf Week
DESCRIPTION:“Formerly awarded the title of the world’s best golf destination\, Hua Hin is home to 3 world-class golf courses including Thailand’s #1 Black Mountain. \nBoth male & female golfers are invited to register and join us in Hua Hin. It doesn’t matter what handicap you are\, if you’re a seasoned golf tournament attendee or have never played in a golf tournament before. So long as you have a golf handicap you’ll be able to compete & enjoy the festivities. \nThe Amari Hua Hin Skins Golf Week will sell out quickly and is suitable for golfers who enjoy a friendly competition but also wants to relax and be pampered on their golf holiday abroad.” – Amari Hua Hin Skins Golf Week.
URL:https://thediplomaticnetwork.com/event/amari-hua-hin-skins-golf-week/
LOCATION:Hua Hin\, Thailand
CATEGORIES:Golf
ATTACH;FMTTYPE=image/png:https://thediplomaticnetwork.com/wp-content/uploads/2023/09/2019-Amari-Hua-Hin-Skins-Golf-Week-LOGO_300x100.png
END:VEVENT
BEGIN:VEVENT
DTSTART;VALUE=DATE:20240323
DTEND;VALUE=DATE:20240324
DTSTAMP:20260420T154011
CREATED:20240215T184627Z
LAST-MODIFIED:20240215T184627Z
UID:2950-1711152000-1711238399@thediplomaticnetwork.com
SUMMARY:National Day: Islamic Republic of Pakistan\, 2024
DESCRIPTION:
URL:https://thediplomaticnetwork.com/event/national-day-islamic-republic-of-pakistan-2024/
CATEGORIES:National Days
ATTACH;FMTTYPE=image/svg+xml:https://thediplomaticnetwork.com/wp-content/uploads/2023/03/Islamic-Republic-of-Pakistan-National-Flag.svg
END:VEVENT
END:VCALENDAR